From mboxrd@z Thu Jan 1 00:00:00 1970 Return-Path: Received: from mails.dpdk.org (mails.dpdk.org [217.70.189.124]) by inbox.dpdk.org (Postfix) with ESMTP id 77AAA46A38 for ; Mon, 23 Jun 2025 17:42:10 +0200 (CEST) Received: from mails.dpdk.org (localhost [127.0.0.1]) by mails.dpdk.org (Postfix) with ESMTP id 73BAE40151; Mon, 23 Jun 2025 17:42:10 +0200 (CEST) Received: from mail-pl1-f225.google.com (mail-pl1-f225.google.com [209.85.214.225]) by mails.dpdk.org (Postfix) with ESMTP id 626E640151 for ; Mon, 23 Jun 2025 17:42:09 +0200 (CEST) Received: by mail-pl1-f225.google.com with SMTP id d9443c01a7336-23694cec0feso39895005ad.2 for ; Mon, 23 Jun 2025 08:42:09 -0700 (PDT) DKIM-Signature: v=1; a=rsa-sha256; c=relaxed/relaxed; d=iol.unh.edu; s=unh-iol; t=1750693328; x=1751298128; darn=dpdk.org; h=references:in-reply-to:cc:to:from:subject:message-id:date:from:to :cc:subject:date:message-id:reply-to; bh=nZAdDc6jlMqUiP4cytuSLJp4XZ1S0gxeYStkUS0/wto=; b=R2o9BfRmI5aa4cLhhi84o+3tG+9O1OrRPGwg79MHV14PRVX/RRplt3zyZ39DmicIsc x4W8prxuW9wBnEKZu8EXOT7eDjdC05kWogIDqklnXYiC61CCQ65pQJBpn7wptT0Q3vx5 bO40vJN4eV/OyFkZboBQUkZ0iIpQQ+SlKTOKQ= X-Google-DKIM-Signature: v=1; a=rsa-sha256; c=relaxed/relaxed; d=1e100.net; s=20230601; t=1750693328; x=1751298128; h=references:in-reply-to:cc:to:from:subject:message-id:date :x-gm-message-state:from:to:cc:subject:date:message-id:reply-to; bh=nZAdDc6jlMqUiP4cytuSLJp4XZ1S0gxeYStkUS0/wto=; b=A4QzTLrK5CCXYKGYO8zRJftcmiX0jetP3qA+6lkPuw9Snu5unSV/zCe57EE6bS78t4 jmh0r0tNMB9zfzg+HpycZmZU2EqbxmeE90Ef7z4E6v0ewi20ijtEiwvP1iTjW/ksISCq C531afRQZEEEfNAMjtP1pX9Nr0f51Ilg5Umkx1BEJvQUgGfWDLbu+4ggbTECPp/lbfph oNqZLqkNTzjZLrX4qFhE5HY4L1Z9bnJq9K/PdEOeYzCm7G7pb/QSghRSWHfUJUJ+viNN VNI4EU9isPsb3DGj/3KAJ8go2XY+kC28RaNKK3WCVpj2hdpeE0BiKNm63jG5AjxYRKbX EpJQ== X-Gm-Message-State: AOJu0YyMGzFPijtCNwSXzmRgNtQtFUOMYfwULVnrjCMXxVyGAPM2kqI/ uZbpJ2aGqhgGJNoOxiHgOnGF+uahrsKFAU6NTo3g5EAnzO9fcGTSghUEmLqKkpWGx0Q4pDB2856 TwSh3VM5kHPeNmLL1+PZhd5qgdFWvsf3N4AprhITSeDISX1Iw6cyMsFJfVlZX X-Gm-Gg: ASbGncs07dTZaMapC4gFDWV9wt5Hp9+48mIfAFbevuh0y/OOo519Ktvpe1B9W6tBuJT uwdLXKZPDVQHWR1dW75sWCXy/fEM/5QMxoDwAjsGrUJ5sTnj7mZZIDyX0KjQP1OnhBoBZucjs9p HsxsFf/YOsFnTRAZgELi0nfgi0n6SO2gtlb9tAl1SXtThvILaBdRjJKV9A/AzDlR/uRwRUAOPZs rds/O3AWXR1DszVGu5ZSobWVdQMv8ii1VZPJXq4YDRqf7f/wEwNH4zVswTJLKpwgSkMQg3a0wNb 6vBw8EP/b+Mz7IGx06cxJC8gNb1utu0qAaGnw0EteDMVl4Q= X-Google-Smtp-Source: AGHT+IFOSZT6PnVLfhtav8q8rFqqQNHgbQ1SDA4ZJCaN0nIjNgaqr/LhEunsEsJXD6t+n3UC8/KIJbkrQHpJ X-Received: by 2002:a17:902:eb8a:b0:224:c46:d167 with SMTP id d9443c01a7336-237d9750a97mr241017565ad.16.1750693328179; Mon, 23 Jun 2025 08:42:08 -0700 (PDT) Received: from postal.iol.unh.edu (postal.iol.unh.edu. [2606:4100:3880:1234::84]) by smtp-relay.gmail.com with ESMTPS id d9443c01a7336-237d82e9e6dsm4629015ad.21.2025.06.23.08.42.08 (version=TLS1_2 cipher=ECDHE-ECDSA-AES128-GCM-SHA256 bits=128/128); Mon, 23 Jun 2025 08:42:08 -0700 (PDT) X-Relaying-Domain: iol.unh.edu Date: Mon, 23 Jun 2025 08:42:08 -0700 (PDT) Message-ID: <685975d0.170a0220.3fcc8.7011SMTPIN_ADDED_MISSING@mx.google.com> Received: from [172.21.0.6] (unknown [172.18.0.240]) by postal.iol.unh.edu (Postfix) with ESMTP id 61363604D420; Mon, 23 Jun 2025 11:42:07 -0400 (EDT) Subject: |SUCCESS| pw154635-154644 [PATCH] [v2,10/10] build: support Undefine From: dpdklab@iol.unh.edu To: Test Report Cc: dpdk-test-reports@iol.unh.edu In-Reply-To: <20250623135242.461965-11-david.marchand@redhat.com> References: <20250623135242.461965-11-david.marchand@redhat.com> Content-Type: text/plain X-BeenThere: test-report@dpdk.org X-Mailman-Version: 2.1.29 Precedence: list List-Id: automatic DPDK test reports List-Unsubscribe: , List-Archive: List-Post: List-Help: List-Subscribe: , Errors-To: test-report-bounces@dpdk.org Test-Label: iol-abi-testing Test-Status: SUCCESS http://dpdk.org/patch/154644 _Testing PASS_ Submitter: David Marchand Date: Monday, June 23 2025 13:52:40 DPDK git baseline: Repo:dpdk Branch: master CommitID:6890ee7ba76e92745d6c61b3b6b9d757ebaaa89d 154635-154644 --> testing pass Upstream job id: Generic-DPDK-Compile-ABI#131340 Test environment and result as below: +-------------------------------+----------+ | Environment | abi_test | +===============================+==========+ | CentOS Stream 10 | PASS | +-------------------------------+----------+ | CentOS Stream 9 | PASS | +-------------------------------+----------+ | Debian GNU/Linux 12 | PASS | +-------------------------------+----------+ | Ubuntu 22.04 | PASS | +-------------------------------+----------+ | Fedora Linux 40 | PASS | +-------------------------------+----------+ | Red Hat Enterprise Linux 8.10 | PASS | +-------------------------------+----------+ | Fedora Linux 41 | PASS | +-------------------------------+----------+ | openSUSE Leap 15.6 | PASS | +-------------------------------+----------+ | Red Hat Enterprise Linux 9.5 | PASS | +-------------------------------+----------+ | Ubuntu 24.04 | PASS | +-------------------------------+----------+ CentOS Stream 10 Kernel: 5.15 Compiler: gcc gcc (GCC) 14.2.1 20250110 (Red Hat 14.2.1-8) CentOS Stream 9 Kernel: 5.15 Compiler: gcc gcc (GCC) 11.5.0 20240719 (Red Hat 11.5.0-7) Debian GNU/Linux 12 Kernel: 5.15 Compiler: gcc gcc (Debian 12.2.0-14+deb12u1) 12.2.0 Ubuntu 22.04 Kernel: 5.15 Compiler: gcc gcc (Ubuntu 11.4.0-1ubuntu1~22.04) 11.4.0 Fedora Linux 40 Kernel: 5.15 Compiler: clang gcc (GCC) 14.2.1 20240912 (Red Hat 14.2.1-3) Red Hat Enterprise Linux 8.10 Kernel: 5.15 Compiler: gcc gcc (GCC) 8.5.0 20210514 (Red Hat 8.5.0-22) Fedora Linux 41 Kernel: 5.15 Compiler: gcc gcc (GCC) 14.3.1 20250523 (Red Hat 14.3.1-1) openSUSE Leap 15.6 Kernel: 5.15 Compiler: gcc gcc (SUSE Linux) 7.5.0 Red Hat Enterprise Linux 9.5 Kernel: 5.15 Compiler: gcc gcc (GCC) 11.5.0 20240719 (Red Hat 11.5.0-2) Ubuntu 24.04 Kernel: 5.15 Compiler: gcc gcc (Ubuntu 13.3.0-6ubuntu2~24.04) 13.3.0 To view detailed results, visit: https://lab.dpdk.org/results/dashboard/patchsets/33481/ UNH-IOL DPDK Community Lab To manage your email subscriptions, visit: https://lab.dpdk.org/results/dashboard/preferences/subscriptions/