From mboxrd@z Thu Jan  1 00:00:00 1970
Return-Path: <test-report-bounces@dpdk.org>
Received: from mails.dpdk.org (mails.dpdk.org [217.70.189.124])
	by inbox.dpdk.org (Postfix) with ESMTP id CC75546A45
	for <public@inbox.dpdk.org>; Tue, 24 Jun 2025 19:04:29 +0200 (CEST)
Received: from mails.dpdk.org (localhost [127.0.0.1])
	by mails.dpdk.org (Postfix) with ESMTP id B044A4025E;
	Tue, 24 Jun 2025 19:04:29 +0200 (CEST)
Received: from mail-oa1-f99.google.com (mail-oa1-f99.google.com
 [209.85.160.99]) by mails.dpdk.org (Postfix) with ESMTP id 53A7F4025E
 for <test-report@dpdk.org>; Tue, 24 Jun 2025 19:04:28 +0200 (CEST)
Received: by mail-oa1-f99.google.com with SMTP id
 586e51a60fabf-2edec6c5511so205744fac.2
 for <test-report@dpdk.org>; Tue, 24 Jun 2025 10:04:28 -0700 (PDT)
DKIM-Signature: v=1; a=rsa-sha256; c=relaxed/relaxed;
 d=iol.unh.edu; s=unh-iol; t=1750784667; x=1751389467; darn=dpdk.org;
 h=references:in-reply-to:cc:to:from:subject:message-id:date:from:to
 :cc:subject:date:message-id:reply-to;
 bh=umnzLGvXENl/TCtjV146YQzV9/IJoFAa4rLhyXq2C4o=;
 b=MAwmtWSDiigu5COm+xGH3MgF4yRGGxCKJWFZprG+Hm1voEQHI2ovuA9ZHCJ6tUj/U5
 zHZyOeyvTpEtqDB3o8ePENOoZNl/QSShZedYVYWr62xmQSeLKBNVLSErwv0FdGYfLIZ8
 TAjlm9fBPBRLgDVfLig+PqLk57xXpq9piWhxE=
X-Google-DKIM-Signature: v=1; a=rsa-sha256; c=relaxed/relaxed;
 d=1e100.net; s=20230601; t=1750784667; x=1751389467;
 h=references:in-reply-to:cc:to:from:subject:message-id:date
 :x-gm-message-state:from:to:cc:subject:date:message-id:reply-to;
 bh=umnzLGvXENl/TCtjV146YQzV9/IJoFAa4rLhyXq2C4o=;
 b=fzXv1dbWxkNMDNFwBg+y9s4S7PF3wMDFKhJk03GHuajihSldZsEgFXbMCOj0J5SnYF
 jKonou8z8RaUJ0pFdCMAF+CDyUvXrL/MgN1wgMa0TrkaCupK6GXWGW8ZmqTPz8SI9Lrj
 paddKTa3TY1eNeXOUoStWHXzIeNEzomTAMmEwDbl/P5vB2MAzjpGF6NcJQz6hYdiTxMS
 nzEgTmrGC4P3l0ZeTbJroOwhP/Pv+vZeGc/V7MlktXfdSQQqLgTZQC4LU8B66l3OHQE8
 dQ9xFlYCcbEGkb4vKX3b9UifEdOf23B6rcx0FfrwG/tun75XSQskjQeM++MhigIn4rXZ
 mqSA==
X-Gm-Message-State: AOJu0Yz4YXHY8NPUTBTRsDxefyYL4BGYzD+92Sp3VMxlZ767NRP+rzQu
 kYKA/EjmHMwe123d1HQroebMC1Ifg4f01q+PrnDRD0oeJl5ERaUud+v50+ARb1lXf+SeunOybN/
 YdGr6oufnma9dY7ZGADVLA3IAydINOrrZhExnZa1h24BI
X-Gm-Gg: ASbGnctPJ0+EGwcacpUVlqPLlrvhXC92y9u6wYPP+mM58Asqy3C7pnPkh51Fm5Ih3T4
 TuG9lXt9bqevRm8Yu1t4sKgcPv6jV9DgnemioL5WpmgagqhMVPPdun3frol1qvsnwSue7T36R22
 m7vHRK7n47vCN60rYE0qWLYTSBETmUt31E+9HJzLkjqhVZ7grgKx8PgAHKXueR2wV/WJ/4GLN3z
 Ok0ELuLJsAlmeVCWOy8v63/iZPMun5PnJRe8JwHS2c3o2GShcMnKznWpn+y0GAArD0VihjJq9tN
 CiK2FysqkrcDpZmi137tlc5DNBcjdAsGTX7r62N1koTbfTW8/91Q+XHblC9wVVXJaxaOIg==
X-Google-Smtp-Source: AGHT+IGvJqIdbJvjf9dHHUxuxisEw18MpFAr/Wg3rhHRFKAg1QSDyTSeUp8BsfYSu2LXVN/EywalEr6dvB7N
X-Received: by 2002:a05:6871:d101:b0:2d6:103e:e43d with SMTP id
 586e51a60fabf-2efb2395096mr43726fac.20.1750784667399; 
 Tue, 24 Jun 2025 10:04:27 -0700 (PDT)
Received: from postal.iol.unh.edu (postal.iol.unh.edu. [132.177.123.84])
 by smtp-relay.gmail.com with ESMTPS id
 586e51a60fabf-2ee8a8096ddsm527809fac.39.2025.06.24.10.04.27
 (version=TLS1_2 cipher=ECDHE-ECDSA-AES128-GCM-SHA256 bits=128/128);
 Tue, 24 Jun 2025 10:04:27 -0700 (PDT)
X-Relaying-Domain: iol.unh.edu
Date: Tue, 24 Jun 2025 10:04:27 -0700 (PDT)
Message-ID: <685ada9b.050a0220.2794cc.9c9cSMTPIN_ADDED_MISSING@mx.google.com>
Received: from [172.21.0.7] (unknown [172.18.0.240])
 by postal.iol.unh.edu (Postfix) with ESMTP id B8D7B6051830;
 Tue, 24 Jun 2025 13:04:26 -0400 (EDT)
Subject: |SUCCESS| pw154659-154665 [PATCH] [v4,7/7] lib/pmu: fix out-of-bound
From: dpdklab@iol.unh.edu
To: Test Report <test-report@dpdk.org>
Cc: dpdk-test-reports@iol.unh.edu
In-Reply-To: <20250624122930.1783177-8-tduszynski@marvell.com>
References: <20250624122930.1783177-8-tduszynski@marvell.com>
Content-Type: text/plain
X-BeenThere: test-report@dpdk.org
X-Mailman-Version: 2.1.29
Precedence: list
List-Id: automatic DPDK test reports <test-report.dpdk.org>
List-Unsubscribe: <https://mails.dpdk.org/options/test-report>,
 <mailto:test-report-request@dpdk.org?subject=unsubscribe>
List-Archive: <http://mails.dpdk.org/archives/test-report/>
List-Post: <mailto:test-report@dpdk.org>
List-Help: <mailto:test-report-request@dpdk.org?subject=help>
List-Subscribe: <https://mails.dpdk.org/listinfo/test-report>,
 <mailto:test-report-request@dpdk.org?subject=subscribe>
Errors-To: test-report-bounces@dpdk.org

Test-Label: iol-unit-amd64-testing
Test-Status: SUCCESS
http://dpdk.org/patch/154665

_Testing PASS_

Submitter: Tomasz Duszynski <tduszynski@marvell.com>
Date: Tuesday, June 24 2025 12:29:30 
DPDK git baseline: Repo:dpdk
  Branch: master
  CommitID:6890ee7ba76e92745d6c61b3b6b9d757ebaaa89d

154659-154665 --> testing pass

Upstream job id: Generic-Unit-Test-DPDK#348997

Test environment and result as below:

+-------------------------------+----------------+
|          Environment          | dpdk_unit_test |
+===============================+================+
| CentOS Stream 10              | PASS           |
+-------------------------------+----------------+
| CentOS Stream 9               | PASS           |
+-------------------------------+----------------+
| Fedora Linux 40               | PASS           |
+-------------------------------+----------------+
| Debian GNU/Linux 12           | PASS           |
+-------------------------------+----------------+
| Fedora Linux 41               | PASS           |
+-------------------------------+----------------+
| Red Hat Enterprise Linux 8.10 | PASS           |
+-------------------------------+----------------+
| Red Hat Enterprise Linux 9.5  | PASS           |
+-------------------------------+----------------+
| Ubuntu 22.04                  | PASS           |
+-------------------------------+----------------+
| Ubuntu 20.04                  | PASS           |
+-------------------------------+----------------+
| Ubuntu 24.04                  | PASS           |
+-------------------------------+----------------+
| Windows Server 2022           | PASS           |
+-------------------------------+----------------+


CentOS Stream 10
	Kernel: 5.15
	Compiler: gcc gcc (GCC) 14.2.1 20250110 (Red Hat 14.2.1-8)

CentOS Stream 9
	Kernel: 5.15
	Compiler: gcc gcc (GCC) 11.5.0 20240719 (Red Hat 11.5.0-7)

Fedora Linux 40
	Kernel: 5.15
	Compiler: gcc gcc (GCC) 14.2.1 20240912 (Red Hat 14.2.1-3)

Debian GNU/Linux 12
	Kernel: 5.15
	Compiler: gcc gcc (Debian 12.2.0-14+deb12u1) 12.2.0

Fedora Linux 41
	Kernel: 5.15
	Compiler: gcc gcc (GCC) 14.3.1 20250523 (Red Hat 14.3.1-1)

Red Hat Enterprise Linux 8.10
	Kernel: 5.15
	Compiler: gcc gcc (GCC) 8.5.0 20210514 (Red Hat 8.5.0-22)

Red Hat Enterprise Linux 9.5
	Kernel: 5.15
	Compiler: gcc gcc (GCC) 11.5.0 20240719 (Red Hat 11.5.0-2)

Ubuntu 22.04
	Kernel: 5.15
	Compiler: gcc gcc (Ubuntu 11.4.0-1ubuntu1~22.04) 11.4.0

Ubuntu 20.04
	Kernel: 5.15
	Compiler: gcc gcc (Ubuntu 9.4.0-1ubuntu1~20.04.2) 9.4.0

Ubuntu 24.04
	Kernel: 5.15
	Compiler: gcc gcc (Ubuntu 13.3.0-6ubuntu2~24.04) 13.3.0

Windows Server 2022
	Kernel: 10.0.20348.2031
	Compiler: clang 15.0.7, gcc 14.1.0 (MinGW), and MSVC VS 19.39.33521

To view detailed results, visit:
https://lab.dpdk.org/results/dashboard/patchsets/33490/

UNH-IOL DPDK Community Lab

To manage your email subscriptions, visit: 
https://lab.dpdk.org/results/dashboard/preferences/subscriptions/