From mboxrd@z Thu Jan  1 00:00:00 1970
Return-Path: <test-report-bounces@dpdk.org>
Received: from mails.dpdk.org (mails.dpdk.org [217.70.189.124])
	by inbox.dpdk.org (Postfix) with ESMTP id 5AB1046A4C
	for <public@inbox.dpdk.org>; Wed, 25 Jun 2025 03:06:37 +0200 (CEST)
Received: from mails.dpdk.org (localhost [127.0.0.1])
	by mails.dpdk.org (Postfix) with ESMTP id 568434013F;
	Wed, 25 Jun 2025 03:06:37 +0200 (CEST)
Received: from mail-pl1-f228.google.com (mail-pl1-f228.google.com
 [209.85.214.228])
 by mails.dpdk.org (Postfix) with ESMTP id 037B14013F
 for <test-report@dpdk.org>; Wed, 25 Jun 2025 03:06:37 +0200 (CEST)
Received: by mail-pl1-f228.google.com with SMTP id
 d9443c01a7336-23636167afeso64232775ad.3
 for <test-report@dpdk.org>; Tue, 24 Jun 2025 18:06:36 -0700 (PDT)
DKIM-Signature: v=1; a=rsa-sha256; c=relaxed/relaxed;
 d=iol.unh.edu; s=unh-iol; t=1750813596; x=1751418396; darn=dpdk.org;
 h=references:in-reply-to:cc:to:from:subject:message-id:date:from:to
 :cc:subject:date:message-id:reply-to;
 bh=LrJg8nb/vmX9zbws3hgM+6MqtO8CdGhLvRUkOAyX75s=;
 b=K8Y9x84WvHHQMEg48VFJJZmGOA4KdxHG1VAPrOwI8DzRQM3LX6nC+F8ik5oSZnKrUn
 q9lB5T45r/e8UhM7q5QCtAEHW6Kta2QietENlfzdgwfAtewpcbvN8DpDnwJYlNoMJBnQ
 OwEzo84PM+1lNCHRUtRMX8cP2jvtA0PBFarJc=
X-Google-DKIM-Signature: v=1; a=rsa-sha256; c=relaxed/relaxed;
 d=1e100.net; s=20230601; t=1750813596; x=1751418396;
 h=references:in-reply-to:cc:to:from:subject:message-id:date
 :x-gm-message-state:from:to:cc:subject:date:message-id:reply-to;
 bh=LrJg8nb/vmX9zbws3hgM+6MqtO8CdGhLvRUkOAyX75s=;
 b=gpOIg8qa/If4TjwyUfLZIt++1Hp8aT/oXF87y8xqQMNuaO8ampFaguo8FeD74ffVD4
 OCBhqo3iXpCzidVMArrlyWLhJYEmjq7iZ6KqndxECrTctRV8Rl4ZVanT7myG+u9+/o8U
 qUR8beE0tqNFVOSF5/mCRkzMLawuPwnqSlYKxclKvXe/XIJkqWJpO5U3md60vVGmwQO4
 ksmW/Gde8x2EPk9l5QNDTue296/sqS+WmgBZQBrbJUqD8UX1Ymf+bG4/NaxlhS2KqJhe
 LY26aUEdvx5V+v0Usd4ihz4RSBMyBZxMBcakLG0mc3PN8KnrVQfvTWUnCCgw8yBPBpTB
 zCTg==
X-Gm-Message-State: AOJu0Ywi5T+XFEpJOjyQq+CvqJ2oCDGATyW21cH0tpEZIKSw1EdoUrnv
 K2Y3IMzOVxXm8rq6rYiU+UqqBzONknlCyu3887DebX9UC9jnz+SPShCegPemJhLSHFlPBkJ8kVY
 5Eg1k5Oqol7p2wtDKSA3NMoLxL/BKE7yEZod4WG37A2hufftrHKx0uMFlnXr1
X-Gm-Gg: ASbGncsENJknb9gFDyINsImzg84+/qwll93dcmIO1jLzhQoJ9oofc9aDUT5QoZLHs43
 kAINGXXrwmKjeJu5ILNQWgxQUDY07RLdREb24cbS6ccql2oeph3fJHfzbBTwLbEyEUSinegPJDJ
 8F5JJTEBin1XT9+qypSwC1w1I7VTLh9Br6ShLWyS+YJS3LEbJsBRw544QiOggSMl+0XVoLnJStq
 Bsvk5nwN7kALFXgoYsqE9orsqRHYZnEKOCFLg3mPm6SrF19Ifa+WsPUMoTAHqS6/5sp5q9sSfXT
 HJX1fn54xEWv97Dx/OIUXTQEZWVMveQeRrHUdqWzL9FJuQg=
X-Google-Smtp-Source: AGHT+IE1sX5TyvBdv8ynadZNB5UwqUlaLmpMSMMZztmmDyyLaFw5hlUbn9Y28Q3by27mZCne/pbrLXakfQ5Q
X-Received: by 2002:a17:902:dacf:b0:235:eb8d:800b with SMTP id
 d9443c01a7336-2382403df3dmr20950255ad.26.1750813596095; 
 Tue, 24 Jun 2025 18:06:36 -0700 (PDT)
Received: from postal.iol.unh.edu (postal.iol.unh.edu.
 [2606:4100:3880:1234::84]) by smtp-relay.gmail.com with ESMTPS id
 d9443c01a7336-237f8108aebsm3334615ad.54.2025.06.24.18.06.35
 (version=TLS1_2 cipher=ECDHE-ECDSA-AES128-GCM-SHA256 bits=128/128);
 Tue, 24 Jun 2025 18:06:36 -0700 (PDT)
X-Relaying-Domain: iol.unh.edu
Date: Tue, 24 Jun 2025 18:06:36 -0700 (PDT)
Message-ID: <685b4b9c.170a0220.1fe649.1b58SMTPIN_ADDED_MISSING@mx.google.com>
Received: from [172.21.0.5] (unknown [172.18.0.240])
 by postal.iol.unh.edu (Postfix) with ESMTP id 4E4DA6051830;
 Tue, 24 Jun 2025 21:06:35 -0400 (EDT)
Subject: |SUCCESS| pw154670 [PATCH] [v2] cpp: Fix missing extern "C" closing 
From: dpdklab@iol.unh.edu
To: Test Report <test-report@dpdk.org>
Cc: dpdk-test-reports@iol.unh.edu
In-Reply-To: <20250624195810.2350988-1-edvard.fagerholm@gmail.com>
References: <20250624195810.2350988-1-edvard.fagerholm@gmail.com>
Content-Type: text/plain
X-BeenThere: test-report@dpdk.org
X-Mailman-Version: 2.1.29
Precedence: list
List-Id: automatic DPDK test reports <test-report.dpdk.org>
List-Unsubscribe: <https://mails.dpdk.org/options/test-report>,
 <mailto:test-report-request@dpdk.org?subject=unsubscribe>
List-Archive: <http://mails.dpdk.org/archives/test-report/>
List-Post: <mailto:test-report@dpdk.org>
List-Help: <mailto:test-report-request@dpdk.org?subject=help>
List-Subscribe: <https://mails.dpdk.org/listinfo/test-report>,
 <mailto:test-report-request@dpdk.org?subject=subscribe>
Errors-To: test-report-bounces@dpdk.org

Test-Label: iol-compile-amd64-testing
Test-Status: SUCCESS
http://dpdk.org/patch/154670

_Testing PASS_

Submitter: Edvard Fagerholm <edvard.fagerholm@gmail.com>
Date: Tuesday, June 24 2025 19:58:10 
DPDK git baseline: Repo:dpdk
  Branch: master
  CommitID:6890ee7ba76e92745d6c61b3b6b9d757ebaaa89d

154670 --> testing pass

Upstream job id: Windows-Compile-DPDK-Native#29308

Test environment and result as below:

+---------------------+--------------------+-------------------+-------------------------+----------------------+
|     Environment     | dpdk_meson_compile | dpdk_msvc_compile | dpdk_llvm_clang_compile | dpdk_mingw64_compile |
+=====================+====================+===================+=========================+======================+
| Ubuntu 20.04        | PASS               | SKIPPED           | SKIPPED                 | SKIPPED              |
+---------------------+--------------------+-------------------+-------------------------+----------------------+
| Windows Server 2022 | SKIPPED            | PASS              | PASS                    | PASS                 |
+---------------------+--------------------+-------------------+-------------------------+----------------------+


Ubuntu 20.04
	Kernel: 4.19
	Compiler: gcc gcc (Ubuntu 9.4.0-1ubuntu1~20.04.2) 9.4.0

Windows Server 2022
	Kernel: 10.0.20348.2031
	Compiler: clang 15.0.7, gcc 14.1.0 (MinGW), and MSVC VS 19.39.33521

To view detailed results, visit:
https://lab.dpdk.org/results/dashboard/patchsets/33494/

UNH-IOL DPDK Community Lab

To manage your email subscriptions, visit: 
https://lab.dpdk.org/results/dashboard/preferences/subscriptions/