From mboxrd@z Thu Jan 1 00:00:00 1970 Return-Path: Received: from mails.dpdk.org (mails.dpdk.org [217.70.189.124]) by inbox.dpdk.org (Postfix) with ESMTP id 9D01646A4E for ; Wed, 25 Jun 2025 04:10:13 +0200 (CEST) Received: from mails.dpdk.org (localhost [127.0.0.1]) by mails.dpdk.org (Postfix) with ESMTP id 98E974013F; Wed, 25 Jun 2025 04:10:13 +0200 (CEST) Received: from mail-pl1-f228.google.com (mail-pl1-f228.google.com [209.85.214.228]) by mails.dpdk.org (Postfix) with ESMTP id E2AD94013F for ; Wed, 25 Jun 2025 04:10:12 +0200 (CEST) Received: by mail-pl1-f228.google.com with SMTP id d9443c01a7336-23633a6ac50so18008705ad.2 for ; Tue, 24 Jun 2025 19:10:12 -0700 (PDT) DKIM-Signature: v=1; a=rsa-sha256; c=relaxed/relaxed; d=iol.unh.edu; s=unh-iol; t=1750817412; x=1751422212; darn=dpdk.org; h=references:in-reply-to:cc:to:from:subject:message-id:date:from:to :cc:subject:date:message-id:reply-to; bh=EaiO15VkYAz09Qst1IkvJdEVVMeGnJCF5e/5kzgJoA8=; b=Q+elNZPvJeLaBejAId86U6qgo+FhqSOz20wszR0NXnyu83v3XKo0t/RJ4N0yA/hIFf PWSaTbxr03QcTUukfySQACMACOLA0k1bAdj0rtxGzs5oXwr/l6srcS+0cP2Z1X4FcklL tEyNT7oOt38FgdS8JRMxh0KL6Tm83yPtoymm0= X-Google-DKIM-Signature: v=1; a=rsa-sha256; c=relaxed/relaxed; d=1e100.net; s=20230601; t=1750817412; x=1751422212; h=references:in-reply-to:cc:to:from:subject:message-id:date :x-gm-message-state:from:to:cc:subject:date:message-id:reply-to; bh=EaiO15VkYAz09Qst1IkvJdEVVMeGnJCF5e/5kzgJoA8=; b=FH5w/8mM6qd9AY9B5PA7K0JYwkAUD34D1+rit7ykKtvs74WUw5W/KzglDQn5tRwKLm S3RCdZpCs4PccUyNrUn/Ut2LRyN9TRpEme5Em+wn2u81AitMf4VuEAU6laSCKEJiA6qp aMXvN/pNBIG3aOoutnbxgNLPdK/eU5zg+slAVQukj/aULbSdy+F6iCAV/ESF01vVxKE5 xGqZw3mSZJ9We37D6Gyjx6EX3gZx/Uhz8LsdkrkGwJVoHcWAWkSDGYezXIl6eeFCrs56 k1wjGbphDptGAyvCrqVsR5KIXmPa2tVW2oyUe8TXhSOuF74iDrknyK1PMGcF0fLkfzgP 4QjQ== X-Gm-Message-State: AOJu0YwHAXfYzr7jChmL1/qPHUH5bcyWVZwAAkWP0nVYH7M5GQv80Kjs rk5meSiUrFMBa49Lc7fBG6jrZzPz9lJ39PeIW6mSoOKlnhmM3h10FdAZPXQF8zmHfIe9sg5CbGe vIFTD3iFzOy7Wm4oBQUMCSsINz0ee/8xewaeajpfnt08zQAgW6Ad6r8FhIvCy X-Gm-Gg: ASbGncsr5EwU2TxK3pCc1qebtUNv+yXAYlmoKres+uCwS1prRSSTiD6ZClzApXsuRcr n8lgMpLc4KynbZGzVKJ3nDBIEOQHVyvL3O3C0iAyGD4nj9N2/+KbrTWcJTrDi4XVc9V7Q64iLxd t9ZfPBImb2foOW1mJ2scMnT9G0Ik5nBfg+3phkwRGVvftoIgVfARvTlE4Hv1Qep6RR56dNkThu0 NFlqB4N4uTBuq2ePz/RMoxKjkBLK+RkGoe+Jr9lf/BTyJVvXFZsoBfrlNXjZmW4GYgBIlHWuBKQ wMIBmjxzJcqmSltjYiStqz8tauJ8pa5NaKzLR+/MXV3UC0A= X-Google-Smtp-Source: AGHT+IG8vev++a2cjTCs0LTf5Wd8cqbv1kwwMqPmsNL5sPCe79wKJ0anxUSOXyDQ+YccxshR2nvEUAc6PaCZ X-Received: by 2002:a17:903:189:b0:234:986c:66d4 with SMTP id d9443c01a7336-23824030d11mr27104755ad.26.1750817412041; Tue, 24 Jun 2025 19:10:12 -0700 (PDT) Received: from postal.iol.unh.edu (postal.iol.unh.edu. [2606:4100:3880:1234::84]) by smtp-relay.gmail.com with ESMTPS id d9443c01a7336-237d852fc8dsm6737275ad.84.2025.06.24.19.10.11 (version=TLS1_2 cipher=ECDHE-ECDSA-AES128-GCM-SHA256 bits=128/128); Tue, 24 Jun 2025 19:10:12 -0700 (PDT) X-Relaying-Domain: iol.unh.edu Date: Tue, 24 Jun 2025 19:10:12 -0700 (PDT) Message-ID: <685b5a84.170a0220.2a17d2.2728SMTPIN_ADDED_MISSING@mx.google.com> Received: from [172.21.0.5] (unknown [172.18.0.240]) by postal.iol.unh.edu (Postfix) with ESMTP id 3962A6051830; Tue, 24 Jun 2025 22:10:11 -0400 (EDT) Subject: |SUCCESS| pw154565-154566 [PATCH] [v3,2/2] crypto/cnxk: add sessionl From: dpdklab@iol.unh.edu To: Test Report Cc: dpdk-test-reports@iol.unh.edu In-Reply-To: <20250618083651.637234-3-nkaithakadan@marvell.com> References: <20250618083651.637234-3-nkaithakadan@marvell.com> Content-Type: text/plain X-BeenThere: test-report@dpdk.org X-Mailman-Version: 2.1.29 Precedence: list List-Id: automatic DPDK test reports List-Unsubscribe: , List-Archive: List-Post: List-Help: List-Subscribe: , Errors-To: test-report-bounces@dpdk.org Test-Label: iol-abi-testing Test-Status: SUCCESS http://dpdk.org/patch/154566 _Testing PASS RETEST #1_ Submitter: Nithinsen Kaithakadan Date: Wednesday, June 18 2025 08:36:50 DPDK git baseline: Repo:dpdk Branch: master CommitID:6890ee7ba76e92745d6c61b3b6b9d757ebaaa89d 154565-154566 --> testing pass Upstream job id: Generic-DPDK-Compile-ABI#131558 Test environment and result as below: +-------------------------------+----------+ | Environment | abi_test | +===============================+==========+ | CentOS Stream 9 | PASS | +-------------------------------+----------+ | CentOS Stream 10 | PASS | +-------------------------------+----------+ | Debian GNU/Linux 12 | PASS | +-------------------------------+----------+ | Fedora Linux 40 | PASS | +-------------------------------+----------+ | Fedora Linux 41 | PASS | +-------------------------------+----------+ | openSUSE Leap 15.6 | PASS | +-------------------------------+----------+ | Red Hat Enterprise Linux 8.10 | PASS | +-------------------------------+----------+ | Ubuntu 24.04 | PASS | +-------------------------------+----------+ | Ubuntu 22.04 | PASS | +-------------------------------+----------+ | Red Hat Enterprise Linux 9.5 | PASS | +-------------------------------+----------+ CentOS Stream 9 Kernel: 5.15 Compiler: gcc gcc (GCC) 11.5.0 20240719 (Red Hat 11.5.0-7) CentOS Stream 10 Kernel: 5.15 Compiler: gcc gcc (GCC) 14.2.1 20250110 (Red Hat 14.2.1-8) Debian GNU/Linux 12 Kernel: 5.15 Compiler: gcc gcc (Debian 12.2.0-14+deb12u1) 12.2.0 Fedora Linux 40 Kernel: 5.15 Compiler: clang gcc (GCC) 14.2.1 20240912 (Red Hat 14.2.1-3) Fedora Linux 41 Kernel: 5.15 Compiler: clang gcc (GCC) 14.3.1 20250523 (Red Hat 14.3.1-1) openSUSE Leap 15.6 Kernel: 5.15 Compiler: gcc gcc (SUSE Linux) 7.5.0 Red Hat Enterprise Linux 8.10 Kernel: 5.15 Compiler: gcc gcc (GCC) 8.5.0 20210514 (Red Hat 8.5.0-22) Ubuntu 24.04 Kernel: 5.15 Compiler: gcc gcc (Ubuntu 13.3.0-6ubuntu2~24.04) 13.3.0 Ubuntu 22.04 Kernel: 5.15 Compiler: gcc gcc (Ubuntu 11.4.0-1ubuntu1~22.04) 11.4.0 Red Hat Enterprise Linux 9.5 Kernel: 5.15 Compiler: gcc gcc (GCC) 11.5.0 20240719 (Red Hat 11.5.0-2) To view detailed results, visit: https://lab.dpdk.org/results/dashboard/patchsets/33451/ UNH-IOL DPDK Community Lab To manage your email subscriptions, visit: https://lab.dpdk.org/results/dashboard/preferences/subscriptions/