From mboxrd@z Thu Jan 1 00:00:00 1970 Return-Path: Received: from mails.dpdk.org (mails.dpdk.org [217.70.189.124]) by inbox.dpdk.org (Postfix) with ESMTP id 13AD246A4E for ; Wed, 25 Jun 2025 04:12:31 +0200 (CEST) Received: from mails.dpdk.org (localhost [127.0.0.1]) by mails.dpdk.org (Postfix) with ESMTP id 0F0BF4013F; Wed, 25 Jun 2025 04:12:31 +0200 (CEST) Received: from mail-pf1-f226.google.com (mail-pf1-f226.google.com [209.85.210.226]) by mails.dpdk.org (Postfix) with ESMTP id 771174013F for ; Wed, 25 Jun 2025 04:12:30 +0200 (CEST) Received: by mail-pf1-f226.google.com with SMTP id d2e1a72fcca58-7425bd5a83aso5078921b3a.0 for ; Tue, 24 Jun 2025 19:12:30 -0700 (PDT) DKIM-Signature: v=1; a=rsa-sha256; c=relaxed/relaxed; d=iol.unh.edu; s=unh-iol; t=1750817550; x=1751422350; darn=dpdk.org; h=references:in-reply-to:cc:to:from:subject:message-id:date:from:to :cc:subject:date:message-id:reply-to; bh=PwMJD48NDBI16CQZeJipBODTLKf9fX6q+8mpl7YddMk=; b=YHqpfszi0Q6AGbR7eEasHJuc95gPaRbA2nRUEepsII5SqesemmXoIpUQdE+Kw7C6x+ stJfmVM7DNoW6vDWOsv5Mu40vNjsNpa/GfWKH0+tmYDIU2RV9ktIL1HaZQF7vZniie9E +M9QQfIjd2QVcEkUKwLzN8j8DzmhuNAdqdkJ4= X-Google-DKIM-Signature: v=1; a=rsa-sha256; c=relaxed/relaxed; d=1e100.net; s=20230601; t=1750817550; x=1751422350; h=references:in-reply-to:cc:to:from:subject:message-id:date :x-gm-message-state:from:to:cc:subject:date:message-id:reply-to; bh=PwMJD48NDBI16CQZeJipBODTLKf9fX6q+8mpl7YddMk=; b=poqN7osFZATmO68JSLERve/8nCQ6Z+RH43TKFw6kKNWQzWu4hqo+pAkumoPsQFTQYz gPWa3fcmjOqwxeO2IkpE2bkCf/UdkjFrTZUyP1u3rq9Zzy04reUra1KQKTw1FbaYt2i3 lLa13sYiwe8tKazQY5DzqE6j1MPZObAVWMK546lf+HwbnfQqs8Q2Rev/+22ivrDPW3nf GqRiaEM8fOAiwHRNeA6zMEEZPU04FChnuBT0lSy9SYlPE3oFc5HFZeOL7oxRPyMt5MHI vuOHkbv3OfOI6VJr/hkPOChnhsjmJNlQd/q8VoN5csap5HhgDduydaNfgcck1ZhTRmhU XFow== X-Gm-Message-State: AOJu0Yzb6PyrXNmjT3/qZJXHdx5qHEk2Bp8N7Rg68soc5ItoEn9MYaiJ 3s3uN8r1GGWXVVNWjKMhtMYTmuX7i29qkGQvtG/CwkEG+ZrTwcAYDbsYds2aVzNFq+VKSTa3Nh7 uaAi3+ZuFkVJZOOpXaTN7FvEajTg/yJlB1mJX3+dgV805 X-Gm-Gg: ASbGncvgIt+ey3PdCXmpPsguP7Z7x1qWaBzBDHsqYKyBNOMO4is5G4dudfbem6gItqQ YQ/J/bd4wYKeYJ4om6NY77CBEZalt8acvHC8xOISHR/bxTqEvzpHnY8RcKQqM6JYupLako3CJ/G 6KmdD3JolAWiH79eh1Ib2Ncw9vIvt2WMu1+t0Jtj08qejUJuDI/Gf4Bh/ynX/HtBkt4EN18u2gm AiZ0DSvwoMemmtEXjWppJV8CjzBxo7SfMOMCym7DTnWIsLaj8PKZkKj5s3ywg2DAE66a+XnAEGJ HewlQ6lVCP12NUrCkvcRp94t83Z8JJqlGMQN2ssY2k4zAKFFtBWrKjO4EybwmjpPbonmeg== X-Google-Smtp-Source: AGHT+IFTchZbNsI3M2lpHQ9uUr/tinUIpT3Mr48ke1G9BmgK/7NVqKU6VuINydFm+ozkKK0WGmRwUYLB0bb8 X-Received: by 2002:a05:6a21:6d8b:b0:1f3:33bf:6640 with SMTP id adf61e73a8af0-2207f20ad67mr2119485637.18.1750817549618; Tue, 24 Jun 2025 19:12:29 -0700 (PDT) Received: from postal.iol.unh.edu (postal.iol.unh.edu. [132.177.123.84]) by smtp-relay.gmail.com with ESMTPS id 41be03b00d2f7-b31f1260715sm645654a12.30.2025.06.24.19.12.29 (version=TLS1_2 cipher=ECDHE-ECDSA-AES128-GCM-SHA256 bits=128/128); Tue, 24 Jun 2025 19:12:29 -0700 (PDT) X-Relaying-Domain: iol.unh.edu Date: Tue, 24 Jun 2025 19:12:29 -0700 (PDT) Message-ID: <685b5b0d.630a0220.3995f6.25b3SMTPIN_ADDED_MISSING@mx.google.com> Received: from [172.21.0.10] (unknown [172.18.0.240]) by postal.iol.unh.edu (Postfix) with ESMTP id D730E6051830; Tue, 24 Jun 2025 22:12:28 -0400 (EDT) Subject: |SUCCESS| pw154565-154566 [PATCH] [v3,2/2] crypto/cnxk: add sessionl From: dpdklab@iol.unh.edu To: Test Report Cc: dpdk-test-reports@iol.unh.edu In-Reply-To: <20250618083651.637234-3-nkaithakadan@marvell.com> References: <20250618083651.637234-3-nkaithakadan@marvell.com> Content-Type: text/plain X-BeenThere: test-report@dpdk.org X-Mailman-Version: 2.1.29 Precedence: list List-Id: automatic DPDK test reports List-Unsubscribe: , List-Archive: List-Post: List-Help: List-Subscribe: , Errors-To: test-report-bounces@dpdk.org Test-Label: iol-abi-testing Test-Status: SUCCESS http://dpdk.org/patch/154566 _Testing PASS RETEST #1_ Submitter: Nithinsen Kaithakadan Date: Wednesday, June 18 2025 08:36:50 DPDK git baseline: Repo:dpdk Branch: master CommitID:6890ee7ba76e92745d6c61b3b6b9d757ebaaa89d 154565-154566 --> testing pass Upstream job id: Generic-DPDK-Compile-ABI#131559 Test environment and result as below: +-------------------------------+----------+ | Environment | abi_test | +===============================+==========+ | CentOS Stream 9 | PASS | +-------------------------------+----------+ | CentOS Stream 10 | PASS | +-------------------------------+----------+ | Debian GNU/Linux 12 | PASS | +-------------------------------+----------+ | Fedora Linux 40 | PASS | +-------------------------------+----------+ | Fedora Linux 41 | PASS | +-------------------------------+----------+ | openSUSE Leap 15.6 | PASS | +-------------------------------+----------+ | Red Hat Enterprise Linux 8.10 | PASS | +-------------------------------+----------+ | Ubuntu 24.04 | PASS | +-------------------------------+----------+ | Ubuntu 22.04 | PASS | +-------------------------------+----------+ | Red Hat Enterprise Linux 9.5 | PASS | +-------------------------------+----------+ CentOS Stream 9 Kernel: 5.15 Compiler: gcc gcc (GCC) 11.5.0 20240719 (Red Hat 11.5.0-7) CentOS Stream 10 Kernel: 5.15 Compiler: gcc gcc (GCC) 14.2.1 20250110 (Red Hat 14.2.1-8) Debian GNU/Linux 12 Kernel: 5.15 Compiler: gcc gcc (Debian 12.2.0-14+deb12u1) 12.2.0 Fedora Linux 40 Kernel: 5.15 Compiler: clang gcc (GCC) 14.2.1 20240912 (Red Hat 14.2.1-3) Fedora Linux 41 Kernel: 5.15 Compiler: clang gcc (GCC) 14.3.1 20250523 (Red Hat 14.3.1-1) openSUSE Leap 15.6 Kernel: 5.15 Compiler: gcc gcc (SUSE Linux) 7.5.0 Red Hat Enterprise Linux 8.10 Kernel: 5.15 Compiler: gcc gcc (GCC) 8.5.0 20210514 (Red Hat 8.5.0-22) Ubuntu 24.04 Kernel: 5.15 Compiler: gcc gcc (Ubuntu 13.3.0-6ubuntu2~24.04) 13.3.0 Ubuntu 22.04 Kernel: 5.15 Compiler: gcc gcc (Ubuntu 11.4.0-1ubuntu1~22.04) 11.4.0 Red Hat Enterprise Linux 9.5 Kernel: 5.15 Compiler: gcc gcc (GCC) 11.5.0 20240719 (Red Hat 11.5.0-2) To view detailed results, visit: https://lab.dpdk.org/results/dashboard/patchsets/33451/ UNH-IOL DPDK Community Lab To manage your email subscriptions, visit: https://lab.dpdk.org/results/dashboard/preferences/subscriptions/