From mboxrd@z Thu Jan  1 00:00:00 1970
Return-Path: <test-report-bounces@dpdk.org>
Received: from mails.dpdk.org (mails.dpdk.org [217.70.189.124])
	by inbox.dpdk.org (Postfix) with ESMTP id 2E07146A4E
	for <public@inbox.dpdk.org>; Wed, 25 Jun 2025 04:18:17 +0200 (CEST)
Received: from mails.dpdk.org (localhost [127.0.0.1])
	by mails.dpdk.org (Postfix) with ESMTP id 286FA4013F;
	Wed, 25 Jun 2025 04:18:17 +0200 (CEST)
Received: from mail-pf1-f226.google.com (mail-pf1-f226.google.com
 [209.85.210.226])
 by mails.dpdk.org (Postfix) with ESMTP id 9E1E64013F
 for <test-report@dpdk.org>; Wed, 25 Jun 2025 04:18:15 +0200 (CEST)
Received: by mail-pf1-f226.google.com with SMTP id
 d2e1a72fcca58-73972a54919so4800275b3a.3
 for <test-report@dpdk.org>; Tue, 24 Jun 2025 19:18:15 -0700 (PDT)
DKIM-Signature: v=1; a=rsa-sha256; c=relaxed/relaxed;
 d=iol.unh.edu; s=unh-iol; t=1750817895; x=1751422695; darn=dpdk.org;
 h=references:in-reply-to:cc:to:from:subject:message-id:date:from:to
 :cc:subject:date:message-id:reply-to;
 bh=egqvTZueap7HrUzNZpoHd0bMEaOwT3JEIW51bVXqpRc=;
 b=E5BqVn6Kjvvjcl0eDVrg/FGyVzrLPx8HAZFLpQidKIAPbTANn1lSDZafZmDDXirDio
 XWV6r6CLX0hZJIYAHEZK53z101LaSTCl1kieSSX6x+PAvFy/3G/gITu/j9KIK/0v/sGn
 irz1g2dcbjIjvx2K9YfgaUwnOMWAQJuSlee04=
X-Google-DKIM-Signature: v=1; a=rsa-sha256; c=relaxed/relaxed;
 d=1e100.net; s=20230601; t=1750817895; x=1751422695;
 h=references:in-reply-to:cc:to:from:subject:message-id:date
 :x-gm-message-state:from:to:cc:subject:date:message-id:reply-to;
 bh=egqvTZueap7HrUzNZpoHd0bMEaOwT3JEIW51bVXqpRc=;
 b=WpEjHGlD7hzAo5qsDY6ctVD8x63nEiv4NGPFMtQ8pzODZlqSc1Rv0nGk6zU+vSnVbH
 icf2hulRYjed9h4zNoDMTQMAqAD674odW0fhxTIm9EJuTTLgbXrfm+KD1Ez4I6t8wAwE
 bsNWucc9Y7kzIj1MhKuSET73C7Uecuapbj8jUUKhkwea1ixmexCmuTxr2hh8pd8yAxd+
 uOEpaF5CWTwhcmyUIrUKSczIUL+tyF+AQtnhE0TC062CPU791Q2CAnnxxaBeeHU38Ru/
 f/C1ilOeQSJWInSE5jjEE0M1GABVzjlN2UuxQ/tMYJ1XNxWZqpWh86MYTSKc5RsNaJyX
 qdWg==
X-Gm-Message-State: AOJu0YxWwviw7AUZ/aDeYFIVoc3Jd6yceET3F7eyR52C1R2pPvGOVU1d
 rjsorSK/Vu6aTDxmJXfeWATZs/wYnj2EjtV89fB5bUUzBn3uRzzcv7RDYOgC40JqrL0MX32hFCo
 +l8JAM8meCZ++HhHBGOwvotVFz9RFGqwW3zQupy2S0yld
X-Gm-Gg: ASbGnctgmvJugPrD/XnbZe6lztd4NJtY06EYsuMMysTf637Ql7irqRsVzqzQJZ9cPL6
 bTlfwXerLcFun8HfRuKuOaSTs30XNIfF2Apuq93/Jzyj0IRGEPoIkrhw2NKnuH4f0Ho43ePxz+8
 +UyXJHIGZXXO2v3XvqhpSfgF7nGuk8vCnLWAGxxS+TX/yysGV3eF16NdbtW4vPvsstqI3AlLJwn
 6+/wtjIgbRqFsJzpu4u5w1+s41FHeEAgwT+EbQx5CImkjbmO+iQ6m+sjuBKrFvmSQFM1JCRa0ay
 0+tbfte5QZqIdNImI0EIPRDurWzJBZSXCzhz7SipfICKMnh5d66V52r+3etd/GxST4ioUg==
X-Google-Smtp-Source: AGHT+IFfjP3STFB+DmqXjuOL80eblsGGgnnkA5h/ETo3ev2Vvl86oOZVFwwIbjfT8e/RrFKaDaVULJRPcQAP
X-Received: by 2002:a05:6a00:2ea5:b0:742:aecc:c472 with SMTP id
 d2e1a72fcca58-74ad44430bfmr1891447b3a.2.1750817894776; 
 Tue, 24 Jun 2025 19:18:14 -0700 (PDT)
Received: from postal.iol.unh.edu (postal.iol.unh.edu. [132.177.123.84])
 by smtp-relay.gmail.com with ESMTPS id
 d2e1a72fcca58-749ad540875sm162835b3a.0.2025.06.24.19.18.14
 (version=TLS1_2 cipher=ECDHE-ECDSA-AES128-GCM-SHA256 bits=128/128);
 Tue, 24 Jun 2025 19:18:14 -0700 (PDT)
X-Relaying-Domain: iol.unh.edu
Date: Tue, 24 Jun 2025 19:18:14 -0700 (PDT)
Message-ID: <685b5c66.050a0220.3a37bc.8c16SMTPIN_ADDED_MISSING@mx.google.com>
Received: from [172.21.0.11] (unknown [172.18.0.240])
 by postal.iol.unh.edu (Postfix) with ESMTP id EE0DB6051830;
 Tue, 24 Jun 2025 22:18:13 -0400 (EDT)
Subject: |SUCCESS| pw154611-154612 [PATCH] [3/3] test/crypto: fix RSA decrypt
From: dpdklab@iol.unh.edu
To: Test Report <test-report@dpdk.org>
Cc: dpdk-test-reports@iol.unh.edu
In-Reply-To: <20250620081921.2145-3-gmuthukrishn@marvell.com>
References: <20250620081921.2145-3-gmuthukrishn@marvell.com>
Content-Type: text/plain
X-BeenThere: test-report@dpdk.org
X-Mailman-Version: 2.1.29
Precedence: list
List-Id: automatic DPDK test reports <test-report.dpdk.org>
List-Unsubscribe: <https://mails.dpdk.org/options/test-report>,
 <mailto:test-report-request@dpdk.org?subject=unsubscribe>
List-Archive: <http://mails.dpdk.org/archives/test-report/>
List-Post: <mailto:test-report@dpdk.org>
List-Help: <mailto:test-report-request@dpdk.org?subject=help>
List-Subscribe: <https://mails.dpdk.org/listinfo/test-report>,
 <mailto:test-report-request@dpdk.org?subject=subscribe>
Errors-To: test-report-bounces@dpdk.org

Test-Label: iol-abi-testing
Test-Status: SUCCESS
http://dpdk.org/patch/154612

_Testing PASS RETEST #1_

Submitter: Gowrishankar Muthukrishnan <gmuthukrishn@marvell.com>
Date: Friday, June 20 2025 08:19:18 
DPDK git baseline: Repo:dpdk
  Branch: master
  CommitID:6890ee7ba76e92745d6c61b3b6b9d757ebaaa89d

154611-154612 --> testing pass

Upstream job id: Generic-DPDK-Compile-ABI#131588

Test environment and result as below:

+-------------------------------+----------+
|          Environment          | abi_test |
+===============================+==========+
| CentOS Stream 9               | PASS     |
+-------------------------------+----------+
| CentOS Stream 10              | PASS     |
+-------------------------------+----------+
| Debian GNU/Linux 12           | PASS     |
+-------------------------------+----------+
| Fedora Linux 40               | PASS     |
+-------------------------------+----------+
| Fedora Linux 41               | PASS     |
+-------------------------------+----------+
| openSUSE Leap 15.6            | PASS     |
+-------------------------------+----------+
| Red Hat Enterprise Linux 8.10 | PASS     |
+-------------------------------+----------+
| Red Hat Enterprise Linux 9.5  | PASS     |
+-------------------------------+----------+
| Ubuntu 22.04                  | PASS     |
+-------------------------------+----------+
| Ubuntu 24.04                  | PASS     |
+-------------------------------+----------+


CentOS Stream 9
	Kernel: 5.15
	Compiler: gcc gcc (GCC) 11.5.0 20240719 (Red Hat 11.5.0-7)

CentOS Stream 10
	Kernel: 5.15
	Compiler: gcc gcc (GCC) 14.2.1 20250110 (Red Hat 14.2.1-8)

Debian GNU/Linux 12
	Kernel: 5.15
	Compiler: gcc gcc (Debian 12.2.0-14+deb12u1) 12.2.0

Fedora Linux 40
	Kernel: 5.15
	Compiler: clang gcc (GCC) 14.2.1 20240912 (Red Hat 14.2.1-3)

Fedora Linux 41
	Kernel: 5.15
	Compiler: gcc gcc (GCC) 14.3.1 20250523 (Red Hat 14.3.1-1)

openSUSE Leap 15.6
	Kernel: 5.15
	Compiler: gcc gcc (SUSE Linux) 7.5.0

Red Hat Enterprise Linux 8.10
	Kernel: 5.15
	Compiler: gcc gcc (GCC) 8.5.0 20210514 (Red Hat 8.5.0-22)

Red Hat Enterprise Linux 9.5
	Kernel: 5.15
	Compiler: gcc gcc (GCC) 11.5.0 20240719 (Red Hat 11.5.0-2)

Ubuntu 22.04
	Kernel: 5.15
	Compiler: gcc gcc (Ubuntu 11.4.0-1ubuntu1~22.04) 11.4.0

Ubuntu 24.04
	Kernel: 5.15
	Compiler: gcc gcc (Ubuntu 13.3.0-6ubuntu2~24.04) 13.3.0

To view detailed results, visit:
https://lab.dpdk.org/results/dashboard/patchsets/33469/

UNH-IOL DPDK Community Lab

To manage your email subscriptions, visit: 
https://lab.dpdk.org/results/dashboard/preferences/subscriptions/