From mboxrd@z Thu Jan  1 00:00:00 1970
Return-Path: <test-report-bounces@dpdk.org>
Received: from mails.dpdk.org (mails.dpdk.org [217.70.189.124])
	by inbox.dpdk.org (Postfix) with ESMTP id 2D1BE46A4E
	for <public@inbox.dpdk.org>; Wed, 25 Jun 2025 04:22:47 +0200 (CEST)
Received: from mails.dpdk.org (localhost [127.0.0.1])
	by mails.dpdk.org (Postfix) with ESMTP id 26A4D4013F;
	Wed, 25 Jun 2025 04:22:47 +0200 (CEST)
Received: from mail-oo1-f99.google.com (mail-oo1-f99.google.com
 [209.85.161.99]) by mails.dpdk.org (Postfix) with ESMTP id 1527F4013F
 for <test-report@dpdk.org>; Wed, 25 Jun 2025 04:22:43 +0200 (CEST)
Received: by mail-oo1-f99.google.com with SMTP id
 006d021491bc7-610cbca60cdso3729459eaf.0
 for <test-report@dpdk.org>; Tue, 24 Jun 2025 19:22:43 -0700 (PDT)
DKIM-Signature: v=1; a=rsa-sha256; c=relaxed/relaxed;
 d=iol.unh.edu; s=unh-iol; t=1750818162; x=1751422962; darn=dpdk.org;
 h=references:in-reply-to:cc:to:from:subject:message-id:date:from:to
 :cc:subject:date:message-id:reply-to;
 bh=hl1wAsIHVU0Pshy8uCF2dtKmR4vjfqmiaY05zwIT4lc=;
 b=SBqlSEs3glmsJ6NBBaVRLduKsWtVo5Z2NCcxvH/gE3TTfRJtA5M5NEz91hZ6XGhoe2
 VKgQsoHJP+n9LvaASD0oGVt7uRTC08M3DUiJ4lUhwAp2UIOMMn8RzOwDU7M3expLU1RX
 c3+NBPKLyIvOvl2/owSfFsU0NCldH3eIvDcr4=
X-Google-DKIM-Signature: v=1; a=rsa-sha256; c=relaxed/relaxed;
 d=1e100.net; s=20230601; t=1750818162; x=1751422962;
 h=references:in-reply-to:cc:to:from:subject:message-id:date
 :x-gm-message-state:from:to:cc:subject:date:message-id:reply-to;
 bh=hl1wAsIHVU0Pshy8uCF2dtKmR4vjfqmiaY05zwIT4lc=;
 b=rmhYZ1otLXWK24EpgeZYa/yJQJVoSyVKVk2vwALwyXc95ZrHWHkwXLLxixrEn/yAB2
 6StKpVGlM7/HqD5htDr/pKFQHK+PgWDBF/zxHZSIgEt+2f4J8l3Pm/8QZbCDD1gH9Iwy
 ZKK1R2N9CCA2t8HIiHusBAYVo71T1QD63q/m71IcF+6GsM5zoGAACfvUlaUQsbulc6FS
 1CAMMZMZwvrrgYpNHhnnLQgp8SuNOhIHTOBLH6St2Srb/QfjsPIt4+OpqupZkbVTvdlZ
 oWtDiqgAMT1spmE+YwMALftYMl9gTQ2Ygd7qf5n+v2ihfQ0AEz8d9St11o/pOBnnXaUg
 TWNw==
X-Gm-Message-State: AOJu0YyDMicIoyhajgX4FpWnUEClu/xrhvFVX/jgNwLKTm+GpV2JzQAq
 XL6TrmMzj7nuNvb82W2rcx5yG5Ysyiy4pa+5nRU8tSXcsB34u6ncNDnbeGkInLujJ3vDxCjl3C/
 C5mzT2cY/QOV/T9UdBPu23TRU19cYlh+OzNb0wEMWP4W0RDlbTm1hNbEF2OEh
X-Gm-Gg: ASbGncvJtXfeXO4UuL+F2sL9qYXMmvvGeRPjn0Uv077R/q0BgFEZYMc5JIvoMleqOmo
 C150mLKwbYciDSuqfKUTOsPBLJrLRiE944WQqdx8TjhO3iWEIUbrX8zoOFeEolEFQyZEF/l3sey
 b97kZKaOvE01upMNBWcm43IR8COsqXPWo7pwII4tj9VTtIF46SzDoa3HKkfrXOnUsq39RaGycNV
 +18g957TQqj9uvYGhjoQei++Di2HUVrsWEby8W0ZEgcM/cDsSXD+AN+FvWxqp3OMKdP0n3d5WD/
 9F+0ntHsGoGeMr9xdW/OiXpf8mRRJEP4TYcgM3WklPy9dPU=
X-Google-Smtp-Source: AGHT+IFey+wiIQ/Tt3FVD+tyr3RI6LCJE4f6Gv/zec4A0DSjio0M8pnStYdUoIri2s+woTvkGGmzAK9H3xsS
X-Received: by 2002:a05:6870:28f:b0:2d5:ba2d:80ed with SMTP id
 586e51a60fabf-2efb2763b5amr1072072fac.25.1750818162242; 
 Tue, 24 Jun 2025 19:22:42 -0700 (PDT)
Received: from postal.iol.unh.edu (postal.iol.unh.edu.
 [2606:4100:3880:1234::84]) by smtp-relay.gmail.com with ESMTPS id
 586e51a60fabf-2ee664e0307sm619042fac.9.2025.06.24.19.22.42
 (version=TLS1_2 cipher=ECDHE-ECDSA-AES128-GCM-SHA256 bits=128/128);
 Tue, 24 Jun 2025 19:22:42 -0700 (PDT)
X-Relaying-Domain: iol.unh.edu
Date: Tue, 24 Jun 2025 19:22:42 -0700 (PDT)
Message-ID: <685b5d72.050a0220.112a3b.0ba3SMTPIN_ADDED_MISSING@mx.google.com>
Received: from [172.21.0.8] (unknown [172.18.0.240])
 by postal.iol.unh.edu (Postfix) with ESMTP id BBC636051830;
 Tue, 24 Jun 2025 22:22:41 -0400 (EDT)
Subject: |SUCCESS| pw154611-154612 [PATCH] [3/3] test/crypto: fix RSA decrypt
From: dpdklab@iol.unh.edu
To: Test Report <test-report@dpdk.org>
Cc: dpdk-test-reports@iol.unh.edu
In-Reply-To: <20250620081921.2145-3-gmuthukrishn@marvell.com>
References: <20250620081921.2145-3-gmuthukrishn@marvell.com>
Content-Type: text/plain
X-BeenThere: test-report@dpdk.org
X-Mailman-Version: 2.1.29
Precedence: list
List-Id: automatic DPDK test reports <test-report.dpdk.org>
List-Unsubscribe: <https://mails.dpdk.org/options/test-report>,
 <mailto:test-report-request@dpdk.org?subject=unsubscribe>
List-Archive: <http://mails.dpdk.org/archives/test-report/>
List-Post: <mailto:test-report@dpdk.org>
List-Help: <mailto:test-report-request@dpdk.org?subject=help>
List-Subscribe: <https://mails.dpdk.org/listinfo/test-report>,
 <mailto:test-report-request@dpdk.org?subject=subscribe>
Errors-To: test-report-bounces@dpdk.org

Test-Label: iol-abi-testing
Test-Status: SUCCESS
http://dpdk.org/patch/154612

_Testing PASS RETEST #1_

Submitter: Gowrishankar Muthukrishnan <gmuthukrishn@marvell.com>
Date: Friday, June 20 2025 08:19:18 
DPDK git baseline: Repo:dpdk
  Branch: master
  CommitID:6890ee7ba76e92745d6c61b3b6b9d757ebaaa89d

154611-154612 --> testing pass

Upstream job id: Generic-DPDK-Compile-ABI#131593

Test environment and result as below:

+-------------------------------+----------+
|          Environment          | abi_test |
+===============================+==========+
| CentOS Stream 9               | PASS     |
+-------------------------------+----------+
| CentOS Stream 10              | PASS     |
+-------------------------------+----------+
| Debian GNU/Linux 12           | PASS     |
+-------------------------------+----------+
| Fedora Linux 40               | PASS     |
+-------------------------------+----------+
| Fedora Linux 41               | PASS     |
+-------------------------------+----------+
| openSUSE Leap 15.6            | PASS     |
+-------------------------------+----------+
| Red Hat Enterprise Linux 8.10 | PASS     |
+-------------------------------+----------+
| Red Hat Enterprise Linux 9.5  | PASS     |
+-------------------------------+----------+
| Ubuntu 22.04                  | PASS     |
+-------------------------------+----------+
| Ubuntu 24.04                  | PASS     |
+-------------------------------+----------+


CentOS Stream 9
	Kernel: 5.15
	Compiler: gcc gcc (GCC) 11.5.0 20240719 (Red Hat 11.5.0-7)

CentOS Stream 10
	Kernel: 5.15
	Compiler: gcc gcc (GCC) 14.2.1 20250110 (Red Hat 14.2.1-8)

Debian GNU/Linux 12
	Kernel: 5.15
	Compiler: gcc gcc (Debian 12.2.0-14+deb12u1) 12.2.0

Fedora Linux 40
	Kernel: 5.15
	Compiler: clang gcc (GCC) 14.2.1 20240912 (Red Hat 14.2.1-3)

Fedora Linux 41
	Kernel: 5.15
	Compiler: gcc gcc (GCC) 14.3.1 20250523 (Red Hat 14.3.1-1)

openSUSE Leap 15.6
	Kernel: 5.15
	Compiler: gcc gcc (SUSE Linux) 7.5.0

Red Hat Enterprise Linux 8.10
	Kernel: 5.15
	Compiler: gcc gcc (GCC) 8.5.0 20210514 (Red Hat 8.5.0-22)

Red Hat Enterprise Linux 9.5
	Kernel: 5.15
	Compiler: gcc gcc (GCC) 11.5.0 20240719 (Red Hat 11.5.0-2)

Ubuntu 22.04
	Kernel: 5.15
	Compiler: gcc gcc (Ubuntu 11.4.0-1ubuntu1~22.04) 11.4.0

Ubuntu 24.04
	Kernel: 5.15
	Compiler: gcc gcc (Ubuntu 13.3.0-6ubuntu2~24.04) 13.3.0

To view detailed results, visit:
https://lab.dpdk.org/results/dashboard/patchsets/33469/

UNH-IOL DPDK Community Lab

To manage your email subscriptions, visit: 
https://lab.dpdk.org/results/dashboard/preferences/subscriptions/