From mboxrd@z Thu Jan  1 00:00:00 1970
Return-Path: <test-report-bounces@dpdk.org>
Received: from mails.dpdk.org (mails.dpdk.org [217.70.189.124])
	by inbox.dpdk.org (Postfix) with ESMTP id E054946A4A
	for <public@inbox.dpdk.org>; Wed, 25 Jun 2025 06:49:46 +0200 (CEST)
Received: from mails.dpdk.org (localhost [127.0.0.1])
	by mails.dpdk.org (Postfix) with ESMTP id DB712406A2;
	Wed, 25 Jun 2025 06:49:46 +0200 (CEST)
Received: from mail-yb1-f225.google.com (mail-yb1-f225.google.com
 [209.85.219.225])
 by mails.dpdk.org (Postfix) with ESMTP id E9991406A2
 for <test-report@dpdk.org>; Wed, 25 Jun 2025 06:49:38 +0200 (CEST)
Received: by mail-yb1-f225.google.com with SMTP id
 3f1490d57ef6-e7d9d480e6cso4666404276.2
 for <test-report@dpdk.org>; Tue, 24 Jun 2025 21:49:38 -0700 (PDT)
DKIM-Signature: v=1; a=rsa-sha256; c=relaxed/relaxed;
 d=iol.unh.edu; s=unh-iol; t=1750826978; x=1751431778; darn=dpdk.org;
 h=references:in-reply-to:cc:to:from:subject:message-id:date:from:to
 :cc:subject:date:message-id:reply-to;
 bh=PaSKuM+7HOXE1jkMffEQGFEdeeOSah7VHYcudB+gJYs=;
 b=Ymn21PVxJ7ffFMpeTQFOs8JIuISl8/oIcJREjABsiUS4VbIO/CF8wxhomE4aPZDUxP
 sLNPeTX3BjA4/6RabA+UWJT5Sr1gAtAshunq9iNRBOMbS2AoGON37hI78euSsEqsfqre
 36yg8r7l45hec7i/Wo1CSaEzeTtF5HV3Zc0Os=
X-Google-DKIM-Signature: v=1; a=rsa-sha256; c=relaxed/relaxed;
 d=1e100.net; s=20230601; t=1750826978; x=1751431778;
 h=references:in-reply-to:cc:to:from:subject:message-id:date
 :x-gm-message-state:from:to:cc:subject:date:message-id:reply-to;
 bh=PaSKuM+7HOXE1jkMffEQGFEdeeOSah7VHYcudB+gJYs=;
 b=XNo6Em8EUULy5+DQ/dtMfcXJTqdywRd32mzVVERk19NjQiu3pImr4ApejAvczHz1aX
 tJDnOBXHATFtJNj+9imP7NdktXzVHU4R3Gptfws6cZ8jCDili//ASeTxaQkAYkptF6lr
 pklV/OIKg+swz8C1bfL8oVA0mTOWq2TXaE60+f+SRLgjNHPTju562jEWMGDuRhZoZT/R
 Xa5whdNBkr08h+fQCjUZk+8BwDBMJduuP/9mSSV9dIxv4kLAwr08uE3utne0H8Mhqlpz
 dIRR0ElDZMkem7xrA5Sw+l6xiwmVnolftPTiffwLd7KXrHC/KH+4ou4ai1mEpuGNp/Q5
 YVmw==
X-Gm-Message-State: AOJu0YxFlaGpAYtR/ZrIqMp/PZzkCggnVQP3V5JdR10Uq1GH/IArAMdq
 p8Er5BM/hDMQvF6iSW/rGgMkwF+w0T51jhTX8/ep7lPkdQVmEMwdSW3qxz0m/akO4nuehdbwxd7
 z4EHIjV2QBHsqkuNtxgxxXKP9I4OdnmdkwIU8ibMwh61rjyBvaECC1y2cIPYZ
X-Gm-Gg: ASbGncu85NVxD0SBoWUoC/E6VfjhIiv1g85UwCy5Uoy80Qimk2YAQbeId/AN8C3prI4
 OyuBhIqTH9yXMebgBCKyiLMaRwRrpYBci+6bNozWCMvHqjL4R+U8BIVTeLK/SST/lu8FqYsyATU
 /CV/3XuoBQ1wINZK2JnW+K0tOFc9GobgNyOdTCx1m38xoqtfDFAJ5hkGb8yig6jNJfx/KRZgTB5
 g8KRCugMq/q0vgtSwEd1/visZB3qi0AU9YpRrDttg+j5VVyXmMM4jR+qQ5ueA0+Xpe8VxxrcEAj
 vEq8Rx11FX754/AFsbdtJ4sFQ3gqFVK0lMB+7LoP/aBnHfA=
X-Google-Smtp-Source: AGHT+IHnYJCbOOFbkfmWprmwzsgd9OZBpDto08//gH6Ty94WIqoChNJnsyMReNmGAFr9i+2WDgnBBqZKXpbW
X-Received: by 2002:a05:6902:1505:b0:e84:27a0:6adb with SMTP id
 3f1490d57ef6-e86017997c6mr1778450276.46.1750826978357; 
 Tue, 24 Jun 2025 21:49:38 -0700 (PDT)
Received: from postal.iol.unh.edu (postal.iol.unh.edu.
 [2606:4100:3880:1234::84]) by smtp-relay.gmail.com with ESMTPS id
 3f1490d57ef6-e85faab86a9sm126103276.30.2025.06.24.21.49.38
 (version=TLS1_2 cipher=ECDHE-ECDSA-AES128-GCM-SHA256 bits=128/128);
 Tue, 24 Jun 2025 21:49:38 -0700 (PDT)
X-Relaying-Domain: iol.unh.edu
Date: Tue, 24 Jun 2025 21:49:38 -0700 (PDT)
Message-ID: <685b7fe2.250a0220.36b5da.6d89SMTPIN_ADDED_MISSING@mx.google.com>
Received: from [172.21.0.5] (unknown [172.18.0.240])
 by postal.iol.unh.edu (Postfix) with ESMTP id D62466051830;
 Wed, 25 Jun 2025 00:49:37 -0400 (EDT)
Subject: |SUCCESS| pw154611-154612 [PATCH] [3/3] test/crypto: fix RSA decrypt
From: dpdklab@iol.unh.edu
To: Test Report <test-report@dpdk.org>
Cc: dpdk-test-reports@iol.unh.edu
In-Reply-To: <20250620081921.2145-3-gmuthukrishn@marvell.com>
References: <20250620081921.2145-3-gmuthukrishn@marvell.com>
Content-Type: text/plain
X-BeenThere: test-report@dpdk.org
X-Mailman-Version: 2.1.29
Precedence: list
List-Id: automatic DPDK test reports <test-report.dpdk.org>
List-Unsubscribe: <https://mails.dpdk.org/options/test-report>,
 <mailto:test-report-request@dpdk.org?subject=unsubscribe>
List-Archive: <http://mails.dpdk.org/archives/test-report/>
List-Post: <mailto:test-report@dpdk.org>
List-Help: <mailto:test-report-request@dpdk.org?subject=help>
List-Subscribe: <https://mails.dpdk.org/listinfo/test-report>,
 <mailto:test-report-request@dpdk.org?subject=subscribe>
Errors-To: test-report-bounces@dpdk.org

Test-Label: iol-unit-arm64-testing
Test-Status: SUCCESS
http://dpdk.org/patch/154612

_Testing PASS RETEST #1_

Submitter: Gowrishankar Muthukrishnan <gmuthukrishn@marvell.com>
Date: Friday, June 20 2025 08:19:18 
DPDK git baseline: Repo:dpdk
  Branch: master
  CommitID:6890ee7ba76e92745d6c61b3b6b9d757ebaaa89d

154611-154612 --> testing pass

Upstream job id: Generic-Unit-Test-DPDK#349229

Test environment and result as below:

+------------------------------+----------------+---------------------------+--------------+------------------------------+
|         Environment          | dpdk_unit_test | cryptodev_sw_zuc_autotest | lpm_autotest | cryptodev_sw_snow3g_autotest |
+==============================+================+===========================+==============+==============================+
| Debian GNU/Linux 12          | PASS           | SKIPPED                   | SKIPPED      | SKIPPED                      |
+------------------------------+----------------+---------------------------+--------------+------------------------------+
| CentOS Stream 9              | PASS           | SKIPPED                   | SKIPPED      | SKIPPED                      |
+------------------------------+----------------+---------------------------+--------------+------------------------------+
| Fedora Linux 40              | PASS           | SKIPPED                   | SKIPPED      | SKIPPED                      |
+------------------------------+----------------+---------------------------+--------------+------------------------------+
| CentOS Stream 10             | PASS           | SKIPPED                   | SKIPPED      | SKIPPED                      |
+------------------------------+----------------+---------------------------+--------------+------------------------------+
| Fedora Linux 41              | PASS           | SKIPPED                   | SKIPPED      | SKIPPED                      |
+------------------------------+----------------+---------------------------+--------------+------------------------------+
| Ubuntu 20.04                 | PASS           | SKIPPED                   | PASS         | SKIPPED                      |
+------------------------------+----------------+---------------------------+--------------+------------------------------+
| Red Hat Enterprise Linux 9.5 | PASS           | SKIPPED                   | SKIPPED      | SKIPPED                      |
+------------------------------+----------------+---------------------------+--------------+------------------------------+
| Ubuntu 22.04                 | PASS           | SKIPPED                   | SKIPPED      | SKIPPED                      |
+------------------------------+----------------+---------------------------+--------------+------------------------------+
| Ubuntu 24.04                 | PASS           | SKIPPED                   | SKIPPED      | SKIPPED                      |
+------------------------------+----------------+---------------------------+--------------+------------------------------+
| Debian 12 (arm)              | SKIPPED        | PASS                      | SKIPPED      | PASS                         |
+------------------------------+----------------+---------------------------+--------------+------------------------------+


Debian GNU/Linux 12
	Kernel: 5.4
	Compiler: gcc gcc (Debian 12.2.0-14+deb12u1) 12.2.0

CentOS Stream 9
	Kernel: 5.4
	Compiler: gcc gcc (GCC) 11.5.0 20240719 (Red Hat 11.5.0-7)

Fedora Linux 40
	Kernel: 5.4
	Compiler: clang gcc (GCC) 14.2.1 20240912 (Red Hat 14.2.1-3)

CentOS Stream 10
	Kernel: 5.4
	Compiler: gcc gcc (GCC) 14.2.1 20250110 (Red Hat 14.2.1-8)

Fedora Linux 41
	Kernel: 5.4
	Compiler: gcc gcc (GCC) 14.3.1 20250523 (Red Hat 14.3.1-1)

Ubuntu 20.04
	Kernel: 5.4
	Compiler: gcc gcc (Ubuntu 9.4.0-1ubuntu1~20.04.2) 9.4.0

Red Hat Enterprise Linux 9.5
	Kernel: 5.4
	Compiler: gcc gcc (GCC) 11.5.0 20240719 (Red Hat 11.5.0-2)

Ubuntu 22.04
	Kernel: 5.4
	Compiler: gcc gcc (Ubuntu 11.4.0-1ubuntu1~22.04) 11.4.0

Ubuntu 24.04
	Kernel: 5.4
	Compiler: gcc gcc (Ubuntu 13.3.0-6ubuntu2~24.04) 13.3.0

Debian 12 (arm)
	Kernel: Depends on container host
	Compiler: gcc (Debian 12.2.0-14) 12.2.0

To view detailed results, visit:
https://lab.dpdk.org/results/dashboard/patchsets/33469/

UNH-IOL DPDK Community Lab

To manage your email subscriptions, visit: 
https://lab.dpdk.org/results/dashboard/preferences/subscriptions/