From mboxrd@z Thu Jan  1 00:00:00 1970
Return-Path: <test-report-bounces@dpdk.org>
Received: from mails.dpdk.org (mails.dpdk.org [217.70.189.124])
	by inbox.dpdk.org (Postfix) with ESMTP id 9C3C446A4F
	for <public@inbox.dpdk.org>; Wed, 25 Jun 2025 08:34:29 +0200 (CEST)
Received: from mails.dpdk.org (localhost [127.0.0.1])
	by mails.dpdk.org (Postfix) with ESMTP id 842C0402B1;
	Wed, 25 Jun 2025 08:34:29 +0200 (CEST)
Received: from mail-qv1-f99.google.com (mail-qv1-f99.google.com
 [209.85.219.99]) by mails.dpdk.org (Postfix) with ESMTP id A86C5402B1
 for <test-report@dpdk.org>; Wed, 25 Jun 2025 08:34:27 +0200 (CEST)
Received: by mail-qv1-f99.google.com with SMTP id
 6a1803df08f44-6facba680a1so68291006d6.3
 for <test-report@dpdk.org>; Tue, 24 Jun 2025 23:34:27 -0700 (PDT)
DKIM-Signature: v=1; a=rsa-sha256; c=relaxed/relaxed;
 d=iol.unh.edu; s=unh-iol; t=1750833267; x=1751438067; darn=dpdk.org;
 h=references:in-reply-to:cc:to:from:subject:message-id:date:from:to
 :cc:subject:date:message-id:reply-to;
 bh=yXZAQE1dqxGJ+LAMjBwY1LcnYmhVr7eKJrWiGDI/oO8=;
 b=hy78B8EpRRND4oz0AUIsaeMZY7iJDN7LpP44pfsWv4tubY7uYzeVsxO//z8CGGqxBj
 Ln48ILkC/fDZN9355y3YT+N8XwNTAC+8aP42Onk31XGwEm3L26mTpdcaTglGT//m6Ixj
 l3MUM4Amz5hOUgQeCxQiN28NsfxIHfldjwKJo=
X-Google-DKIM-Signature: v=1; a=rsa-sha256; c=relaxed/relaxed;
 d=1e100.net; s=20230601; t=1750833267; x=1751438067;
 h=references:in-reply-to:cc:to:from:subject:message-id:date
 :x-gm-message-state:from:to:cc:subject:date:message-id:reply-to;
 bh=yXZAQE1dqxGJ+LAMjBwY1LcnYmhVr7eKJrWiGDI/oO8=;
 b=aWuzdpTp4vQ9KtbZupkQlp8JTl+g3THBlqhzy3ztUCr/bFOmPO7t+8U4yLhl8S5JuN
 ZU9guF8y74F4deMktbCfRCrdEnQ05wOBH669v6qnYapYtbKcPpx3UCTlNRVYhBX8x284
 6UdTUrfJk+MwZDR48U8D5+0Ks0jY/nwua0fhVK4SV8z7p7PLsM1/H4Pogfvx/lXsdGxo
 gkTp0huoO6raJHC36gLzat9GF2XR5ZxROubOG0Jo8JI8UHUzb3vG2Trt0SgPLr1Csvsh
 9hvrXHNdlCk1hoM1AUW+p8AK/EO0lnsjkK/em+gi0vZBm7gsQup/PtDrCMd8tD0k7mnR
 GUcg==
X-Gm-Message-State: AOJu0YyFevsx35pbjvjl81Otrz48sYwc5Zsx9cLW9Jl559YitGqC5s2M
 wsAqRzAayPFUWoiSAIMSt621hGLk/7ToukS5YHI5Wu+zjugmZxkEZtahgzeymVwVH8vT54Z1bM1
 rZQFHLtgM19fvEapAmVRFAMDaFFvdEkNVTGpRowWhJ+AvahKQD0dXQhEnH+Mi
X-Gm-Gg: ASbGncvvkYOqZLzrZIBwHuPpzJcRCz51ugi0fvz7I+Ju8a+1UOo0R1ALHYGf7dwCXez
 1elPtg4Yxjspge/Go9YoXzkHrOHqSnIayDUaySR9iGEl5w4uUNemkmNIplj/fHxWEpPRKgCovcR
 KQQ+E1ScEL1kuvIwOjnxQCHMhADMmM2zZvOdwGkaKONVpz5Me47yuJ5krCFeJ9DhLpeVxmf7bU9
 IIhYfMEgx1hIxCYK+tS/6qtVzANIEmlLD0i58y6tTrNC7FGyiPTrlnMWbmQvcGBSZhXSt+d1r7A
 zBQz1mFtbHaVWooealg8MvxLYG2ssvyab0RvRL3ussNf9Vc=
X-Google-Smtp-Source: AGHT+IHleNxzRdBA1jvdCGFxE8LVR/to1eZWRdeYlUF1L4vR+Lz0BuZT+AATzDjEgerxTCzXfl80GpkfJVQU
X-Received: by 2002:a05:6214:4188:b0:6fb:14:5e89 with SMTP id
 6a1803df08f44-6fd5ef7330cmr27929616d6.19.1750833267057; 
 Tue, 24 Jun 2025 23:34:27 -0700 (PDT)
Received: from postal.iol.unh.edu (postal.iol.unh.edu.
 [2606:4100:3880:1234::84]) by smtp-relay.gmail.com with ESMTPS id
 6a1803df08f44-6fd093de879sm6511206d6.7.2025.06.24.23.34.26
 (version=TLS1_2 cipher=ECDHE-ECDSA-AES128-GCM-SHA256 bits=128/128);
 Tue, 24 Jun 2025 23:34:27 -0700 (PDT)
X-Relaying-Domain: iol.unh.edu
Date: Tue, 24 Jun 2025 23:34:27 -0700 (PDT)
Message-ID: <685b9873.d40a0220.149f01.200bSMTPIN_ADDED_MISSING@mx.google.com>
Received: from [172.21.0.5] (unknown [172.18.0.240])
 by postal.iol.unh.edu (Postfix) with ESMTP id BBAC06051830;
 Wed, 25 Jun 2025 02:34:26 -0400 (EDT)
Subject: |WARNING| pw154670 [PATCH] [v2] cpp: Fix missing extern "C" closing 
From: dpdklab@iol.unh.edu
To: Test Report <test-report@dpdk.org>
Cc: dpdk-test-reports@iol.unh.edu
In-Reply-To: <20250624195810.2350988-1-edvard.fagerholm@gmail.com>
References: <20250624195810.2350988-1-edvard.fagerholm@gmail.com>
Content-Type: text/plain
X-BeenThere: test-report@dpdk.org
X-Mailman-Version: 2.1.29
Precedence: list
List-Id: automatic DPDK test reports <test-report.dpdk.org>
List-Unsubscribe: <https://mails.dpdk.org/options/test-report>,
 <mailto:test-report-request@dpdk.org?subject=unsubscribe>
List-Archive: <http://mails.dpdk.org/archives/test-report/>
List-Post: <mailto:test-report@dpdk.org>
List-Help: <mailto:test-report-request@dpdk.org?subject=help>
List-Subscribe: <https://mails.dpdk.org/listinfo/test-report>,
 <mailto:test-report-request@dpdk.org?subject=subscribe>
Errors-To: test-report-bounces@dpdk.org

Test-Label: iol-compile-amd64-testing
Test-Status: WARNING
http://dpdk.org/patch/154670

_Testing issues_

Submitter: Edvard Fagerholm <edvard.fagerholm@gmail.com>
Date: Tuesday, June 24 2025 19:58:10 
DPDK git baseline: Repo:dpdk
  Branch: master
  CommitID:6890ee7ba76e92745d6c61b3b6b9d757ebaaa89d

154670 --> testing issues

Upstream job id: Generic-DPDK-Compile-Meson#401584

Test environment and result as below:

+-------------------------------+--------------------+-------------------+-------------------------+----------------------+-------------------+------------------+
|          Environment          | dpdk_meson_compile | dpdk_msvc_compile | dpdk_llvm_clang_compile | dpdk_mingw64_compile | dpdk_compile_spdk | dpdk_compile_ovs |
+===============================+====================+===================+=========================+======================+===================+==================+
| Ubuntu 20.04                  | PASS               | SKIPPED           | SKIPPED                 | SKIPPED              | SKIPPED           | SKIPPED          |
+-------------------------------+--------------------+-------------------+-------------------------+----------------------+-------------------+------------------+
| CentOS Stream 9               | PASS               | SKIPPED           | SKIPPED                 | SKIPPED              | PASS              | SKIPPED          |
+-------------------------------+--------------------+-------------------+-------------------------+----------------------+-------------------+------------------+
| CentOS Stream 10              | PASS               | SKIPPED           | SKIPPED                 | SKIPPED              | SKIPPED           | SKIPPED          |
+-------------------------------+--------------------+-------------------+-------------------------+----------------------+-------------------+------------------+
| Debian GNU/Linux 12           | PASS               | SKIPPED           | SKIPPED                 | SKIPPED              | PASS              | SKIPPED          |
+-------------------------------+--------------------+-------------------+-------------------------+----------------------+-------------------+------------------+
| Fedora Linux 40               | PASS               | SKIPPED           | SKIPPED                 | SKIPPED              | PASS              | SKIPPED          |
+-------------------------------+--------------------+-------------------+-------------------------+----------------------+-------------------+------------------+
| Fedora Linux 41               | PEND               | SKIPPED           | SKIPPED                 | SKIPPED              | PEND              | PEND             |
+-------------------------------+--------------------+-------------------+-------------------------+----------------------+-------------------+------------------+
| openSUSE Leap 15.6            | PASS               | SKIPPED           | SKIPPED                 | SKIPPED              | SKIPPED           | SKIPPED          |
+-------------------------------+--------------------+-------------------+-------------------------+----------------------+-------------------+------------------+
| Red Hat Enterprise Linux 8.10 | PASS               | SKIPPED           | SKIPPED                 | SKIPPED              | SKIPPED           | SKIPPED          |
+-------------------------------+--------------------+-------------------+-------------------------+----------------------+-------------------+------------------+
| Red Hat Enterprise Linux 9.5  | PASS               | SKIPPED           | SKIPPED                 | SKIPPED              | SKIPPED           | SKIPPED          |
+-------------------------------+--------------------+-------------------+-------------------------+----------------------+-------------------+------------------+
| Ubuntu 22.04                  | PEND               | SKIPPED           | SKIPPED                 | SKIPPED              | PEND              | SKIPPED          |
+-------------------------------+--------------------+-------------------+-------------------------+----------------------+-------------------+------------------+
| Ubuntu 24.04                  | PASS               | SKIPPED           | SKIPPED                 | SKIPPED              | PEND              | PEND             |
+-------------------------------+--------------------+-------------------+-------------------------+----------------------+-------------------+------------------+
| Alpine Linux 3.22.0           | PEND               | SKIPPED           | SKIPPED                 | SKIPPED              | SKIPPED           | SKIPPED          |
+-------------------------------+--------------------+-------------------+-------------------------+----------------------+-------------------+------------------+
| Windows Server 2022           | SKIPPED            | PASS              | PASS                    | PASS                 | SKIPPED           | SKIPPED          |
+-------------------------------+--------------------+-------------------+-------------------------+----------------------+-------------------+------------------+


Ubuntu 20.04
	Kernel: 4.19
	Compiler: gcc gcc (Ubuntu 9.4.0-1ubuntu1~20.04.2) 9.4.0

CentOS Stream 9
	Kernel: 5.15
	Compiler: gcc gcc (GCC) 11.5.0 20240719 (Red Hat 11.5.0-7)

CentOS Stream 10
	Kernel: 5.15
	Compiler: gcc gcc (GCC) 14.2.1 20250110 (Red Hat 14.2.1-8)

Debian GNU/Linux 12
	Kernel: 5.15
	Compiler: gcc gcc (Debian 12.2.0-14+deb12u1) 12.2.0

Fedora Linux 40
	Kernel: 5.15
	Compiler: clang gcc (GCC) 14.2.1 20240912 (Red Hat 14.2.1-3)

Fedora Linux 41
	Kernel: 5.15
	Compiler: clang gcc (GCC) 14.3.1 20250523 (Red Hat 14.3.1-1)

openSUSE Leap 15.6
	Kernel: 5.15
	Compiler: gcc gcc (SUSE Linux) 7.5.0

Red Hat Enterprise Linux 8.10
	Kernel: 5.15
	Compiler: gcc gcc (GCC) 8.5.0 20210514 (Red Hat 8.5.0-22)

Red Hat Enterprise Linux 9.5
	Kernel: 5.15
	Compiler: gcc gcc (GCC) 11.5.0 20240719 (Red Hat 11.5.0-2)

Ubuntu 22.04
	Kernel: 5.15
	Compiler: gcc gcc (Ubuntu 11.4.0-1ubuntu1~22.04) 11.4.0

Ubuntu 24.04
	Kernel: 5.15
	Compiler: gcc gcc (Ubuntu 13.3.0-6ubuntu2~24.04) 13.3.0

Alpine Linux 3.22.0
	Kernel: 5.15
	Compiler: gcc gcc (Alpine 14.2.0) 14.2.0

Windows Server 2022
	Kernel: 10.0.20348.2031
	Compiler: clang 15.0.7, gcc 14.1.0 (MinGW), and MSVC VS 19.39.33521

To view detailed results, visit:
https://lab.dpdk.org/results/dashboard/patchsets/33494/

UNH-IOL DPDK Community Lab

To manage your email subscriptions, visit: 
https://lab.dpdk.org/results/dashboard/preferences/subscriptions/