From mboxrd@z Thu Jan  1 00:00:00 1970
Return-Path: <test-report-bounces@dpdk.org>
Received: from mails.dpdk.org (mails.dpdk.org [217.70.189.124])
	by inbox.dpdk.org (Postfix) with ESMTP id 672E046A4F
	for <public@inbox.dpdk.org>; Wed, 25 Jun 2025 09:25:24 +0200 (CEST)
Received: from mails.dpdk.org (localhost [127.0.0.1])
	by mails.dpdk.org (Postfix) with ESMTP id 62BCE402B1;
	Wed, 25 Jun 2025 09:25:24 +0200 (CEST)
Received: from mail-yb1-f226.google.com (mail-yb1-f226.google.com
 [209.85.219.226])
 by mails.dpdk.org (Postfix) with ESMTP id 7A2DA402B1
 for <test-report@dpdk.org>; Wed, 25 Jun 2025 09:25:23 +0200 (CEST)
Received: by mail-yb1-f226.google.com with SMTP id
 3f1490d57ef6-e7b4ba530feso5277976276.1
 for <test-report@dpdk.org>; Wed, 25 Jun 2025 00:25:23 -0700 (PDT)
DKIM-Signature: v=1; a=rsa-sha256; c=relaxed/relaxed;
 d=iol.unh.edu; s=unh-iol; t=1750836323; x=1751441123; darn=dpdk.org;
 h=references:in-reply-to:cc:to:from:subject:message-id:date:from:to
 :cc:subject:date:message-id:reply-to;
 bh=tkQk7L2Lu0qDy5tUZzAb2PWnxg+i7KiFcRi6XP8Xl4E=;
 b=Xf8lqLZnhfoz9udak8upZ8rF4N3FO+JAFIAyTbrT9OPskCIgysEXyBIP7+TYP+e93Z
 NpIx1YzbMkKzQUVpHYcrvV8JI7++lSnRIFiF6PO7gOPVOwjCyKgDEEkQU8VcpebPdkb+
 WhFADLKW6bCWLJU/g6YCRS2taKtsvMSeTgZsw=
X-Google-DKIM-Signature: v=1; a=rsa-sha256; c=relaxed/relaxed;
 d=1e100.net; s=20230601; t=1750836323; x=1751441123;
 h=references:in-reply-to:cc:to:from:subject:message-id:date
 :x-gm-message-state:from:to:cc:subject:date:message-id:reply-to;
 bh=tkQk7L2Lu0qDy5tUZzAb2PWnxg+i7KiFcRi6XP8Xl4E=;
 b=mfxi44/O1KBEEeTK+O/2iVwsFEfJp/SbKRlIW9Nr+Q9uL6GPikAXiR7DM5Kq0DUXL7
 dKky+1mInCjwUCgMTDxIl+UnTKkd2r7NRuaQNfkkAVVsTDIh6gzXGxamJD3yPF0xS/Ci
 05k8bP3aUHKHsc7qgXjGx/Qf+enTBgCtnfUlrOuyvesRHqrKasjmkhvKcN36Lvbu/Ghq
 aOVrt+i8BTXmvQxgmFFMTZT6Ei6wCRgpMS6eO7OTkAxFYPBVPRtQOIIzLn0jpGY4kQ9J
 UF+3/tFpWuX51xzPy11YUUuLFhTwN+kf4mLoATJCR1ovpQ135ix+hhI4k9S/v3RXcOkx
 eA+A==
X-Gm-Message-State: AOJu0Ywm6zRltZl80Kvcj9ZaUBXmcO0qp1w0Ky9iacG4E3pWzFkEeH7p
 kLvXtmqsof1kbkXsXCjYbhh1hiQgwIyBh+cI/GiUULJTb0wPaqW1LXFzuthRjrg2bABUGI7H8+M
 fJvdiSG0WquiYJO2FomC6tAP+ePl/YH72pw2FHVcsXayMFEqEiyI5GUSWYCJC
X-Gm-Gg: ASbGncuRlBDwH7iwHdh9/7gnAm8deoDfefxbaDuvejhHNWNbAQiksMcZUzVzGS9STmc
 znBYtcVj6sCv/x8eCJ0yP6bWF4y2ywYPPdwpUN3R5RQbjjETS2vXrJf35/n/n91J0kmrcErsG9X
 opsLlHZFpL6rh/G6/9SG5CGR6w7F68cVVuj3hpgarR83fE77FXFZ//z+ikBTIxhXfaBWaH74VB+
 q89yZa1oI73Aqv8P0W0E3NgklvTsRRnMYYyu2SHAZWdLEkLDqA1swglyRRYyE9fyeSFyZUqwgKE
 vFngn2ZhidQ8JN4iSB3ImRfxQv1KebIeRATnKQWWAlodpLI=
X-Google-Smtp-Source: AGHT+IEuKG3RYz38zEkIktoXfo1Yb2RJ773VgOqXzrM0edq3Q7DSRFRIztRFjevLTPCxCZmnuoLXlgeYzFuc
X-Received: by 2002:a05:6902:2191:b0:e84:ce8:135b with SMTP id
 3f1490d57ef6-e86017a5e28mr2450057276.44.1750836322663; 
 Wed, 25 Jun 2025 00:25:22 -0700 (PDT)
Received: from postal.iol.unh.edu (postal.iol.unh.edu.
 [2606:4100:3880:1234::84]) by smtp-relay.gmail.com with ESMTPS id
 3f1490d57ef6-e842aaedb02sm671376276.8.2025.06.25.00.25.22
 (version=TLS1_2 cipher=ECDHE-ECDSA-AES128-GCM-SHA256 bits=128/128);
 Wed, 25 Jun 2025 00:25:22 -0700 (PDT)
X-Relaying-Domain: iol.unh.edu
Date: Wed, 25 Jun 2025 00:25:22 -0700 (PDT)
Message-ID: <685ba462.250a0220.13b7cc.2405SMTPIN_ADDED_MISSING@mx.google.com>
Received: from [172.21.0.5] (unknown [172.18.0.240])
 by postal.iol.unh.edu (Postfix) with ESMTP id 5426F604D420;
 Wed, 25 Jun 2025 03:25:22 -0400 (EDT)
Subject: |WARNING| pw154670 [PATCH] [v2] cpp: Fix missing extern "C" closing 
From: dpdklab@iol.unh.edu
To: Test Report <test-report@dpdk.org>
Cc: dpdk-test-reports@iol.unh.edu
In-Reply-To: <20250624195810.2350988-1-edvard.fagerholm@gmail.com>
References: <20250624195810.2350988-1-edvard.fagerholm@gmail.com>
Content-Type: text/plain
X-BeenThere: test-report@dpdk.org
X-Mailman-Version: 2.1.29
Precedence: list
List-Id: automatic DPDK test reports <test-report.dpdk.org>
List-Unsubscribe: <https://mails.dpdk.org/options/test-report>,
 <mailto:test-report-request@dpdk.org?subject=unsubscribe>
List-Archive: <http://mails.dpdk.org/archives/test-report/>
List-Post: <mailto:test-report@dpdk.org>
List-Help: <mailto:test-report-request@dpdk.org?subject=help>
List-Subscribe: <https://mails.dpdk.org/listinfo/test-report>,
 <mailto:test-report-request@dpdk.org?subject=subscribe>
Errors-To: test-report-bounces@dpdk.org

Test-Label: iol-compile-amd64-testing
Test-Status: WARNING
http://dpdk.org/patch/154670

_Testing issues_

Submitter: Edvard Fagerholm <edvard.fagerholm@gmail.com>
Date: Tuesday, June 24 2025 19:58:10 
DPDK git baseline: Repo:dpdk
  Branch: master
  CommitID:6890ee7ba76e92745d6c61b3b6b9d757ebaaa89d

154670 --> testing issues

Upstream job id: Generic-DPDK-Compile-Meson#401587

Test environment and result as below:

+-------------------------------+--------------------+-------------------+-------------------------+----------------------+-------------------+------------------+
|          Environment          | dpdk_meson_compile | dpdk_msvc_compile | dpdk_llvm_clang_compile | dpdk_mingw64_compile | dpdk_compile_spdk | dpdk_compile_ovs |
+===============================+====================+===================+=========================+======================+===================+==================+
| Ubuntu 20.04                  | PASS               | SKIPPED           | SKIPPED                 | SKIPPED              | SKIPPED           | SKIPPED          |
+-------------------------------+--------------------+-------------------+-------------------------+----------------------+-------------------+------------------+
| CentOS Stream 9               | PASS               | SKIPPED           | SKIPPED                 | SKIPPED              | PASS              | SKIPPED          |
+-------------------------------+--------------------+-------------------+-------------------------+----------------------+-------------------+------------------+
| CentOS Stream 10              | PASS               | SKIPPED           | SKIPPED                 | SKIPPED              | SKIPPED           | SKIPPED          |
+-------------------------------+--------------------+-------------------+-------------------------+----------------------+-------------------+------------------+
| Debian GNU/Linux 12           | PASS               | SKIPPED           | SKIPPED                 | SKIPPED              | PASS              | SKIPPED          |
+-------------------------------+--------------------+-------------------+-------------------------+----------------------+-------------------+------------------+
| Fedora Linux 40               | PASS               | SKIPPED           | SKIPPED                 | SKIPPED              | PASS              | SKIPPED          |
+-------------------------------+--------------------+-------------------+-------------------------+----------------------+-------------------+------------------+
| Fedora Linux 41               | PASS               | SKIPPED           | SKIPPED                 | SKIPPED              | PASS              | PASS             |
+-------------------------------+--------------------+-------------------+-------------------------+----------------------+-------------------+------------------+
| openSUSE Leap 15.6            | PASS               | SKIPPED           | SKIPPED                 | SKIPPED              | SKIPPED           | SKIPPED          |
+-------------------------------+--------------------+-------------------+-------------------------+----------------------+-------------------+------------------+
| Red Hat Enterprise Linux 8.10 | PASS               | SKIPPED           | SKIPPED                 | SKIPPED              | SKIPPED           | SKIPPED          |
+-------------------------------+--------------------+-------------------+-------------------------+----------------------+-------------------+------------------+
| Red Hat Enterprise Linux 9.5  | PASS               | SKIPPED           | SKIPPED                 | SKIPPED              | SKIPPED           | SKIPPED          |
+-------------------------------+--------------------+-------------------+-------------------------+----------------------+-------------------+------------------+
| Ubuntu 22.04                  | PASS               | SKIPPED           | SKIPPED                 | SKIPPED              | PASS              | SKIPPED          |
+-------------------------------+--------------------+-------------------+-------------------------+----------------------+-------------------+------------------+
| Ubuntu 24.04                  | PASS               | SKIPPED           | SKIPPED                 | SKIPPED              | PASS              | PASS             |
+-------------------------------+--------------------+-------------------+-------------------------+----------------------+-------------------+------------------+
| Alpine Linux 3.22.0           | PASS               | SKIPPED           | SKIPPED                 | SKIPPED              | SKIPPED           | SKIPPED          |
+-------------------------------+--------------------+-------------------+-------------------------+----------------------+-------------------+------------------+
| Windows Server 2022           | SKIPPED            | PASS              | PASS                    | PASS                 | SKIPPED           | SKIPPED          |
+-------------------------------+--------------------+-------------------+-------------------------+----------------------+-------------------+------------------+


Ubuntu 20.04
	Kernel: 4.19
	Compiler: gcc gcc (Ubuntu 9.4.0-1ubuntu1~20.04.2) 9.4.0

CentOS Stream 9
	Kernel: 5.15
	Compiler: gcc gcc (GCC) 11.5.0 20240719 (Red Hat 11.5.0-7)

CentOS Stream 10
	Kernel: 5.15
	Compiler: gcc gcc (GCC) 14.2.1 20250110 (Red Hat 14.2.1-8)

Debian GNU/Linux 12
	Kernel: 5.15
	Compiler: gcc gcc (Debian 12.2.0-14+deb12u1) 12.2.0

Fedora Linux 40
	Kernel: 5.15
	Compiler: clang gcc (GCC) 14.2.1 20240912 (Red Hat 14.2.1-3)

Fedora Linux 41
	Kernel: 5.15
	Compiler: clang gcc (GCC) 14.3.1 20250523 (Red Hat 14.3.1-1)

openSUSE Leap 15.6
	Kernel: 5.15
	Compiler: gcc gcc (SUSE Linux) 7.5.0

Red Hat Enterprise Linux 8.10
	Kernel: 5.15
	Compiler: gcc gcc (GCC) 8.5.0 20210514 (Red Hat 8.5.0-22)

Red Hat Enterprise Linux 9.5
	Kernel: 5.15
	Compiler: gcc gcc (GCC) 11.5.0 20240719 (Red Hat 11.5.0-2)

Ubuntu 22.04
	Kernel: 5.15
	Compiler: gcc gcc (Ubuntu 11.4.0-1ubuntu1~22.04) 11.4.0

Ubuntu 24.04
	Kernel: 5.15
	Compiler: gcc gcc (Ubuntu 13.3.0-6ubuntu2~24.04) 13.3.0

Alpine Linux 3.22.0
	Kernel: 5.15
	Compiler: gcc gcc (Alpine 14.2.0) 14.2.0

Windows Server 2022
	Kernel: 10.0.20348.2031
	Compiler: clang 15.0.7, gcc 14.1.0 (MinGW), and MSVC VS 19.39.33521

To view detailed results, visit:
https://lab.dpdk.org/results/dashboard/patchsets/33494/

UNH-IOL DPDK Community Lab

To manage your email subscriptions, visit: 
https://lab.dpdk.org/results/dashboard/preferences/subscriptions/