From mboxrd@z Thu Jan  1 00:00:00 1970
Return-Path: <test-report-bounces@dpdk.org>
Received: from mails.dpdk.org (mails.dpdk.org [217.70.189.124])
	by inbox.dpdk.org (Postfix) with ESMTP id 347E746A51
	for <public@inbox.dpdk.org>; Wed, 25 Jun 2025 10:37:45 +0200 (CEST)
Received: from mails.dpdk.org (localhost [127.0.0.1])
	by mails.dpdk.org (Postfix) with ESMTP id 30061402B1;
	Wed, 25 Jun 2025 10:37:45 +0200 (CEST)
Received: from mail-qv1-f99.google.com (mail-qv1-f99.google.com
 [209.85.219.99]) by mails.dpdk.org (Postfix) with ESMTP id B9DB9402B1
 for <test-report@dpdk.org>; Wed, 25 Jun 2025 10:37:44 +0200 (CEST)
Received: by mail-qv1-f99.google.com with SMTP id
 6a1803df08f44-6facf4d8ea8so11574496d6.0
 for <test-report@dpdk.org>; Wed, 25 Jun 2025 01:37:44 -0700 (PDT)
DKIM-Signature: v=1; a=rsa-sha256; c=relaxed/relaxed;
 d=iol.unh.edu; s=unh-iol; t=1750840664; x=1751445464; darn=dpdk.org;
 h=references:in-reply-to:cc:to:from:subject:message-id:date:from:to
 :cc:subject:date:message-id:reply-to;
 bh=7J+5b0kD2OW73EMHzmSdgZ9KaKlQyUdyqwMNaNk4/YI=;
 b=iaNoPqCzsUq8ghtKEmzMFNiCyn7P6g5J4yg9TgPotPwokdCtqhw85oZRUFGLTJDwdy
 05XXYKVQIR2CWv8vyNsHG47mepWhU232nhPiYUP2wWY3A1ugeKzZQrZf549n5ZlNmVxd
 hJI6KBt/OTcdRf83V7TaWknrMryphvCGxhMUY=
X-Google-DKIM-Signature: v=1; a=rsa-sha256; c=relaxed/relaxed;
 d=1e100.net; s=20230601; t=1750840664; x=1751445464;
 h=references:in-reply-to:cc:to:from:subject:message-id:date
 :x-gm-message-state:from:to:cc:subject:date:message-id:reply-to;
 bh=7J+5b0kD2OW73EMHzmSdgZ9KaKlQyUdyqwMNaNk4/YI=;
 b=ASFv0dYX+PgcPEfRZSDfdad6vg/ozZdPfMWcY+abkJrBzb/7ORlJVsdE5pmDjfPlAe
 L8rflCZ7lnJ7nx40CvhzJi5LmRlANTU6BcIuuoj0fm12csF1YZD3+uXrj8VZx8GPdq57
 sBBsTXO3fyOc49OeFG+4cb6mKV+fMG6Sd03l3pBv0iKJ3BIa0uKNuTVBNiomnG8kNPu0
 GzaDtyVxifaW8gzNGyIcQOfiQyyReuTJPTCrWDy45wxJROpxIBFDgZe8nd4xNh8CWFFv
 998vShz2jEseG8/XYYtxzl6wmwWwov9AgnOuU5hQdnK06g8IAUYocC/hLdPk/qu7RY7q
 xLnQ==
X-Gm-Message-State: AOJu0Yy31BSTJPuDUjDRxCRMC8eKYnHTE4v1Zp9N6YatPDKPChyDsx7b
 qLRPcc/Xu+/Ao4lZvb3R+Q0i2aHGO/5XHMiSrUHZ9E9R9Y2+2ydiRn8FtniF53I0PH7SHSHAPUW
 rFNU7aQDOCpEnkrJgE12hYQjohGda2W/Kwii2OmRKUEKhQhZ8pa3ZUrB65wGj
X-Gm-Gg: ASbGnctjRK4/wE9Td2bCxeFieCzLuLX6i7z50uOK2r3lNnMtQ5D4jd4VgY5hrfnex5J
 59GaP/gsSKonfqv5I26Ua3eCcgtRsXh5xO4Tif+9nETEzqfeMBlmkllRXcZi2ui30JUsIILO7jI
 dVA2etIauN+13Yv1Lj9UR3LZjG19/0CFDV2q1gwbhu032gM2MvscEFvdYj8ykI7S/slQF+qX+oB
 tg4Ory2N8r675zlu7nLRAm8RsYUHet4H0X6lh7zJcOsONa8/zHVc85I6rSKInSANsoJCBOseUyW
 nCWWSn6ee5wBJvu9KaZrC1QOo6bUSrtDXZ6wYdV480n3pJQ=
X-Google-Smtp-Source: AGHT+IG6+u9cLA/MnFOjC/V7WDYobnYSyMIBQMmMwdlVQWHEa1fH/n7GZEVROhbvvACUumwIJji/TV9Mwosr
X-Received: by 2002:ad4:576a:0:b0:6fd:5cf4:cbb0 with SMTP id
 6a1803df08f44-6fd5ef81829mr31631026d6.25.1750840664163; 
 Wed, 25 Jun 2025 01:37:44 -0700 (PDT)
Received: from postal.iol.unh.edu (postal.iol.unh.edu.
 [2606:4100:3880:1234::84]) by smtp-relay.gmail.com with ESMTPS id
 6a1803df08f44-6fd0942adb1sm7029016d6.24.2025.06.25.01.37.44
 (version=TLS1_2 cipher=ECDHE-ECDSA-AES128-GCM-SHA256 bits=128/128);
 Wed, 25 Jun 2025 01:37:44 -0700 (PDT)
X-Relaying-Domain: iol.unh.edu
Date: Wed, 25 Jun 2025 01:37:44 -0700 (PDT)
Message-ID: <685bb558.050a0220.22e130.49bcSMTPIN_ADDED_MISSING@mx.google.com>
Received: from [172.21.0.7] (unknown [172.18.0.240])
 by postal.iol.unh.edu (Postfix) with ESMTP id DE8CA6051830;
 Wed, 25 Jun 2025 04:37:43 -0400 (EDT)
Subject: |SUCCESS| pw154611-154612 [PATCH] [3/3] test/crypto: fix RSA decrypt
From: dpdklab@iol.unh.edu
To: Test Report <test-report@dpdk.org>
Cc: dpdk-test-reports@iol.unh.edu
In-Reply-To: <20250620081921.2145-3-gmuthukrishn@marvell.com>
References: <20250620081921.2145-3-gmuthukrishn@marvell.com>
Content-Type: text/plain
X-BeenThere: test-report@dpdk.org
X-Mailman-Version: 2.1.29
Precedence: list
List-Id: automatic DPDK test reports <test-report.dpdk.org>
List-Unsubscribe: <https://mails.dpdk.org/options/test-report>,
 <mailto:test-report-request@dpdk.org?subject=unsubscribe>
List-Archive: <http://mails.dpdk.org/archives/test-report/>
List-Post: <mailto:test-report@dpdk.org>
List-Help: <mailto:test-report-request@dpdk.org?subject=help>
List-Subscribe: <https://mails.dpdk.org/listinfo/test-report>,
 <mailto:test-report-request@dpdk.org?subject=subscribe>
Errors-To: test-report-bounces@dpdk.org

Test-Label: iol-compile-arm64-testing
Test-Status: SUCCESS
http://dpdk.org/patch/154612

_Testing PASS RETEST #1_

Submitter: Gowrishankar Muthukrishnan <gmuthukrishn@marvell.com>
Date: Friday, June 20 2025 08:19:18 
DPDK git baseline: Repo:dpdk
  Branch: master
  CommitID:6890ee7ba76e92745d6c61b3b6b9d757ebaaa89d

154611-154612 --> testing pass

Upstream job id: Generic-DPDK-Compile-Meson#401515

Test environment and result as below:

+------------------------------+--------------------+
|         Environment          | dpdk_meson_compile |
+==============================+====================+
| Red Hat Enterprise Linux 9.5 | PASS               |
+------------------------------+--------------------+
| Ubuntu 20.04                 | PASS               |
+------------------------------+--------------------+
| Debian GNU/Linux 12          | PASS               |
+------------------------------+--------------------+
| Fedora Linux 40              | PASS               |
+------------------------------+--------------------+
| Fedora Linux 41              | PASS               |
+------------------------------+--------------------+
| Ubuntu 22.04                 | PASS               |
+------------------------------+--------------------+
| Ubuntu 24.04                 | PASS               |
+------------------------------+--------------------+
| CentOS Stream 9              | PASS               |
+------------------------------+--------------------+
| CentOS Stream 10             | PASS               |
+------------------------------+--------------------+


Red Hat Enterprise Linux 9.5
	Kernel: 5.4
	Compiler: gcc gcc (GCC) 11.5.0 20240719 (Red Hat 11.5.0-2)

Ubuntu 20.04
	Kernel: 5.15
	Compiler: aarch64-linux-gnu-gcc gcc (Ubuntu 9.4.0-1ubuntu1~20.04.2) 9.4.0

Debian GNU/Linux 12
	Kernel: 5.4
	Compiler: gcc gcc (Debian 12.2.0-14+deb12u1) 12.2.0

Fedora Linux 40
	Kernel: 5.4
	Compiler: gcc gcc (GCC) 14.2.1 20240912 (Red Hat 14.2.1-3)

Fedora Linux 41
	Kernel: 5.4
	Compiler: gcc gcc (GCC) 14.3.1 20250523 (Red Hat 14.3.1-1)

Ubuntu 22.04
	Kernel: 5.4
	Compiler: gcc gcc (Ubuntu 11.4.0-1ubuntu1~22.04) 11.4.0

Ubuntu 24.04
	Kernel: 5.4
	Compiler: gcc gcc (Ubuntu 13.3.0-6ubuntu2~24.04) 13.3.0

CentOS Stream 9
	Kernel: 5.4
	Compiler: gcc gcc (GCC) 11.5.0 20240719 (Red Hat 11.5.0-7)

CentOS Stream 10
	Kernel: 5.4
	Compiler: gcc gcc (GCC) 14.2.1 20250110 (Red Hat 14.2.1-8)

To view detailed results, visit:
https://lab.dpdk.org/results/dashboard/patchsets/33469/

UNH-IOL DPDK Community Lab

To manage your email subscriptions, visit: 
https://lab.dpdk.org/results/dashboard/preferences/subscriptions/