From mboxrd@z Thu Jan 1 00:00:00 1970 Return-Path: Received: from mails.dpdk.org (mails.dpdk.org [217.70.189.124]) by inbox.dpdk.org (Postfix) with ESMTP id 67D1146A54 for ; Wed, 25 Jun 2025 17:50:08 +0200 (CEST) Received: from mails.dpdk.org (localhost [127.0.0.1]) by mails.dpdk.org (Postfix) with ESMTP id 648124069D; Wed, 25 Jun 2025 17:50:08 +0200 (CEST) Received: from mail-il1-f228.google.com (mail-il1-f228.google.com [209.85.166.228]) by mails.dpdk.org (Postfix) with ESMTP id B64434069D for ; Wed, 25 Jun 2025 17:50:06 +0200 (CEST) Received: by mail-il1-f228.google.com with SMTP id e9e14a558f8ab-3dc9e7d10bdso21135755ab.2 for ; Wed, 25 Jun 2025 08:50:06 -0700 (PDT) DKIM-Signature: v=1; a=rsa-sha256; c=relaxed/relaxed; d=iol.unh.edu; s=unh-iol; t=1750866606; x=1751471406; darn=dpdk.org; h=references:in-reply-to:cc:to:from:subject:message-id:date:from:to :cc:subject:date:message-id:reply-to; bh=iS8Oeu0qnFtmwEpsyFAKQxiXj4cGGEtP3NvO/6Eny54=; b=DF5vfyA9PPkQ7fMR3QvDtrrX2dIhUNx0vU6eaVeu2tfmY8cVQsd1oFnNCObC7ktkgk FbucZAaFQpWIFdl7AQSr0HDk1oNntmL9tJlyyiGG9rsC1+1wWptTUfXtIbLttVGzgZQq yjTBSnNjwPGRFqBloNeaEk4NWGfkKY3ooVYLs= X-Google-DKIM-Signature: v=1; a=rsa-sha256; c=relaxed/relaxed; d=1e100.net; s=20230601; t=1750866606; x=1751471406; h=references:in-reply-to:cc:to:from:subject:message-id:date :x-gm-message-state:from:to:cc:subject:date:message-id:reply-to; bh=iS8Oeu0qnFtmwEpsyFAKQxiXj4cGGEtP3NvO/6Eny54=; b=aWEPGVPzerxwGVfYSQrO4RKP9Mw64/DG38QGnF93UgMV6GgA/NQqfe8s66gHm+vALs GbLJ4YC3JiQ/7/eqOl+N7IWUErlnCWAxrshrpOTHDE911RAI+8JR+sysl5qbJ1RIlZz9 kGI9LnORVp3unmAcpk1NtL0HOqbUr4DckWVWpGcoL1XRMOQCmmU+7SG+ZXTZmGPccasv tsSpZptnKdnLdPfUv+ENr8D+zSa4jW4NFMPjqYGQKdlxvNgluBbB0mBggXEF0v/ndPCy YyvGsH0DGqss8PsGt4ekIiXas/QOSACfG6gQkOcj6h2hcn7z8MxxMV+ycLEo9H4WUpct XRww== X-Gm-Message-State: AOJu0Yy2V+0Hc/E8op7du2oFtASMocGKx0QxNTv9eq8/UW4la9L4kaVB WjRbh4FNYVLNGXJujPFjM//aBu5MvNjv5ADOqW9XMpmcioOSz6c1VObZowLkvZdNTMHKBalqwnH R5ZBHUNPLzRdVX6kYFIuKNP1HUAAzJtb4DxtG1PvAM5vj X-Gm-Gg: ASbGnctLfARDoY29N9LPg13aTqvzOKKl6b5TVJbRReQztwGdIJMb7nr5yyODI+Rq9MN XV2UFEQktUQfM8OBcw3qhvDQAsYcUrhYM5KFRauNqSP8x/WdpwXHh0zoCAWqSRAcuSd4vyufT9W yFdY1rCxNr2/CvHEunZFOiVmyHi0zjeY2qgcEMOf8JikqQFh2cqlorjJf+3rAGnzZ2HR3WHa4Ru k81ujvrdMnfMBgpHv2mQk/hbzhzc1EhdBv6Jb1bn/JItL0zR0UxrTKpceccJEar5rRetllzyGHQ w+1y1aqlEUB3aCfmRiyn7MjQkuAcr7f4fNAa+s6wUUjycaNGzt1Sx0qyOoY3GtqVTTLBbQ== X-Google-Smtp-Source: AGHT+IEebaH6WUnHnZ+EQGg6SRaGn8USALS97EirQbpCD0iG6Iex/aDpxiYrJtVKrX6O8/q3MspH48G9bPw7 X-Received: by 2002:a05:6e02:1806:b0:3dd:d6d5:2d03 with SMTP id e9e14a558f8ab-3df3299f908mr46251915ab.11.1750866605971; Wed, 25 Jun 2025 08:50:05 -0700 (PDT) Received: from postal.iol.unh.edu (postal.iol.unh.edu. [132.177.123.84]) by smtp-relay.gmail.com with ESMTPS id e9e14a558f8ab-3de37627f80sm8287145ab.17.2025.06.25.08.50.05 (version=TLS1_2 cipher=ECDHE-ECDSA-AES128-GCM-SHA256 bits=128/128); Wed, 25 Jun 2025 08:50:05 -0700 (PDT) X-Relaying-Domain: iol.unh.edu Date: Wed, 25 Jun 2025 08:50:05 -0700 (PDT) Message-ID: <685c1aad.050a0220.d0f01.a5a4SMTPIN_ADDED_MISSING@mx.google.com> Received: from [172.21.0.5] (unknown [172.18.0.240]) by postal.iol.unh.edu (Postfix) with ESMTP id A075D604D420; Wed, 25 Jun 2025 11:50:05 -0400 (EDT) Subject: |SUCCESS| pw154697 [PATCH] [v3] lib/graph: lib/graph: fix memset wit From: dpdklab@iol.unh.edu To: Test Report Cc: dpdk-test-reports@iol.unh.edu In-Reply-To: <20250625092722.70938-1-marat.khalili@huawei.com> References: <20250625092722.70938-1-marat.khalili@huawei.com> Content-Type: text/plain X-BeenThere: test-report@dpdk.org X-Mailman-Version: 2.1.29 Precedence: list List-Id: automatic DPDK test reports List-Unsubscribe: , List-Archive: List-Post: List-Help: List-Subscribe: , Errors-To: test-report-bounces@dpdk.org Test-Label: iol-abi-testing Test-Status: SUCCESS http://dpdk.org/patch/154697 _Testing PASS_ Submitter: Marat Khalili Date: Wednesday, June 25 2025 09:27:21 DPDK git baseline: Repo:dpdk Branch: master CommitID:6890ee7ba76e92745d6c61b3b6b9d757ebaaa89d 154697 --> testing pass Upstream job id: Generic-DPDK-Compile-ABI#131694 Test environment and result as below: +-------------------------------+----------+ | Environment | abi_test | +===============================+==========+ | CentOS Stream 9 | PASS | +-------------------------------+----------+ | CentOS Stream 10 | PASS | +-------------------------------+----------+ | Debian GNU/Linux 12 | PASS | +-------------------------------+----------+ | Fedora Linux 41 | PASS | +-------------------------------+----------+ | Fedora Linux 40 | PASS | +-------------------------------+----------+ | Red Hat Enterprise Linux 9.5 | PASS | +-------------------------------+----------+ | openSUSE Leap 15.6 | PASS | +-------------------------------+----------+ | Red Hat Enterprise Linux 8.10 | PASS | +-------------------------------+----------+ | Ubuntu 22.04 | PASS | +-------------------------------+----------+ | Ubuntu 24.04 | PASS | +-------------------------------+----------+ CentOS Stream 9 Kernel: 5.15 Compiler: gcc gcc (GCC) 11.5.0 20240719 (Red Hat 11.5.0-7) CentOS Stream 10 Kernel: 5.15 Compiler: gcc gcc (GCC) 14.2.1 20250110 (Red Hat 14.2.1-8) Debian GNU/Linux 12 Kernel: 5.15 Compiler: gcc gcc (Debian 12.2.0-14+deb12u1) 12.2.0 Fedora Linux 41 Kernel: 5.15 Compiler: clang gcc (GCC) 14.3.1 20250523 (Red Hat 14.3.1-1) Fedora Linux 40 Kernel: 5.15 Compiler: gcc gcc (GCC) 14.2.1 20240912 (Red Hat 14.2.1-3) Red Hat Enterprise Linux 9.5 Kernel: 5.15 Compiler: gcc gcc (GCC) 11.5.0 20240719 (Red Hat 11.5.0-2) openSUSE Leap 15.6 Kernel: 5.15 Compiler: gcc gcc (SUSE Linux) 7.5.0 Red Hat Enterprise Linux 8.10 Kernel: 5.15 Compiler: gcc gcc (GCC) 8.5.0 20210514 (Red Hat 8.5.0-22) Ubuntu 22.04 Kernel: 5.15 Compiler: gcc gcc (Ubuntu 11.4.0-1ubuntu1~22.04) 11.4.0 Ubuntu 24.04 Kernel: 5.15 Compiler: gcc gcc (Ubuntu 13.3.0-6ubuntu2~24.04) 13.3.0 To view detailed results, visit: https://lab.dpdk.org/results/dashboard/patchsets/33497/ UNH-IOL DPDK Community Lab To manage your email subscriptions, visit: https://lab.dpdk.org/results/dashboard/preferences/subscriptions/