From mboxrd@z Thu Jan  1 00:00:00 1970
Return-Path: <test-report-bounces@dpdk.org>
Received: from mails.dpdk.org (mails.dpdk.org [217.70.189.124])
	by inbox.dpdk.org (Postfix) with ESMTP id 4CD2E46A46
	for <public@inbox.dpdk.org>; Wed, 25 Jun 2025 20:58:45 +0200 (CEST)
Received: from mails.dpdk.org (localhost [127.0.0.1])
	by mails.dpdk.org (Postfix) with ESMTP id 34F5B402F2;
	Wed, 25 Jun 2025 20:58:45 +0200 (CEST)
Received: from mail-qv1-f97.google.com (mail-qv1-f97.google.com
 [209.85.219.97]) by mails.dpdk.org (Postfix) with ESMTP id 94AE74029E
 for <test-report@dpdk.org>; Wed, 25 Jun 2025 20:58:43 +0200 (CEST)
Received: by mail-qv1-f97.google.com with SMTP id
 6a1803df08f44-6fabe9446a0so3323126d6.2
 for <test-report@dpdk.org>; Wed, 25 Jun 2025 11:58:43 -0700 (PDT)
DKIM-Signature: v=1; a=rsa-sha256; c=relaxed/relaxed;
 d=iol.unh.edu; s=unh-iol; t=1750877923; x=1751482723; darn=dpdk.org;
 h=references:in-reply-to:cc:to:from:subject:message-id:date:from:to
 :cc:subject:date:message-id:reply-to;
 bh=H7jgEmoX61LWSUoXBfFlQ4Avxnc878d4fBDztecZ6dM=;
 b=K6MDVwhBwJV5bfiwtkYIHZY0K5Hc/m8XYnEp8xdQAKHmnV3Us+3KapUmaHGTacapWV
 ERyAkJT9hPy6ZLSIare+c/2WSWmtUYQD24yBwjsQKAxOf5VRY6tvXe1XbiT+FUSRFNVg
 WDOFQnOp8dexJV+gnjXo0VcfdOwkbZENRe+5I=
X-Google-DKIM-Signature: v=1; a=rsa-sha256; c=relaxed/relaxed;
 d=1e100.net; s=20230601; t=1750877923; x=1751482723;
 h=references:in-reply-to:cc:to:from:subject:message-id:date
 :x-gm-message-state:from:to:cc:subject:date:message-id:reply-to;
 bh=H7jgEmoX61LWSUoXBfFlQ4Avxnc878d4fBDztecZ6dM=;
 b=g7gLsZRd5G1IclviL1PG97+96RHmAF1ZxzPLCWieCh1UBnowBet5arFHaeOC4aa3xS
 6qL1b6nMVl5RyIfP8HSKq9q3D1D4pIhr1n7mMoYBLIxFY6wBIdgA/LXaWNixr4WPek8H
 /caCUCyTWdffYeRum1dPnBkJjlpLBXfMALc1jfBZ5GDLOLqdZVD4uj2ZNwKacs1g0yAr
 5iW3bkNb5g5SwrYhRvtWh0XipV9UiKUAK6bBAiJ0w67ftK6592ep1orxh3dfASL7sT9v
 46X7D6XIVFDl33pURMqa/HY1+txoxJp5QxM4nA55RJowgK9ZU+PbWMuR/7VpXJUj4yHQ
 Uvmg==
X-Gm-Message-State: AOJu0YyusGab66Xb1RMuw8nV1nfEHSFTdi1/s+/RH9B8Bo0n7V8iOLlK
 jykyRW4crjFibjLQaTJEUQCa80RKzFDe5Qr8xWoc+vj5pFLs2YI/mE+w5BjcNhqZHKxBsh5FQRh
 zmaJ5GepMJY2sv+6zChnTbO/o/ZyTNGRYv2K/G2EoekRTH5/xHBT9lNE14neh
X-Gm-Gg: ASbGnctmNB+oJ01dv7INC2jl+yLiviHNCvkv+n5lxzK/XThEAKD4AiWcpfTMN7bO/YF
 MMA3RSJQMVUCSft4O6e/WnxpT4bNuBwuNfD/ubQumecvYHdp4TcF/z+DLwnisS0cOxWXgX8rfmE
 Zb/fnjUlO9P079FjvlmX/RgkczXXD17fFy7FFe4CvUoMzuejKM6bJ4rXFL3cqpI3dyAPdOENd34
 hzja8eHRa+P+1y5qs1YulNoWHu5/GXEdFrZYq6oPucgYVQSlKJS/lk3+9IwBWir1jT2hJQM3eOx
 DBVCyY+bmbhylolX1u3za7SNTPdM6w5gZrvlqNyUZhp2RCQ=
X-Google-Smtp-Source: AGHT+IHRRQUz8m1bszmAUVEZwbQvrYVdWaSROPjv7wIzp8DcFwjuTSSVG7WmTsspGLy2Vt9WS33jvpjmwWoK
X-Received: by 2002:a05:6214:cc1:b0:6fa:b9e9:e799 with SMTP id
 6a1803df08f44-6fd5ef802afmr49528056d6.24.1750877922960; 
 Wed, 25 Jun 2025 11:58:42 -0700 (PDT)
Received: from postal.iol.unh.edu (postal.iol.unh.edu.
 [2606:4100:3880:1234::84]) by smtp-relay.gmail.com with ESMTPS id
 6a1803df08f44-6fd093de879sm7196226d6.7.2025.06.25.11.58.42
 (version=TLS1_2 cipher=ECDHE-ECDSA-AES128-GCM-SHA256 bits=128/128);
 Wed, 25 Jun 2025 11:58:42 -0700 (PDT)
X-Relaying-Domain: iol.unh.edu
Date: Wed, 25 Jun 2025 11:58:42 -0700 (PDT)
Message-ID: <685c46e2.d40a0220.149f01.5519SMTPIN_ADDED_MISSING@mx.google.com>
Received: from [172.21.0.14] (unknown [172.18.0.240])
 by postal.iol.unh.edu (Postfix) with ESMTP id 9C249604D420;
 Wed, 25 Jun 2025 14:58:42 -0400 (EDT)
Subject: |SUCCESS| pw154689-154696 [PATCH] [v5,8/8] lib/pmu: fix out-of-bound
From: dpdklab@iol.unh.edu
To: Test Report <test-report@dpdk.org>
Cc: dpdk-test-reports@iol.unh.edu
In-Reply-To: <20250625044730.2435526-9-tduszynski@marvell.com>
References: <20250625044730.2435526-9-tduszynski@marvell.com>
Content-Type: text/plain
X-BeenThere: test-report@dpdk.org
X-Mailman-Version: 2.1.29
Precedence: list
List-Id: automatic DPDK test reports <test-report.dpdk.org>
List-Unsubscribe: <https://mails.dpdk.org/options/test-report>,
 <mailto:test-report-request@dpdk.org?subject=unsubscribe>
List-Archive: <http://mails.dpdk.org/archives/test-report/>
List-Post: <mailto:test-report@dpdk.org>
List-Help: <mailto:test-report-request@dpdk.org?subject=help>
List-Subscribe: <https://mails.dpdk.org/listinfo/test-report>,
 <mailto:test-report-request@dpdk.org?subject=subscribe>
Errors-To: test-report-bounces@dpdk.org

Test-Label: iol-compile-arm64-testing
Test-Status: SUCCESS
http://dpdk.org/patch/154696

_Testing PASS_

Submitter: Tomasz Duszynski <tduszynski@marvell.com>
Date: Wednesday, June 25 2025 04:47:30 
DPDK git baseline: Repo:dpdk
  Branch: master
  CommitID:6890ee7ba76e92745d6c61b3b6b9d757ebaaa89d

154689-154696 --> testing pass

Upstream job id: Generic-DPDK-Compile-Meson#401751

Test environment and result as below:

+------------------------------+--------------------+
|         Environment          | dpdk_meson_compile |
+==============================+====================+
| Red Hat Enterprise Linux 9.5 | PASS               |
+------------------------------+--------------------+
| Ubuntu 20.04                 | PASS               |
+------------------------------+--------------------+
| Debian GNU/Linux 12          | PASS               |
+------------------------------+--------------------+
| Fedora Linux 40              | PASS               |
+------------------------------+--------------------+
| Fedora Linux 41              | PASS               |
+------------------------------+--------------------+
| Ubuntu 22.04                 | PASS               |
+------------------------------+--------------------+
| Ubuntu 24.04                 | PASS               |
+------------------------------+--------------------+
| CentOS Stream 9              | PASS               |
+------------------------------+--------------------+
| CentOS Stream 10             | PASS               |
+------------------------------+--------------------+


Red Hat Enterprise Linux 9.5
	Kernel: 5.4
	Compiler: gcc gcc (GCC) 11.5.0 20240719 (Red Hat 11.5.0-2)

Ubuntu 20.04
	Kernel: 5.4
	Compiler: gcc gcc (Ubuntu 9.4.0-1ubuntu1~20.04.2) 9.4.0

Debian GNU/Linux 12
	Kernel: 5.4
	Compiler: gcc gcc (Debian 12.2.0-14+deb12u1) 12.2.0

Fedora Linux 40
	Kernel: 5.4
	Compiler: gcc gcc (GCC) 14.2.1 20240912 (Red Hat 14.2.1-3)

Fedora Linux 41
	Kernel: 5.4
	Compiler: gcc gcc (GCC) 14.3.1 20250523 (Red Hat 14.3.1-1)

Ubuntu 22.04
	Kernel: 5.4
	Compiler: gcc gcc (Ubuntu 11.4.0-1ubuntu1~22.04) 11.4.0

Ubuntu 24.04
	Kernel: 5.4
	Compiler: gcc gcc (Ubuntu 13.3.0-6ubuntu2~24.04) 13.3.0

CentOS Stream 9
	Kernel: 5.4
	Compiler: gcc gcc (GCC) 11.5.0 20240719 (Red Hat 11.5.0-7)

CentOS Stream 10
	Kernel: 5.4
	Compiler: gcc gcc (GCC) 14.2.1 20250110 (Red Hat 14.2.1-8)

To view detailed results, visit:
https://lab.dpdk.org/results/dashboard/patchsets/33496/

UNH-IOL DPDK Community Lab

To manage your email subscriptions, visit: 
https://lab.dpdk.org/results/dashboard/preferences/subscriptions/