From mboxrd@z Thu Jan  1 00:00:00 1970
Return-Path: <test-report-bounces@dpdk.org>
Received: from mails.dpdk.org (mails.dpdk.org [217.70.189.124])
	by inbox.dpdk.org (Postfix) with ESMTP id EBD6746A57
	for <public@inbox.dpdk.org>; Wed, 25 Jun 2025 23:12:34 +0200 (CEST)
Received: from mails.dpdk.org (localhost [127.0.0.1])
	by mails.dpdk.org (Postfix) with ESMTP id DA1094065D;
	Wed, 25 Jun 2025 23:12:34 +0200 (CEST)
Received: from mail-pl1-f228.google.com (mail-pl1-f228.google.com
 [209.85.214.228])
 by mails.dpdk.org (Postfix) with ESMTP id 616504065D
 for <test-report@dpdk.org>; Wed, 25 Jun 2025 23:12:34 +0200 (CEST)
Received: by mail-pl1-f228.google.com with SMTP id
 d9443c01a7336-23636167afeso3961685ad.3
 for <test-report@dpdk.org>; Wed, 25 Jun 2025 14:12:34 -0700 (PDT)
DKIM-Signature: v=1; a=rsa-sha256; c=relaxed/relaxed;
 d=iol.unh.edu; s=unh-iol; t=1750885953; x=1751490753; darn=dpdk.org;
 h=references:in-reply-to:cc:to:from:subject:message-id:date:from:to
 :cc:subject:date:message-id:reply-to;
 bh=a2qjlkSEXoqsCDYfRlCg0f8V5GhHHwRJq00HglJ0p6w=;
 b=HvHgX5TfaGAcgMa2OAMFKFHXrDZOSAQKpS7Cg2xuhIoyBLdhQes8IYLMzLff/4YUOd
 zrngJotRVOBMc7U5wqMT3XjaG/miBC9nU31LjvBmN+l1E0Ny4Oa5v9q7cqUj2WC0JTMR
 rI1KsN3J1+gmRNbPZuqAD7kRko4+WvBi2Y6So=
X-Google-DKIM-Signature: v=1; a=rsa-sha256; c=relaxed/relaxed;
 d=1e100.net; s=20230601; t=1750885953; x=1751490753;
 h=references:in-reply-to:cc:to:from:subject:message-id:date
 :x-gm-message-state:from:to:cc:subject:date:message-id:reply-to;
 bh=a2qjlkSEXoqsCDYfRlCg0f8V5GhHHwRJq00HglJ0p6w=;
 b=OY5Rk3dJMU3ZKo22MKVq4+vXN3XnCqXLLu672vHmX0ayd+ePr43ovxNnktOWhheU1S
 wxD6qiEjPp+Ah3nbbT+1iPo0TpH4QEW98rUA7NxsT2hocTfn8thDKE0kF+l5bRz9UJ4l
 MSZAIScaaYXpTJReSm+7ab24kcIZ8G5zVVEt2TRQAaq2LLD11gtPpjNwE9oONoi0XDYE
 avGSncCtCNAdekTsAy4RGtnPkfJkKSz/qEoKjq9QNK9g+9xNTeQ+vBOk/qUYcYJwgf96
 HJt4TiE3EPqZhPxr014b5B79zEuhMwiesfzcJYsn3jdrD+z1P8uXv9/QlGX9ICh4S+ak
 UAeg==
X-Gm-Message-State: AOJu0Yy9f1eiLwOzp1LULllSjjU2p/mSa+VW0IG13KJluAvgv1EZ0vbg
 kDil3Ai+FqwrQWVeszfBopQawMqgYOxo2S41n5uI3ug98AW2l7+YjKTBcH+b4F9N+g0VGuR/iCq
 mDbN8hsj9at38UI7a971vjfAD1iAkhBqIpipZqcdnPhdZ
X-Gm-Gg: ASbGncsgiQwD3lzG/87kgr69f3g7MpcLd7F7nUTLBBzrrdQzl8whvzqoJhbtEzbC9Ls
 xS6TviJw5MvX9fTrZWodNt2P33FqKdRtNw+jTCde/3D8+qM6Co6vAuUpZ3Ff1gPt7p13ZtHiK/P
 FjGU8LpcO8HP0fBWGhZ5WrJNboKBHchbhjVk1KyemvLpv7rrZNCuXIANw5vavazupOYrGejEEdF
 wQGovwNGzyXZuz4T/d86En6Tu/0QnnYBV92yJ4QjlCtLVtOV7Q3NC8v55p3i+Ng/0jlRoUGT2o5
 yScdDHQS08V9S7iwZ5yM4p24ddOPO3iw/x1aoHmAI9680Nl+GUAszv08v5QxZxHBnBPA7w==
X-Google-Smtp-Source: AGHT+IEvX3gUogtgUi6aVsmXe1Z6gL8bmHRExcNi/MethN2HPJnHXQfAaDuBuoZmxIhjaS/hY7tEQ5CW1KTB
X-Received: by 2002:a17:902:c946:b0:234:a139:120a with SMTP id
 d9443c01a7336-2382403e052mr75966475ad.32.1750885953340; 
 Wed, 25 Jun 2025 14:12:33 -0700 (PDT)
Received: from postal.iol.unh.edu (postal.iol.unh.edu. [132.177.123.84])
 by smtp-relay.gmail.com with ESMTPS id
 d9443c01a7336-237d82e9832sm7953145ad.9.2025.06.25.14.12.33
 (version=TLS1_2 cipher=ECDHE-ECDSA-AES128-GCM-SHA256 bits=128/128);
 Wed, 25 Jun 2025 14:12:33 -0700 (PDT)
X-Relaying-Domain: iol.unh.edu
Date: Wed, 25 Jun 2025 14:12:33 -0700 (PDT)
Message-ID: <685c6641.170a0220.1422f2.a3c4SMTPIN_ADDED_MISSING@mx.google.com>
Received: from [172.21.0.6] (unknown [172.18.0.240])
 by postal.iol.unh.edu (Postfix) with ESMTP id B80946051830;
 Wed, 25 Jun 2025 17:12:32 -0400 (EDT)
Subject: |SUCCESS| pw154659-154665 [PATCH] [v4,7/7] lib/pmu: fix out-of-bound
From: dpdklab@iol.unh.edu
To: Test Report <test-report@dpdk.org>
Cc: dpdk-test-reports@iol.unh.edu
In-Reply-To: <20250624122930.1783177-8-tduszynski@marvell.com>
References: <20250624122930.1783177-8-tduszynski@marvell.com>
Content-Type: text/plain
X-BeenThere: test-report@dpdk.org
X-Mailman-Version: 2.1.29
Precedence: list
List-Id: automatic DPDK test reports <test-report.dpdk.org>
List-Unsubscribe: <https://mails.dpdk.org/options/test-report>,
 <mailto:test-report-request@dpdk.org?subject=unsubscribe>
List-Archive: <http://mails.dpdk.org/archives/test-report/>
List-Post: <mailto:test-report@dpdk.org>
List-Help: <mailto:test-report-request@dpdk.org?subject=help>
List-Subscribe: <https://mails.dpdk.org/listinfo/test-report>,
 <mailto:test-report-request@dpdk.org?subject=subscribe>
Errors-To: test-report-bounces@dpdk.org

Test-Label: iol-abi-testing
Test-Status: SUCCESS
http://dpdk.org/patch/154665

_Testing PASS_

Submitter: Tomasz Duszynski <tduszynski@marvell.com>
Date: Tuesday, June 24 2025 12:29:30 
DPDK git baseline: Repo:dpdk
  Branch: master
  CommitID:6890ee7ba76e92745d6c61b3b6b9d757ebaaa89d

154659-154665 --> testing pass

Upstream job id: Generic-DPDK-Compile-ABI#131743

Test environment and result as below:

+-------------------------------+----------+
|          Environment          | abi_test |
+===============================+==========+
| CentOS Stream 9               | PASS     |
+-------------------------------+----------+
| CentOS Stream 10              | PASS     |
+-------------------------------+----------+
| Debian GNU/Linux 12           | PASS     |
+-------------------------------+----------+
| Fedora Linux 40               | PASS     |
+-------------------------------+----------+
| Fedora Linux 41               | PASS     |
+-------------------------------+----------+
| Ubuntu 22.04                  | PASS     |
+-------------------------------+----------+
| openSUSE Leap 15.6            | PASS     |
+-------------------------------+----------+
| Red Hat Enterprise Linux 8.10 | PASS     |
+-------------------------------+----------+
| Red Hat Enterprise Linux 9.5  | PASS     |
+-------------------------------+----------+
| Ubuntu 24.04                  | PASS     |
+-------------------------------+----------+


CentOS Stream 9
	Kernel: 5.15
	Compiler: gcc gcc (GCC) 11.5.0 20240719 (Red Hat 11.5.0-7)

CentOS Stream 10
	Kernel: 5.15
	Compiler: gcc gcc (GCC) 14.2.1 20250110 (Red Hat 14.2.1-8)

Debian GNU/Linux 12
	Kernel: 5.15
	Compiler: gcc gcc (Debian 12.2.0-14+deb12u1) 12.2.0

Fedora Linux 40
	Kernel: 5.15
	Compiler: clang gcc (GCC) 14.2.1 20240912 (Red Hat 14.2.1-3)

Fedora Linux 41
	Kernel: 5.15
	Compiler: clang gcc (GCC) 14.3.1 20250523 (Red Hat 14.3.1-1)

Ubuntu 22.04
	Kernel: 5.15
	Compiler: gcc gcc (Ubuntu 11.4.0-1ubuntu1~22.04) 11.4.0

openSUSE Leap 15.6
	Kernel: 5.15
	Compiler: gcc gcc (SUSE Linux) 7.5.0

Red Hat Enterprise Linux 8.10
	Kernel: 5.15
	Compiler: gcc gcc (GCC) 8.5.0 20210514 (Red Hat 8.5.0-22)

Red Hat Enterprise Linux 9.5
	Kernel: 5.15
	Compiler: gcc gcc (GCC) 11.5.0 20240719 (Red Hat 11.5.0-2)

Ubuntu 24.04
	Kernel: 5.15
	Compiler: gcc gcc (Ubuntu 13.3.0-6ubuntu2~24.04) 13.3.0

To view detailed results, visit:
https://lab.dpdk.org/results/dashboard/patchsets/33490/

UNH-IOL DPDK Community Lab

To manage your email subscriptions, visit: 
https://lab.dpdk.org/results/dashboard/preferences/subscriptions/