From mboxrd@z Thu Jan  1 00:00:00 1970
Return-Path: <test-report-bounces@dpdk.org>
Received: from mails.dpdk.org (mails.dpdk.org [217.70.189.124])
	by inbox.dpdk.org (Postfix) with ESMTP id C82DD46A5A
	for <public@inbox.dpdk.org>; Thu, 26 Jun 2025 02:10:38 +0200 (CEST)
Received: from mails.dpdk.org (localhost [127.0.0.1])
	by mails.dpdk.org (Postfix) with ESMTP id A3B394066E;
	Thu, 26 Jun 2025 02:10:38 +0200 (CEST)
Received: from mail-yb1-f226.google.com (mail-yb1-f226.google.com
 [209.85.219.226])
 by mails.dpdk.org (Postfix) with ESMTP id 46DBC4066E
 for <test-report@dpdk.org>; Thu, 26 Jun 2025 02:10:37 +0200 (CEST)
Received: by mail-yb1-f226.google.com with SMTP id
 3f1490d57ef6-e731a56e111so377333276.1
 for <test-report@dpdk.org>; Wed, 25 Jun 2025 17:10:37 -0700 (PDT)
DKIM-Signature: v=1; a=rsa-sha256; c=relaxed/relaxed;
 d=iol.unh.edu; s=unh-iol; t=1750896636; x=1751501436; darn=dpdk.org;
 h=references:in-reply-to:cc:to:from:subject:message-id:date:from:to
 :cc:subject:date:message-id:reply-to;
 bh=0YlvzK4M5aJ9cMd42JFqhl8uvWfN1dtMqnJF+wA33gU=;
 b=H2acWoIXhvlq2sD+mUssSovAUU5uZDLVHHDAa4BdH2LRN4+DNL6WvaF5hXuqu1LWwI
 9Mz4C7eE6cyeYia35FyTufhyU+cmB1sIehdZs8zir8XtVAJOYNsg2jpTT64qtxeRqqML
 oQtXLl/ZMJtyW3CzEfccFB/q2QCpGOKPDW670=
X-Google-DKIM-Signature: v=1; a=rsa-sha256; c=relaxed/relaxed;
 d=1e100.net; s=20230601; t=1750896636; x=1751501436;
 h=references:in-reply-to:cc:to:from:subject:message-id:date
 :x-gm-message-state:from:to:cc:subject:date:message-id:reply-to;
 bh=0YlvzK4M5aJ9cMd42JFqhl8uvWfN1dtMqnJF+wA33gU=;
 b=duQjs39K2VJ6sUm53mmFucqkrZD5cOCQGKeutNQDZs7TCoRPvCXQWnKqTPBXoD48/4
 LJJWBM/uyVSN2zTDmwEodkG9xAndyXu+D/imDjrdF3JM+RNq9zplv73b0uL6z705TDNn
 CfZ3iNWgIPWBZb6pT7yT8onDidbWAHSjurcs3hyGxM6L075P9QbmsV0rdvJZQRhSDtoH
 sohQId7YxGTHsvjJ7Bvg8I2XZPbcU2YjTaUy96fxDbEwVIk0jBHoBr7poML/HZ4OutuQ
 FBpfagTL0Ah+A12hxEiOa8eU/1tsIpr/l8SwYOd3GFoPq9f1ylxyycBOQ/ElaTGsaf31
 c+2A==
X-Gm-Message-State: AOJu0YyZTaG/10iGc9VC/V9I61wcqNrD97jDGL+/ZctNLpDmIX1aN/nW
 Tf7K7Bs198uEmmi/VHNbxcvhP76pkDxY7ZBqNPTkRaWA5dUJbGzxdO4javAJPIS8D5RDi2wJoPU
 AyoaGkraDMw61weU/2A0XefF/xSaadnICaOW3L+ynyiX3dVEVswspDcPdjAw7
X-Gm-Gg: ASbGncuacOeRK5314pU7Lw9fN029tkmIFFkjKPjZMRqHWZ7hnivdWloYRmo+VTKYwLa
 9sz5Q07jdLi46KgzzA/GPY9A+S6bcaOlNwtjVZ8z5ew0WEN1Ag61+mAMhZpPD9zH1oBt6OfboUS
 hdRomnrqVYbCJlWT3IWsoJX+TEwcb01OcTHXCwHJX15x1INLlL+tle64Iu4FSdp1ADe0D1eeS4k
 XD4PN0ECNdaMk2A4tRk5F67mAJxqee1iD4Vafo8FBtPUr0hTk6sWUQofQTya155g7Gfk8WbKbjX
 996WcotHJNwn5vJkJRHfR8wHVKO/ysf9IXg7B2SV2duqJz0=
X-Google-Smtp-Source: AGHT+IF5urUD+0vz9ZGWgFwzVpbkmfVz8lUKrUAm/IjugZ56XKhNZJtE4lerpnzeNgwmY37y9/mE8+Su3Hkb
X-Received: by 2002:a05:690c:6105:b0:708:f6d:b79f with SMTP id
 00721157ae682-71406dd3a41mr71292237b3.29.1750896636472; 
 Wed, 25 Jun 2025 17:10:36 -0700 (PDT)
Received: from postal.iol.unh.edu (postal.iol.unh.edu.
 [2606:4100:3880:1234::84]) by smtp-relay.gmail.com with ESMTPS id
 00721157ae682-712c49ed20csm5458347b3.6.2025.06.25.17.10.36
 (version=TLS1_2 cipher=ECDHE-ECDSA-AES128-GCM-SHA256 bits=128/128);
 Wed, 25 Jun 2025 17:10:36 -0700 (PDT)
X-Relaying-Domain: iol.unh.edu
Date: Wed, 25 Jun 2025 17:10:36 -0700 (PDT)
Message-ID: <685c8ffc.0d0a0220.bc3ea.deebSMTPIN_ADDED_MISSING@mx.google.com>
Received: from [172.21.0.6] (unknown [172.18.0.240])
 by postal.iol.unh.edu (Postfix) with ESMTP id 28E146051830;
 Wed, 25 Jun 2025 20:10:36 -0400 (EDT)
Subject: |SUCCESS| pw154718 [PATCH] net/gve: support gve driver on FreeBSD
From: dpdklab@iol.unh.edu
To: Test Report <test-report@dpdk.org>
Cc: dpdk-test-reports@iol.unh.edu
In-Reply-To: <20250625182751.1936925-1-jtranoleary@google.com>
References: <20250625182751.1936925-1-jtranoleary@google.com>
Content-Type: text/plain
X-BeenThere: test-report@dpdk.org
X-Mailman-Version: 2.1.29
Precedence: list
List-Id: automatic DPDK test reports <test-report.dpdk.org>
List-Unsubscribe: <https://mails.dpdk.org/options/test-report>,
 <mailto:test-report-request@dpdk.org?subject=unsubscribe>
List-Archive: <http://mails.dpdk.org/archives/test-report/>
List-Post: <mailto:test-report@dpdk.org>
List-Help: <mailto:test-report-request@dpdk.org?subject=help>
List-Subscribe: <https://mails.dpdk.org/listinfo/test-report>,
 <mailto:test-report-request@dpdk.org?subject=subscribe>
Errors-To: test-report-bounces@dpdk.org

Test-Label: iol-abi-testing
Test-Status: SUCCESS
http://dpdk.org/patch/154718

_Testing PASS_

Submitter: Jasper Tran O'Leary <jtranoleary@google.com>
Date: Wednesday, June 25 2025 18:27:51 
DPDK git baseline: Repo:dpdk
  Branch: master
  CommitID:62a35bbb247e608e235a04ff2941488bc1a78941

154718 --> testing pass

Upstream job id: Generic-DPDK-Compile-ABI#131780

Test environment and result as below:

+-------------------------------+----------+
|          Environment          | abi_test |
+===============================+==========+
| CentOS Stream 9               | PASS     |
+-------------------------------+----------+
| CentOS Stream 10              | PASS     |
+-------------------------------+----------+
| Debian GNU/Linux 12           | PASS     |
+-------------------------------+----------+
| Fedora Linux 40               | PASS     |
+-------------------------------+----------+
| Fedora Linux 41               | PASS     |
+-------------------------------+----------+
| openSUSE Leap 15.6            | PASS     |
+-------------------------------+----------+
| Red Hat Enterprise Linux 8.10 | PASS     |
+-------------------------------+----------+
| Red Hat Enterprise Linux 9.5  | PASS     |
+-------------------------------+----------+
| Ubuntu 22.04                  | PASS     |
+-------------------------------+----------+
| Ubuntu 24.04                  | PASS     |
+-------------------------------+----------+


CentOS Stream 9
	Kernel: 5.15
	Compiler: gcc gcc (GCC) 11.5.0 20240719 (Red Hat 11.5.0-7)

CentOS Stream 10
	Kernel: 5.15
	Compiler: gcc gcc (GCC) 14.2.1 20250110 (Red Hat 14.2.1-8)

Debian GNU/Linux 12
	Kernel: 5.15
	Compiler: gcc gcc (Debian 12.2.0-14+deb12u1) 12.2.0

Fedora Linux 40
	Kernel: 5.15
	Compiler: clang gcc (GCC) 14.2.1 20240912 (Red Hat 14.2.1-3)

Fedora Linux 41
	Kernel: 5.15
	Compiler: clang gcc (GCC) 14.3.1 20250523 (Red Hat 14.3.1-1)

openSUSE Leap 15.6
	Kernel: 5.15
	Compiler: gcc gcc (SUSE Linux) 7.5.0

Red Hat Enterprise Linux 8.10
	Kernel: 5.15
	Compiler: gcc gcc (GCC) 8.5.0 20210514 (Red Hat 8.5.0-22)

Red Hat Enterprise Linux 9.5
	Kernel: 5.15
	Compiler: gcc gcc (GCC) 11.5.0 20240719 (Red Hat 11.5.0-2)

Ubuntu 22.04
	Kernel: 5.15
	Compiler: gcc gcc (Ubuntu 11.4.0-1ubuntu1~22.04) 11.4.0

Ubuntu 24.04
	Kernel: 5.15
	Compiler: gcc gcc (Ubuntu 13.3.0-6ubuntu2~24.04) 13.3.0

To view detailed results, visit:
https://lab.dpdk.org/results/dashboard/patchsets/33504/

UNH-IOL DPDK Community Lab

To manage your email subscriptions, visit: 
https://lab.dpdk.org/results/dashboard/preferences/subscriptions/