From mboxrd@z Thu Jan 1 00:00:00 1970 Return-Path: Received: from mails.dpdk.org (mails.dpdk.org [217.70.189.124]) by inbox.dpdk.org (Postfix) with ESMTP id EA09A46A5A for ; Thu, 26 Jun 2025 03:34:59 +0200 (CEST) Received: from mails.dpdk.org (localhost [127.0.0.1]) by mails.dpdk.org (Postfix) with ESMTP id E4C6A4066E; Thu, 26 Jun 2025 03:34:59 +0200 (CEST) Received: from mail-pf1-f225.google.com (mail-pf1-f225.google.com [209.85.210.225]) by mails.dpdk.org (Postfix) with ESMTP id 57B6D4066E for ; Thu, 26 Jun 2025 03:34:58 +0200 (CEST) Received: by mail-pf1-f225.google.com with SMTP id d2e1a72fcca58-74264d1832eso792565b3a.0 for ; Wed, 25 Jun 2025 18:34:58 -0700 (PDT) DKIM-Signature: v=1; a=rsa-sha256; c=relaxed/relaxed; d=iol.unh.edu; s=unh-iol; t=1750901697; x=1751506497; darn=dpdk.org; h=references:in-reply-to:cc:to:from:subject:message-id:date:from:to :cc:subject:date:message-id:reply-to; bh=d+E+5J3++mbBKIyiyu5ea/Fj3xGzBEkb46fxiYf0Aqc=; b=jIbt9K9Lc7pIFZuyZx9RUhQ8Ep4ke1XrnKmst8q74tfxQ6trvkHtXv2HUg6F1FwpzV 5BZ7TSp9k76lYolSztmqqibQ9chRkMJLObp8zU+zdsvJPtjfyKdaIeTeeE7Y8H5UOC/I GQdiThya+0i8NBnQqEVsK2nXo8h9d3kvrTsp8= X-Google-DKIM-Signature: v=1; a=rsa-sha256; c=relaxed/relaxed; d=1e100.net; s=20230601; t=1750901697; x=1751506497; h=references:in-reply-to:cc:to:from:subject:message-id:date :x-gm-message-state:from:to:cc:subject:date:message-id:reply-to; bh=d+E+5J3++mbBKIyiyu5ea/Fj3xGzBEkb46fxiYf0Aqc=; b=qTYc9F7XQ0Dr8/fFHdaHpwj9737RWhKpPRRRBSEczBh3u2DpUTScnff7zReQ/6T6cd IzF/TdOR0EEpJXxTStxKV4m36Bpns53d5TaNTHlEHtA3quna3im36C8WrMwWJrjG7zYW zKHiRho/tGmc8AxTXPZS1d2tet/RRBamrU1I0Xg8SrraRcUqzCk0AIY4TsBNsOWN0UOn hI/woi3by8XZfGbP3WP+YX1kR7WtTZb7M03z1e/xymukLbXZc5TcAb0f4+EIupRqBf0Q s8nmkkd0UzXYLbc0BvcyXO6IINNbX22HWtT4dAhHIG2VbYYIyQ6yOsv2JfUyWp0Dkfrc 7SMA== X-Gm-Message-State: AOJu0Yxjeb2B3pnNr1HmMeH+sWg17qPbcjmtsZZNdd/G9183ocvvcruf 5qniRzs4r0zM2eMU5i68OurCOIVvDdnHhpCsTXQBDsmRSzyKkO1LHXQTVxRMCHCNjjSk71Gixhf cSTH5nfr1pA3KBmmwVkob8K4NIiF75CSoatO9g4RY/bi58Qc2FQ4u6LqY8AqM X-Gm-Gg: ASbGnct4yjfx90Y5L7APh8ITd59gPqWJvsDkbpHN/SOu0fY5UTxor7brD06q2GtYA3M hcsIGV9YOh7nxO0x8pQszAlq8jE66UOAl+BoJRCWABOqHPOtIU5EPKC3br/HfWlgPWUyzgfXk3u 0uTZXlFfRBXJcd4oJ0bG2sDM27++LZPapml1ZcK52ZDEDWQyIO61dU/4e4sNq9eQWEhDznKfFjE sVHc2ZZwQ8O3N8ptt2PdOvRjJK7qYSwE1dHC9Fg0D+L43E0V+U/PvsdEsJNHXzmULancnDMgYMv qUl7uXd2sEKqnr5L3pD94kWhMy/SLthNEix97GEqg/XYxz8= X-Google-Smtp-Source: AGHT+IEWmQskIYp8v55My2giO8z8IX+nsOzrT+70GcGbwXUipsqhrYUeNk/Fr+fg8eXY8DU+n6MwfPECqoQm X-Received: by 2002:a05:6a00:22d4:b0:748:2ac2:f8c3 with SMTP id d2e1a72fcca58-74ad45d6782mr9168806b3a.24.1750901697427; Wed, 25 Jun 2025 18:34:57 -0700 (PDT) Received: from postal.iol.unh.edu (postal.iol.unh.edu. [2606:4100:3880:1234::84]) by smtp-relay.gmail.com with ESMTPS id d2e1a72fcca58-749c854e45bsm334866b3a.9.2025.06.25.18.34.57 (version=TLS1_2 cipher=ECDHE-ECDSA-AES128-GCM-SHA256 bits=128/128); Wed, 25 Jun 2025 18:34:57 -0700 (PDT) X-Relaying-Domain: iol.unh.edu Date: Wed, 25 Jun 2025 18:34:57 -0700 (PDT) Message-ID: <685ca3c1.050a0220.261acb.2670SMTPIN_ADDED_MISSING@mx.google.com> Received: from [172.21.0.6] (unknown [172.18.0.240]) by postal.iol.unh.edu (Postfix) with ESMTP id A40806051830; Wed, 25 Jun 2025 21:34:56 -0400 (EDT) Subject: |SUCCESS| pw154672-154686 [PATCH] [V2,18/18] drivers/net: add hinic3 From: dpdklab@iol.unh.edu To: Test Report Cc: dpdk-test-reports@iol.unh.edu In-Reply-To: <20250625022827.3091-19-wff_light@vip.163.com> References: <20250625022827.3091-19-wff_light@vip.163.com> Content-Type: text/plain X-BeenThere: test-report@dpdk.org X-Mailman-Version: 2.1.29 Precedence: list List-Id: automatic DPDK test reports List-Unsubscribe: , List-Archive: List-Post: List-Help: List-Subscribe: , Errors-To: test-report-bounces@dpdk.org Test-Label: iol-compile-arm64-testing Test-Status: SUCCESS http://dpdk.org/patch/154686 _Testing PASS_ Submitter: Feifei Wang Date: Wednesday, June 25 2025 02:28:14 DPDK git baseline: Repo:dpdk Branch: master CommitID:62a35bbb247e608e235a04ff2941488bc1a78941 154672-154686 --> testing pass Upstream job id: Generic-DPDK-Compile-Meson#401971 Test environment and result as below: +------------------------------+--------------------+ | Environment | dpdk_meson_compile | +==============================+====================+ | Red Hat Enterprise Linux 9.5 | PASS | +------------------------------+--------------------+ | Ubuntu 20.04 | PASS | +------------------------------+--------------------+ | Debian GNU/Linux 12 | PASS | +------------------------------+--------------------+ | Fedora Linux 40 | PASS | +------------------------------+--------------------+ | Fedora Linux 41 | PASS | +------------------------------+--------------------+ | Ubuntu 22.04 | PASS | +------------------------------+--------------------+ | Ubuntu 24.04 | PASS | +------------------------------+--------------------+ | CentOS Stream 9 | PASS | +------------------------------+--------------------+ | CentOS Stream 10 | PASS | +------------------------------+--------------------+ Red Hat Enterprise Linux 9.5 Kernel: 5.4 Compiler: gcc gcc (GCC) 11.5.0 20240719 (Red Hat 11.5.0-2) Ubuntu 20.04 Kernel: 5.15 Compiler: aarch64-linux-gnu-gcc gcc (Ubuntu 9.4.0-1ubuntu1~20.04.2) 9.4.0 Debian GNU/Linux 12 Kernel: 5.4 Compiler: gcc gcc (Debian 12.2.0-14+deb12u1) 12.2.0 Fedora Linux 40 Kernel: 5.4 Compiler: gcc gcc (GCC) 14.2.1 20240912 (Red Hat 14.2.1-3) Fedora Linux 41 Kernel: 5.4 Compiler: clang gcc (GCC) 14.3.1 20250523 (Red Hat 14.3.1-1) Ubuntu 22.04 Kernel: 5.4 Compiler: gcc gcc (Ubuntu 11.4.0-1ubuntu1~22.04) 11.4.0 Ubuntu 24.04 Kernel: 5.4 Compiler: gcc gcc (Ubuntu 13.3.0-6ubuntu2~24.04) 13.3.0 CentOS Stream 9 Kernel: 5.4 Compiler: gcc gcc (GCC) 11.5.0 20240719 (Red Hat 11.5.0-7) CentOS Stream 10 Kernel: 5.4 Compiler: gcc gcc (GCC) 14.2.1 20250110 (Red Hat 14.2.1-8) To view detailed results, visit: https://lab.dpdk.org/results/dashboard/patchsets/33495/ UNH-IOL DPDK Community Lab To manage your email subscriptions, visit: https://lab.dpdk.org/results/dashboard/preferences/subscriptions/