From mboxrd@z Thu Jan  1 00:00:00 1970
Return-Path: <test-report-bounces@dpdk.org>
Received: from mails.dpdk.org (mails.dpdk.org [217.70.189.124])
	by inbox.dpdk.org (Postfix) with ESMTP id 0330746A5A
	for <public@inbox.dpdk.org>; Thu, 26 Jun 2025 18:23:57 +0200 (CEST)
Received: from mails.dpdk.org (localhost [127.0.0.1])
	by mails.dpdk.org (Postfix) with ESMTP id E3D3C40156;
	Thu, 26 Jun 2025 18:23:57 +0200 (CEST)
Received: from mail-qt1-f227.google.com (mail-qt1-f227.google.com
 [209.85.160.227])
 by mails.dpdk.org (Postfix) with ESMTP id BFFBC40156
 for <test-report@dpdk.org>; Thu, 26 Jun 2025 18:23:56 +0200 (CEST)
Received: by mail-qt1-f227.google.com with SMTP id
 d75a77b69052e-4a6f0bcdf45so17518081cf.0
 for <test-report@dpdk.org>; Thu, 26 Jun 2025 09:23:56 -0700 (PDT)
DKIM-Signature: v=1; a=rsa-sha256; c=relaxed/relaxed;
 d=iol.unh.edu; s=unh-iol; t=1750955036; x=1751559836; darn=dpdk.org;
 h=references:in-reply-to:cc:to:from:subject:message-id:date:from:to
 :cc:subject:date:message-id:reply-to;
 bh=LaINQDFeBibRauuvPzDsmNpp/oV14MxQHpZpbI0mBr4=;
 b=OTG8oBT2Cyt9UOVdJ87UtzYdXGC/xEBYCWVlpoUUr2gDBO+XB2UuopDz52wIfB7zU0
 4KLJUuEZCm+abzpDzrHOUEhYMmdwyIJ+tMx1Io8dLU6duSeoZORbzSycJyz+MhnKvMKz
 mZ3nIyGgCkiBtR2D2KQxpIkNfugx/tx+fn7tk=
X-Google-DKIM-Signature: v=1; a=rsa-sha256; c=relaxed/relaxed;
 d=1e100.net; s=20230601; t=1750955036; x=1751559836;
 h=references:in-reply-to:cc:to:from:subject:message-id:date
 :x-gm-message-state:from:to:cc:subject:date:message-id:reply-to;
 bh=LaINQDFeBibRauuvPzDsmNpp/oV14MxQHpZpbI0mBr4=;
 b=isBXUZbD5gm6NMxNiiwZu9CPCuChA8b30XVggqWLAuTAdr5tvhu1LLq96nhQ7KHjJn
 GeMW8y0qz6i2SvMK/OB7DfdXLGRSDrJVIbmF/SuczInUX2OF98TqlwcNcrfOLWXb5BDL
 VPdl2g4C3kuEdHvxb5kVU8o6MLwxLm/LwpK9wo5Ts5YkoB3VpS7hMPF8/mXwsHx1n4yv
 oxYtdPrSuKuKsEZnXkWHgJT+YSgXxOkgdXJAj8Vcdx+vOPY339QAQB6l76NRETi9AcYY
 4tLNMMJlCmRTuiGOUJAvjua82sMRVCs7vhL+mC09+/+vd1eA2YNwamcJx1DOMlJe5Hbi
 Ljog==
X-Gm-Message-State: AOJu0YxpnbX+Ap9OowgfxCNN1EW/00Wn8jOHp/GRzAFJparCZ446phIh
 BH9p1R4WHGO+gEXcBWwH7Yjsxozp7YBBy6rpxGolZZ0XzyM3hLxOLfiqONuFKPRxhKU32J6oteL
 N+rcBdKFXuhzFaQjM72OcVrFyPnnXgsMSJ36IaQu99hInZlhqqwzq5KLsHEcX
X-Gm-Gg: ASbGncvQQECWpjSPS35dYjrtjC5E87H1OF0jxm3oSNDaI6vVmE3sWkS6mY3uJjHv43W
 rPQLPgj076oZJOD6iYqKllwZ7dTLKEbO0I4Bva6aHPqDZmfg/Pp5ESBzQeYlrZgag+fDMEP+OL9
 JLaxFMTNpxtSu+Rcbx6Y7wWJ71XvdmJW+JEy8/udlN+fvQxyVklpMqnwzCGMgjqzMsXOzupgn3P
 GAcV/0nBCiLkT7p4Lmc43rQeBxC4UOAZSiyk3sXQ6+tOIZyhq6uvLeIzucOT03FXkjBjDT5gQnJ
 /9oISsQyUguoI3BA+2cpP7tIe/1eTgM+gxVD20diIKx2bcY=
X-Google-Smtp-Source: AGHT+IEyyIr0UPkaq/Q+2IozY91b6kOVjbBBlr2v5I0gLAbLIKNbm0i4PCF0Gw1WqYc4yX1fr/GayC1za2D9
X-Received: by 2002:a05:620a:4082:b0:7d4:3b5f:9bac with SMTP id
 af79cd13be357-7d4439a2e50mr17913885a.56.1750955035897; 
 Thu, 26 Jun 2025 09:23:55 -0700 (PDT)
Received: from postal.iol.unh.edu (postal.iol.unh.edu.
 [2606:4100:3880:1234::84]) by smtp-relay.gmail.com with ESMTPS id
 71dfb90a1353d-53309206a34sm12765e0c.11.2025.06.26.09.23.55
 (version=TLS1_2 cipher=ECDHE-ECDSA-AES128-GCM-SHA256 bits=128/128);
 Thu, 26 Jun 2025 09:23:55 -0700 (PDT)
X-Relaying-Domain: iol.unh.edu
Date: Thu, 26 Jun 2025 09:23:55 -0700 (PDT)
Message-ID: <685d741b.050a0220.1b2f6.0b06SMTPIN_ADDED_MISSING@mx.google.com>
Received: from [172.21.0.9] (unknown [172.18.0.240])
 by postal.iol.unh.edu (Postfix) with ESMTP id 5A9736050A62;
 Thu, 26 Jun 2025 12:23:55 -0400 (EDT)
Subject: |SUCCESS| pw154740 [PATCH] [v2] net/mlx5: fix segfault on indirect a
From: dpdklab@iol.unh.edu
To: Test Report <test-report@dpdk.org>
Cc: dpdk-test-reports@iol.unh.edu
In-Reply-To: <20250626130702.3921887-1-14pwcse1224@uetpeshawar.edu.pk>
References: <20250626130702.3921887-1-14pwcse1224@uetpeshawar.edu.pk>
Content-Type: text/plain
X-BeenThere: test-report@dpdk.org
X-Mailman-Version: 2.1.29
Precedence: list
List-Id: automatic DPDK test reports <test-report.dpdk.org>
List-Unsubscribe: <https://mails.dpdk.org/options/test-report>,
 <mailto:test-report-request@dpdk.org?subject=unsubscribe>
List-Archive: <http://mails.dpdk.org/archives/test-report/>
List-Post: <mailto:test-report@dpdk.org>
List-Help: <mailto:test-report-request@dpdk.org?subject=help>
List-Subscribe: <https://mails.dpdk.org/listinfo/test-report>,
 <mailto:test-report-request@dpdk.org?subject=subscribe>
Errors-To: test-report-bounces@dpdk.org

Test-Label: iol-unit-arm64-testing
Test-Status: SUCCESS
http://dpdk.org/patch/154740

_Testing PASS_

Submitter: Khadem Ullah <14pwcse1224@uetpeshawar.edu.pk>
Date: Thursday, June 26 2025 13:07:02 
DPDK git baseline: Repo:dpdk
  Branch: master
  CommitID:a60378a398fd95e6de69401e8ed06fcc3f4a3929

154740 --> testing pass

Upstream job id: Generic-Unit-Test-DPDK#349889

Test environment and result as below:

+------------------------------+---------------------------+--------------+------------------------------+----------------+
|         Environment          | cryptodev_sw_zuc_autotest | lpm_autotest | cryptodev_sw_snow3g_autotest | dpdk_unit_test |
+==============================+===========================+==============+==============================+================+
| Debian 12 (arm)              | PASS                      | SKIPPED      | PASS                         | SKIPPED        |
+------------------------------+---------------------------+--------------+------------------------------+----------------+
| Ubuntu 20.04                 | SKIPPED                   | PASS         | SKIPPED                      | PASS           |
+------------------------------+---------------------------+--------------+------------------------------+----------------+
| CentOS Stream 9              | SKIPPED                   | SKIPPED      | SKIPPED                      | PASS           |
+------------------------------+---------------------------+--------------+------------------------------+----------------+
| Ubuntu 22.04                 | SKIPPED                   | SKIPPED      | SKIPPED                      | PASS           |
+------------------------------+---------------------------+--------------+------------------------------+----------------+
| Fedora Linux 40              | SKIPPED                   | SKIPPED      | SKIPPED                      | PASS           |
+------------------------------+---------------------------+--------------+------------------------------+----------------+
| Debian GNU/Linux 12          | SKIPPED                   | SKIPPED      | SKIPPED                      | PASS           |
+------------------------------+---------------------------+--------------+------------------------------+----------------+
| CentOS Stream 10             | SKIPPED                   | SKIPPED      | SKIPPED                      | PASS           |
+------------------------------+---------------------------+--------------+------------------------------+----------------+
| Fedora Linux 41              | SKIPPED                   | SKIPPED      | SKIPPED                      | PASS           |
+------------------------------+---------------------------+--------------+------------------------------+----------------+
| Red Hat Enterprise Linux 9.5 | SKIPPED                   | SKIPPED      | SKIPPED                      | PASS           |
+------------------------------+---------------------------+--------------+------------------------------+----------------+
| Ubuntu 24.04                 | SKIPPED                   | SKIPPED      | SKIPPED                      | PASS           |
+------------------------------+---------------------------+--------------+------------------------------+----------------+


Debian 12 (arm)
	Kernel: Depends on container host
	Compiler: gcc (Debian 12.2.0-14) 12.2.0

Ubuntu 20.04
	Kernel: 5.4
	Compiler: gcc gcc (Ubuntu 9.4.0-1ubuntu1~20.04.2) 9.4.0

CentOS Stream 9
	Kernel: 5.4
	Compiler: gcc gcc (GCC) 11.5.0 20240719 (Red Hat 11.5.0-7)

Ubuntu 22.04
	Kernel: 5.15
	Compiler: gcc gcc (Ubuntu 11.4.0-1ubuntu1~22.04) 11.4.0

Fedora Linux 40
	Kernel: 5.4
	Compiler: gcc gcc (GCC) 14.2.1 20240912 (Red Hat 14.2.1-3)

Debian GNU/Linux 12
	Kernel: 5.4
	Compiler: gcc gcc (Debian 12.2.0-14+deb12u1) 12.2.0

CentOS Stream 10
	Kernel: 5.4
	Compiler: gcc gcc (GCC) 14.2.1 20250110 (Red Hat 14.2.1-8)

Fedora Linux 41
	Kernel: 5.4
	Compiler: clang gcc (GCC) 14.3.1 20250523 (Red Hat 14.3.1-1)

Red Hat Enterprise Linux 9.5
	Kernel: 5.4
	Compiler: gcc gcc (GCC) 11.5.0 20240719 (Red Hat 11.5.0-2)

Ubuntu 24.04
	Kernel: 5.4
	Compiler: gcc gcc (Ubuntu 13.3.0-6ubuntu2~24.04) 13.3.0

To view detailed results, visit:
https://lab.dpdk.org/results/dashboard/patchsets/33509/

UNH-IOL DPDK Community Lab

To manage your email subscriptions, visit: 
https://lab.dpdk.org/results/dashboard/preferences/subscriptions/