From mboxrd@z Thu Jan 1 00:00:00 1970 Return-Path: Received: from mails.dpdk.org (mails.dpdk.org [217.70.189.124]) by inbox.dpdk.org (Postfix) with ESMTP id D01D946A65 for ; Fri, 27 Jun 2025 01:32:40 +0200 (CEST) Received: from mails.dpdk.org (localhost [127.0.0.1]) by mails.dpdk.org (Postfix) with ESMTP id A5F014021F; Fri, 27 Jun 2025 01:32:40 +0200 (CEST) Received: from mail-il1-f228.google.com (mail-il1-f228.google.com [209.85.166.228]) by mails.dpdk.org (Postfix) with ESMTP id 24B0C4021F for ; Fri, 27 Jun 2025 01:32:40 +0200 (CEST) Received: by mail-il1-f228.google.com with SMTP id e9e14a558f8ab-3ddda0a8ba2so13394725ab.0 for ; Thu, 26 Jun 2025 16:32:40 -0700 (PDT) DKIM-Signature: v=1; a=rsa-sha256; c=relaxed/relaxed; d=iol.unh.edu; s=unh-iol; t=1750980759; x=1751585559; darn=dpdk.org; h=references:in-reply-to:cc:to:from:subject:message-id:date:from:to :cc:subject:date:message-id:reply-to; bh=DOpA05rTKEWIoi63iE9eXmpHV0I3/y74mbTgkVc3UYQ=; b=J6v4zHwfUizz+2ibpB/I4J/zoByMNuWAJ+naTSaKMc8W16VKEdO8wmwvQXljSexSoc EylnUYkhsCjKrCr9U4NI9Gq21jC3oMYCXlnUzJsgfkIREplEoC8/X9FlLh/1500jZQ6O DsBbEsqQypoCHLyG90ymHVXOBD0oO+CNSwgZ8= X-Google-DKIM-Signature: v=1; a=rsa-sha256; c=relaxed/relaxed; d=1e100.net; s=20230601; t=1750980759; x=1751585559; h=references:in-reply-to:cc:to:from:subject:message-id:date :x-gm-message-state:from:to:cc:subject:date:message-id:reply-to; bh=DOpA05rTKEWIoi63iE9eXmpHV0I3/y74mbTgkVc3UYQ=; b=KjA7aYadHL3//gbbS2tlX5OKxCdclXyXCCQDqLSO2Z+9K+R/XsQC5g2zAaObLAvCNm J1EJW8cTaGgAQef5pkz50b+5ygCZQwnWFPUaMpayV96DLWwyQPS6whj6sJ/JNkLmJQcO 9vfUyLEtSz1zknYFe3FFoLtRhEO0GjfC+71ANoqoNCSOsyWxpVPsM5dgC/7S+pV6Jt7b isxpo38elGgkcZiw7l3QSn7eVBquqnwt9N8wtZjcQIPvajQLZHOuueWhHlXZgzCnze+Z Na7ay8OW/xpUv5gcIFFT3NzrqktUm+UBFLuub35pj8YUbBj46LNJwKLepIdUShh9Llr/ IjXg== X-Gm-Message-State: AOJu0YzlC/Be5jOFaVz9/HrvZFvzADsfFoe3rbCmjLHC1LSkHWUl2bad QlxXn+HLvOIlSumMJFAn8kZgJWXteZLSl2HOh5ta3FWzaEDOiFuYDl7WUfGcyvRZ3/ylUGvNHRt hSwMaw3QHsQTeiRwXGhbd+axsVoPwaB5tYf5kcVC7IZZB0/G4tnACoaN7e1+F X-Gm-Gg: ASbGncu3GeOrxrTOya34ZKypAEg8+5MlGC7o+RCeCViTPeMGbbrQLCRFqP8R4WFuL0l OmPxFdRsXboxOJKX5DAqxSfiZQ0Rb4U+treWop3KHVZ9YNp1SHz9K3BkI6kV/7/kxaXAHDupu9i wcu7oIFlWHsSUbwJ3kqnXj9GV3fNgSPu01/Ty8+QteLfdtgcPL1UFTw9oPbO4wCtBVvYHpUquI5 SPZcr2L07KUHCRAgP2hgbjDC66xz1dlYlyc+5eKaN2OZT01ZzoZ3YTK7WG+zl4DjLIpgQbU0dz/ 2XsxvuRPYwO9oyEHzZLhwu1cFb8mDcFe/ImHGupxi3YcsSY= X-Google-Smtp-Source: AGHT+IHLdS3EdaN5ta9QmehzwOMH+x55XV5aSN53s1vGeoqeMPFrzE/wupg5acCVqT0Iolg04WdOHvhhmcNZ X-Received: by 2002:a05:6e02:2287:b0:3df:154d:aa5b with SMTP id e9e14a558f8ab-3df4ab4eac3mr15806885ab.5.1750980759496; Thu, 26 Jun 2025 16:32:39 -0700 (PDT) Received: from postal.iol.unh.edu (postal.iol.unh.edu. [2606:4100:3880:1234::84]) by smtp-relay.gmail.com with ESMTPS id e9e14a558f8ab-3df4a0d16c0sm670895ab.70.2025.06.26.16.32.39 (version=TLS1_2 cipher=ECDHE-ECDSA-AES128-GCM-SHA256 bits=128/128); Thu, 26 Jun 2025 16:32:39 -0700 (PDT) X-Relaying-Domain: iol.unh.edu Date: Thu, 26 Jun 2025 16:32:39 -0700 (PDT) Message-ID: <685dd897.050a0220.27634f.3310SMTPIN_ADDED_MISSING@mx.google.com> Received: from [172.21.0.5] (unknown [172.18.0.240]) by postal.iol.unh.edu (Postfix) with ESMTP id 064226051830; Thu, 26 Jun 2025 19:32:39 -0400 (EDT) Subject: |SUCCESS| pw154750-154751 [PATCH] [v3,2/2] dts: add flow validation From: dpdklab@iol.unh.edu To: Test Report Cc: dpdk-test-reports@iol.unh.edu In-Reply-To: <20250626195617.219395-2-dmarx@iol.unh.edu> References: <20250626195617.219395-2-dmarx@iol.unh.edu> Content-Type: text/plain X-BeenThere: test-report@dpdk.org X-Mailman-Version: 2.1.29 Precedence: list List-Id: automatic DPDK test reports List-Unsubscribe: , List-Archive: List-Post: List-Help: List-Subscribe: , Errors-To: test-report-bounces@dpdk.org Test-Label: iol-abi-testing Test-Status: SUCCESS http://dpdk.org/patch/154751 _Testing PASS_ Submitter: Dean Marx Date: Thursday, June 26 2025 19:56:17 DPDK git baseline: Repo:dpdk Branch: master CommitID:211e4bb686c082f604af36410988420673b88fdb 154750-154751 --> testing pass Upstream job id: Generic-DPDK-Compile-ABI#131971 Test environment and result as below: +-------------------------------+----------+ | Environment | abi_test | +===============================+==========+ | CentOS Stream 9 | PASS | +-------------------------------+----------+ | Fedora Linux 40 | PASS | +-------------------------------+----------+ | Debian GNU/Linux 12 | PASS | +-------------------------------+----------+ | CentOS Stream 10 | PASS | +-------------------------------+----------+ | Fedora Linux 41 | PASS | +-------------------------------+----------+ | Red Hat Enterprise Linux 8.10 | PASS | +-------------------------------+----------+ | Red Hat Enterprise Linux 9.5 | PASS | +-------------------------------+----------+ | openSUSE Leap 15.6 | PASS | +-------------------------------+----------+ | Ubuntu 22.04 | PASS | +-------------------------------+----------+ | Ubuntu 24.04 | PASS | +-------------------------------+----------+ CentOS Stream 9 Kernel: 5.15 Compiler: gcc gcc (GCC) 11.5.0 20240719 (Red Hat 11.5.0-7) Fedora Linux 40 Kernel: 5.15 Compiler: clang gcc (GCC) 14.2.1 20240912 (Red Hat 14.2.1-3) Debian GNU/Linux 12 Kernel: 5.15 Compiler: gcc gcc (Debian 12.2.0-14+deb12u1) 12.2.0 CentOS Stream 10 Kernel: 5.15 Compiler: gcc gcc (GCC) 14.2.1 20250110 (Red Hat 14.2.1-8) Fedora Linux 41 Kernel: 5.15 Compiler: clang gcc (GCC) 14.3.1 20250523 (Red Hat 14.3.1-1) Red Hat Enterprise Linux 8.10 Kernel: 5.15 Compiler: gcc gcc (GCC) 8.5.0 20210514 (Red Hat 8.5.0-22) Red Hat Enterprise Linux 9.5 Kernel: 5.15 Compiler: gcc gcc (GCC) 11.5.0 20240719 (Red Hat 11.5.0-2) openSUSE Leap 15.6 Kernel: 5.15 Compiler: gcc gcc (SUSE Linux) 7.5.0 Ubuntu 22.04 Kernel: 5.15 Compiler: gcc gcc (Ubuntu 11.4.0-1ubuntu1~22.04) 11.4.0 Ubuntu 24.04 Kernel: 5.15 Compiler: gcc gcc (Ubuntu 13.3.0-6ubuntu2~24.04) 13.3.0 To view detailed results, visit: https://lab.dpdk.org/results/dashboard/patchsets/33516/ UNH-IOL DPDK Community Lab To manage your email subscriptions, visit: https://lab.dpdk.org/results/dashboard/preferences/subscriptions/