From mboxrd@z Thu Jan 1 00:00:00 1970 Return-Path: Received: from mails.dpdk.org (mails.dpdk.org [217.70.189.124]) by inbox.dpdk.org (Postfix) with ESMTP id CC5B546A66 for ; Fri, 27 Jun 2025 02:13:47 +0200 (CEST) Received: from mails.dpdk.org (localhost [127.0.0.1]) by mails.dpdk.org (Postfix) with ESMTP id B59824021F; Fri, 27 Jun 2025 02:13:47 +0200 (CEST) Received: from mail-il1-f226.google.com (mail-il1-f226.google.com [209.85.166.226]) by mails.dpdk.org (Postfix) with ESMTP id 669A44021F for ; Fri, 27 Jun 2025 02:13:46 +0200 (CEST) Received: by mail-il1-f226.google.com with SMTP id e9e14a558f8ab-3df34b727dcso14192995ab.2 for ; Thu, 26 Jun 2025 17:13:46 -0700 (PDT) DKIM-Signature: v=1; a=rsa-sha256; c=relaxed/relaxed; d=iol.unh.edu; s=unh-iol; t=1750983225; x=1751588025; darn=dpdk.org; h=references:in-reply-to:cc:to:from:subject:message-id:date:from:to :cc:subject:date:message-id:reply-to; bh=TrXwCeI1P68QgPt3bfW6HaT2AdDIc4PNs1IBDSxZs1w=; b=jTjsoWJ6MbVH3hdlaMzJ/p7u1viMMfi4cbtUn8+hyoqLLOkT6ttjklLoqqASHUzCcG KhEzfDPqx+hgSXHeHY8rlwgTw9+zPRCGIsQmfVS+Y1plSt3KnwvwoAQ+OWvxL52/8mVi iBEFk/BjHnZzYUOTQxxkoVTCZnHAdE0qsHQNw= X-Google-DKIM-Signature: v=1; a=rsa-sha256; c=relaxed/relaxed; d=1e100.net; s=20230601; t=1750983225; x=1751588025; h=references:in-reply-to:cc:to:from:subject:message-id:date :x-gm-message-state:from:to:cc:subject:date:message-id:reply-to; bh=TrXwCeI1P68QgPt3bfW6HaT2AdDIc4PNs1IBDSxZs1w=; b=aYH2lDEyfJzAwlqa+6cq+3i5WrFKgS1UgYMhRdS/W58ogswbWJopWlxv6yTCdvfP+g ahVErMbPw8PRqzTsQ9605Au04xOBa1+4npPwxxOFIly0S1EcpXEpvOdArse4wb3DEMec 4zao+gRYZ78+j/Y3yIGAAu2XVoOV1Jd5htSB4zio4Ay3cZZO/TLMcOAgF2KVzLjlIfWj +8knXCfEXuM+OBQjtp0EStU0CkBS+LG3jWeqK68Q8hIVK7v4OmHn6t/StjUVhyQ5Zq8h VMRO/Py3rmcbZSzReBsE0+WGNHu0FQXtLkSMSEvKRSoFPiOtJuTRpAmOA0CgKvb0kFjO azUg== X-Gm-Message-State: AOJu0YwOf1aW7HKAZ/Bno+derhwvdZGEmspgY0NsYW7I1nwG0FRdNzpl daVAwBduiSMetl+z8VJeKuVY9iwV2DNPN47CC23n+IRn3Zukv1rhaO94bUBMvhNzxb5JgVLw5Bu 1rygNgtGADS1xD0zx90mw0X97E4P8C+c1oWTWygsPpPBm X-Gm-Gg: ASbGncuoMPRAnzBH53TuSHzirbErF4JBEvdcJf3cgDa3ODRX+iIvoVjiohTgkJSfY7X MPfsXJrM+0u95d8j+VG8BUnJ6bGPREB2+vHBSaW/Jimo+0TtNfEi4rF3HUJ7ztK7fcpVmyX5sje 5Hw/NeSMoP3Q6sDfWoamqn50/Zjvl/a7wgd5TCta6t1eJpzyKM4PFaJjxrChOmqBLt/h4bxNkTt FUZEqeP4W2YTDJL1V/R9FOAOUeL7rysZKH745BNl3EJBfd2JptQ1fKPpzXHiP6oATkCAb6Hq9MY 8iONJkOXpyFk5qREXbgsOXSrQi7TxaHCp/hNQSHPFpK9yDqaIGsMRtYZdUKmCMiYQUtKCQ== X-Google-Smtp-Source: AGHT+IFQpk7gWpHr4ZzbCNh1KLcQWivA8Tl0eJ1Zm88T1ZvehkkmK0txCV5ANBm8wE/TqgccRXC2yzJ9Px6x X-Received: by 2002:a05:6e02:12cb:b0:3dd:b7ea:c3d9 with SMTP id e9e14a558f8ab-3df4ab5ccbcmr19602405ab.7.1750983225198; Thu, 26 Jun 2025 17:13:45 -0700 (PDT) Received: from postal.iol.unh.edu (postal.iol.unh.edu. [132.177.123.84]) by smtp-relay.gmail.com with ESMTPS id e9e14a558f8ab-3df4a026438sm693325ab.17.2025.06.26.17.13.45 (version=TLS1_2 cipher=ECDHE-ECDSA-AES128-GCM-SHA256 bits=128/128); Thu, 26 Jun 2025 17:13:45 -0700 (PDT) X-Relaying-Domain: iol.unh.edu Date: Thu, 26 Jun 2025 17:13:45 -0700 (PDT) Message-ID: <685de239.050a0220.dafee.352aSMTPIN_ADDED_MISSING@mx.google.com> Received: from [172.17.0.5] (unknown [172.18.0.74]) by postal.iol.unh.edu (Postfix) with ESMTP id ABDFC6051830; Thu, 26 Jun 2025 20:13:44 -0400 (EDT) Subject: |SUCCESS| pw154752 [PATCH] [v2] net/gve: support gve driver on FreeB From: dpdklab@iol.unh.edu To: Test Report Cc: dpdk-test-reports@iol.unh.edu In-Reply-To: <20250626211921.2291937-1-jtranoleary@google.com> References: <20250626211921.2291937-1-jtranoleary@google.com> Content-Type: text/plain X-BeenThere: test-report@dpdk.org X-Mailman-Version: 2.1.29 Precedence: list List-Id: automatic DPDK test reports List-Unsubscribe: , List-Archive: List-Post: List-Help: List-Subscribe: , Errors-To: test-report-bounces@dpdk.org Test-Label: iol-abi-testing Test-Status: SUCCESS http://dpdk.org/patch/154752 _Testing PASS_ Submitter: Jasper Tran O'Leary Date: Thursday, June 26 2025 21:19:21 DPDK git baseline: Repo:dpdk Branch: master CommitID:ce2cf3403f2ac2c6e5eac05a43db9207e35e8b9d 154752 --> testing pass Upstream job id: Generic-DPDK-Compile-ABI#131977 Test environment and result as below: +-------------------------------+----------+ | Environment | abi_test | +===============================+==========+ | CentOS Stream 9 | PASS | +-------------------------------+----------+ | CentOS Stream 10 | PASS | +-------------------------------+----------+ | Fedora Linux 40 | PASS | +-------------------------------+----------+ | Debian GNU/Linux 12 | PASS | +-------------------------------+----------+ | Fedora Linux 41 | PASS | +-------------------------------+----------+ | Red Hat Enterprise Linux 9.5 | PASS | +-------------------------------+----------+ | openSUSE Leap 15.6 | PASS | +-------------------------------+----------+ | Ubuntu 24.04 | PASS | +-------------------------------+----------+ | Red Hat Enterprise Linux 8.10 | PASS | +-------------------------------+----------+ | Ubuntu 22.04 | PASS | +-------------------------------+----------+ CentOS Stream 9 Kernel: 5.15 Compiler: gcc gcc (GCC) 11.5.0 20240719 (Red Hat 11.5.0-7) CentOS Stream 10 Kernel: 5.15 Compiler: gcc gcc (GCC) 14.2.1 20250110 (Red Hat 14.2.1-8) Fedora Linux 40 Kernel: 5.15 Compiler: clang gcc (GCC) 14.2.1 20240912 (Red Hat 14.2.1-3) Debian GNU/Linux 12 Kernel: 5.15 Compiler: gcc gcc (Debian 12.2.0-14+deb12u1) 12.2.0 Fedora Linux 41 Kernel: 5.15 Compiler: gcc gcc (GCC) 14.3.1 20250523 (Red Hat 14.3.1-1) Red Hat Enterprise Linux 9.5 Kernel: 5.15 Compiler: gcc gcc (GCC) 11.5.0 20240719 (Red Hat 11.5.0-2) openSUSE Leap 15.6 Kernel: 5.15 Compiler: gcc gcc (SUSE Linux) 7.5.0 Ubuntu 24.04 Kernel: 5.15 Compiler: gcc gcc (Ubuntu 13.3.0-6ubuntu2~24.04) 13.3.0 Red Hat Enterprise Linux 8.10 Kernel: 5.15 Compiler: gcc gcc (GCC) 8.5.0 20210514 (Red Hat 8.5.0-22) Ubuntu 22.04 Kernel: 5.15 Compiler: gcc gcc (Ubuntu 11.4.0-1ubuntu1~22.04) 11.4.0 To view detailed results, visit: https://lab.dpdk.org/results/dashboard/patchsets/33517/ UNH-IOL DPDK Community Lab To manage your email subscriptions, visit: https://lab.dpdk.org/results/dashboard/preferences/subscriptions/