From mboxrd@z Thu Jan 1 00:00:00 1970 Return-Path: Received: from mails.dpdk.org (mails.dpdk.org [217.70.189.124]) by inbox.dpdk.org (Postfix) with ESMTP id D80A546A66 for ; Fri, 27 Jun 2025 02:14:35 +0200 (CEST) Received: from mails.dpdk.org (localhost [127.0.0.1]) by mails.dpdk.org (Postfix) with ESMTP id D25974021F; Fri, 27 Jun 2025 02:14:35 +0200 (CEST) Received: from mail-pl1-f225.google.com (mail-pl1-f225.google.com [209.85.214.225]) by mails.dpdk.org (Postfix) with ESMTP id 88C4D4021F for ; Fri, 27 Jun 2025 02:14:34 +0200 (CEST) Received: by mail-pl1-f225.google.com with SMTP id d9443c01a7336-234d3261631so14245915ad.1 for ; Thu, 26 Jun 2025 17:14:34 -0700 (PDT) DKIM-Signature: v=1; a=rsa-sha256; c=relaxed/relaxed; d=iol.unh.edu; s=unh-iol; t=1750983274; x=1751588074; darn=dpdk.org; h=references:in-reply-to:cc:to:from:subject:message-id:date:from:to :cc:subject:date:message-id:reply-to; bh=PawGhrpIqOAjMszoNS8xcUkbcAcvErE3U+Ysu2a5SP0=; b=jZRwZsll8mMjgHRN0TZV71UVGHspPUdOkfgyOi5UbQGTgsnNESvSUzdNn6JZmHu1bW bXZufZdfA4S6PoZGRFn2StHgMRxHprI+P4ZpWxKNL2bX3PcQ/6XIIjsubzbD+Afm4QU+ TzCBSuc6Nf9sj0Eg8CjiyzpE/KbhK9kVbJ8Io= X-Google-DKIM-Signature: v=1; a=rsa-sha256; c=relaxed/relaxed; d=1e100.net; s=20230601; t=1750983274; x=1751588074; h=references:in-reply-to:cc:to:from:subject:message-id:date :x-gm-message-state:from:to:cc:subject:date:message-id:reply-to; bh=PawGhrpIqOAjMszoNS8xcUkbcAcvErE3U+Ysu2a5SP0=; b=dlLSorudxumpSx6BnUC+BMeCiKvjEb0bzojVZpmipOA3jj2dpxwSCRAxCS/TwOSpvI Z/83zjDlQyd9bnQYfTEbhl4Pfyf+8Ci12Cm1Mjt8r4vFqd+Jgvq90rWhFyAMd1LmN0sS zVfa/vNMDSNAdeYxbeOtrgH9wiYL5lgOt6A3r4qAHLE5F9kMdRh+Xht60qRWisHF4Cgl x6c8ZBTQcQa6EPTNneDOQPgV7Oq/O3lgWpHi7CY+nPK6RaTQcXtp8uRXal+H6D/6apgn lwmmQ8FMCf7FxHmzsDUHSVx/ogjXfDbMna5n7HG/xjZcTCVK7t8y3J8GHX0qygcE3dH6 GUTg== X-Gm-Message-State: AOJu0YzMsjwxawkE2Op1dMbMrJoL18nVQ08DR5K1IUV7tLQ3/H5Zeeul /V7RVMmJ1RSUY8tA2YmKAeAvjOavOtxzhtTZvgYSsV2yUZp9sWapHkrRVmP/Es0zKZTobGOG51F KW65wEUGsEgbDs84j1AcK8V10Ac20IFkolBqy/u0Q/pKa X-Gm-Gg: ASbGnctj21BvZO1oRbz/2wiybpdQSZ1KqEpm1tAD1jE/1kQ7a7rFXC98VKwxtiRluX3 JEe7Hb6Nltn4ThwB4LmZncr0txGzapVyfzvhNNAztHk9IdeRRfTSTHdwEXuwcCRlBsAV9iHXsUP soMCHejY3XgB+KIdGmcafTA3h5OYrmRIQanLFC4oHgSpQoNd6cJMiPVOTd5rsvTylR45oOL1lgP j/kJpARcH7E3DJAgDauGKNFPhduEWBhyBrsRDsBPABMoh2MUpplFiPLPWpQyddxWi3CJsj0GSs1 d4jV1uYNTr+3koqxTcx/lODg1oVMhi9hYx5NudW/8EuQt501udv+FF26h2nrjrgubtCCxg== X-Google-Smtp-Source: AGHT+IFBcq8pTI+Y6jmX6gsvAhJfr0XEwAgw3Jd1awQ2hxjpSfXkiCsIUhRjn52VG8cEdqBYDf6Go+/UVAS/ X-Received: by 2002:a17:902:fc85:b0:234:bc4e:4eb8 with SMTP id d9443c01a7336-23ac48b49e3mr16516575ad.46.1750983273695; Thu, 26 Jun 2025 17:14:33 -0700 (PDT) Received: from postal.iol.unh.edu (postal.iol.unh.edu. [132.177.123.84]) by smtp-relay.gmail.com with ESMTPS id d9443c01a7336-23acb34f08bsm151765ad.72.2025.06.26.17.14.33 (version=TLS1_2 cipher=ECDHE-ECDSA-AES128-GCM-SHA256 bits=128/128); Thu, 26 Jun 2025 17:14:33 -0700 (PDT) X-Relaying-Domain: iol.unh.edu Date: Thu, 26 Jun 2025 17:14:33 -0700 (PDT) Message-ID: <685de269.170a0220.30da90.0d9dSMTPIN_ADDED_MISSING@mx.google.com> Received: from [172.21.0.6] (unknown [172.18.0.240]) by postal.iol.unh.edu (Postfix) with ESMTP id E23CD6051830; Thu, 26 Jun 2025 20:14:32 -0400 (EDT) Subject: |SUCCESS| pw154752 [PATCH] [v2] net/gve: support gve driver on FreeB From: dpdklab@iol.unh.edu To: Test Report Cc: dpdk-test-reports@iol.unh.edu In-Reply-To: <20250626211921.2291937-1-jtranoleary@google.com> References: <20250626211921.2291937-1-jtranoleary@google.com> Content-Type: text/plain X-BeenThere: test-report@dpdk.org X-Mailman-Version: 2.1.29 Precedence: list List-Id: automatic DPDK test reports List-Unsubscribe: , List-Archive: List-Post: List-Help: List-Subscribe: , Errors-To: test-report-bounces@dpdk.org Test-Label: iol-abi-testing Test-Status: SUCCESS http://dpdk.org/patch/154752 _Testing PASS_ Submitter: Jasper Tran O'Leary Date: Thursday, June 26 2025 21:19:21 DPDK git baseline: Repo:dpdk Branch: master CommitID:ce2cf3403f2ac2c6e5eac05a43db9207e35e8b9d 154752 --> testing pass Upstream job id: Generic-DPDK-Compile-ABI#131985 Test environment and result as below: +-------------------------------+----------+ | Environment | abi_test | +===============================+==========+ | CentOS Stream 9 | PASS | +-------------------------------+----------+ | CentOS Stream 10 | PASS | +-------------------------------+----------+ | Fedora Linux 40 | PASS | +-------------------------------+----------+ | Debian GNU/Linux 12 | PASS | +-------------------------------+----------+ | Fedora Linux 41 | PASS | +-------------------------------+----------+ | Red Hat Enterprise Linux 9.5 | PASS | +-------------------------------+----------+ | openSUSE Leap 15.6 | PASS | +-------------------------------+----------+ | Ubuntu 24.04 | PASS | +-------------------------------+----------+ | Red Hat Enterprise Linux 8.10 | PASS | +-------------------------------+----------+ | Ubuntu 22.04 | PASS | +-------------------------------+----------+ CentOS Stream 9 Kernel: 5.15 Compiler: gcc gcc (GCC) 11.5.0 20240719 (Red Hat 11.5.0-7) CentOS Stream 10 Kernel: 5.15 Compiler: gcc gcc (GCC) 14.2.1 20250110 (Red Hat 14.2.1-8) Fedora Linux 40 Kernel: 5.15 Compiler: clang gcc (GCC) 14.2.1 20240912 (Red Hat 14.2.1-3) Debian GNU/Linux 12 Kernel: 5.15 Compiler: gcc gcc (Debian 12.2.0-14+deb12u1) 12.2.0 Fedora Linux 41 Kernel: 5.15 Compiler: gcc gcc (GCC) 14.3.1 20250523 (Red Hat 14.3.1-1) Red Hat Enterprise Linux 9.5 Kernel: 5.15 Compiler: gcc gcc (GCC) 11.5.0 20240719 (Red Hat 11.5.0-2) openSUSE Leap 15.6 Kernel: 5.15 Compiler: gcc gcc (SUSE Linux) 7.5.0 Ubuntu 24.04 Kernel: 5.15 Compiler: gcc gcc (Ubuntu 13.3.0-6ubuntu2~24.04) 13.3.0 Red Hat Enterprise Linux 8.10 Kernel: 5.15 Compiler: gcc gcc (GCC) 8.5.0 20210514 (Red Hat 8.5.0-22) Ubuntu 22.04 Kernel: 5.15 Compiler: gcc gcc (Ubuntu 11.4.0-1ubuntu1~22.04) 11.4.0 To view detailed results, visit: https://lab.dpdk.org/results/dashboard/patchsets/33517/ UNH-IOL DPDK Community Lab To manage your email subscriptions, visit: https://lab.dpdk.org/results/dashboard/preferences/subscriptions/