From mboxrd@z Thu Jan 1 00:00:00 1970 Return-Path: Received: from mails.dpdk.org (mails.dpdk.org [217.70.189.124]) by inbox.dpdk.org (Postfix) with ESMTP id 82A9646A66 for ; Fri, 27 Jun 2025 02:29:23 +0200 (CEST) Received: from mails.dpdk.org (localhost [127.0.0.1]) by mails.dpdk.org (Postfix) with ESMTP id 6867B4021F; Fri, 27 Jun 2025 02:29:23 +0200 (CEST) Received: from mail-il1-f225.google.com (mail-il1-f225.google.com [209.85.166.225]) by mails.dpdk.org (Postfix) with ESMTP id DA9EB4021F for ; Fri, 27 Jun 2025 02:29:21 +0200 (CEST) Received: by mail-il1-f225.google.com with SMTP id e9e14a558f8ab-3de39d642a9so13141405ab.1 for ; Thu, 26 Jun 2025 17:29:21 -0700 (PDT) DKIM-Signature: v=1; a=rsa-sha256; c=relaxed/relaxed; d=iol.unh.edu; s=unh-iol; t=1750984161; x=1751588961; darn=dpdk.org; h=references:in-reply-to:cc:to:from:subject:message-id:date:from:to :cc:subject:date:message-id:reply-to; bh=r7pYmphIONhLezreuLB0ZRE31ncr+byW46HpKsFY+t4=; b=U4AgUvbYH0YdnN5wv1+KK+lexBakg6/OAMoOHRDrGEIcgGpemOU491A0xkYHT0U+je e+JucuIwjDS5pqIhBbEyBINBQyzcvN//0QzbqFaX+AjIOPq1R5aFQtHSPsqgHcBwUraz QmoMPl3/Jdvu6WEAFrD5n+ZSsyPfzJsXpdX+I= X-Google-DKIM-Signature: v=1; a=rsa-sha256; c=relaxed/relaxed; d=1e100.net; s=20230601; t=1750984161; x=1751588961; h=references:in-reply-to:cc:to:from:subject:message-id:date :x-gm-message-state:from:to:cc:subject:date:message-id:reply-to; bh=r7pYmphIONhLezreuLB0ZRE31ncr+byW46HpKsFY+t4=; b=X/PwfMv9uZycO3FAnYT8Ie5xp3NycxRyaT4h9wwoOXJD78j6pdd+slrP1XqnG1ItUp RatKT2XwcNjspOjoY3+eGJZaAk596NUV9UeDOeuHVhp2Gcp7Ssn/ZpvMKBQKIYQonIx1 3eUvOxzn1Q0Z7ts07IbHJOVx5qohwS2U6iiiDx1oSFEjcDKfsuJn5CfSocWHou8ex3Ib qrG8Ptb/EnMMrKrENFPUnCPQEzPLKJijBATajq8AYsoqTRkWay8yD3VXXBdpqqO6V5g7 Av2XDjD+03p+kvJJ1/vKgTNhCEha9Ofo5T7DMc719B+7D7aYkbYG6a6IphfHb3lSdDG4 CrdQ== X-Gm-Message-State: AOJu0YySXDjqrt8hL2n/EyPBtBO079Sj6/qxRqDVUu0cWu142NmIkOYx fGVJflRw7VCkesbx9TuPs7xziEx5vjceEnDOGfeXq2sxYrpaLDz0oO59ALDkjrNqhtDH5hcyGmj 4Xgkg6Vu8DZfBDshksZRhGMfH7ikNyC75tgjA2glNsP3+xXauV3slX7ZFM4aK X-Gm-Gg: ASbGncu/1XBu2dbNTVjEt+GLN1RtLcvkAKMVGIlFkjbSigxHsCBRljkJ9X6a/unBccR eDs+3hwh30x8FOnHbGmlgBcSADkOrWTT0oNF01SWnvDyrFKYv4mPHiuLH06Sn8GXHVmuQca7gW/ o14eIr/H4ggaP93s6iko37CA7OgTrDMJHRGCXxI07XjUSYWnzIIf2AAhF3Hc/l4Z8anV4hvlgG1 EBrbMCgeD+Vp8LRRrUgoeLEKhd73MN6ETx4TmYOLaDb1YiDql7IU3b7LQhTt0fJi65OhU/6nP7L NLX8FupXqBG0amMzm49izL5TaetezPqGY1cQ6RHvUIe5LKM= X-Google-Smtp-Source: AGHT+IFLoqvOrouvADMF1A/b4bYZzdBllCO62R3kl56YHyyRspiu3QwQWT2D/XFcLTJi2p7SR+8kHy1s2dzz X-Received: by 2002:a05:6e02:220c:b0:3df:2cb4:56cc with SMTP id e9e14a558f8ab-3df4ab45239mr26359515ab.4.1750984161170; Thu, 26 Jun 2025 17:29:21 -0700 (PDT) Received: from postal.iol.unh.edu (postal.iol.unh.edu. [2606:4100:3880:1234::84]) by smtp-relay.gmail.com with ESMTPS id e9e14a558f8ab-3df49fffcb1sm742035ab.9.2025.06.26.17.29.21 (version=TLS1_2 cipher=ECDHE-ECDSA-AES128-GCM-SHA256 bits=128/128); Thu, 26 Jun 2025 17:29:21 -0700 (PDT) X-Relaying-Domain: iol.unh.edu Date: Thu, 26 Jun 2025 17:29:21 -0700 (PDT) Message-ID: <685de5e1.050a0220.f6c9.3c35SMTPIN_ADDED_MISSING@mx.google.com> Received: from [172.17.0.2] (unknown [172.18.0.74]) by postal.iol.unh.edu (Postfix) with ESMTP id AB5B96051830; Thu, 26 Jun 2025 20:29:20 -0400 (EDT) Subject: |WARNING| pw154752 [PATCH] [v2] net/gve: support gve driver on FreeB From: dpdklab@iol.unh.edu To: Test Report Cc: dpdk-test-reports@iol.unh.edu In-Reply-To: <20250626211921.2291937-1-jtranoleary@google.com> References: <20250626211921.2291937-1-jtranoleary@google.com> Content-Type: text/plain X-BeenThere: test-report@dpdk.org X-Mailman-Version: 2.1.29 Precedence: list List-Id: automatic DPDK test reports List-Unsubscribe: , List-Archive: List-Post: List-Help: List-Subscribe: , Errors-To: test-report-bounces@dpdk.org Test-Label: iol-compile-amd64-testing Test-Status: WARNING http://dpdk.org/patch/154752 _Testing issues_ Submitter: Jasper Tran O'Leary Date: Thursday, June 26 2025 21:19:21 DPDK git baseline: Repo:dpdk Branch: master CommitID:ce2cf3403f2ac2c6e5eac05a43db9207e35e8b9d 154752 --> testing issues Upstream job id: Generic-DPDK-Compile-Meson#402543 Test environment and result as below: +-------------------------------+--------------------+-------------------+-------------------+------------------+-------------------------+----------------------+ | Environment | dpdk_meson_compile | dpdk_msvc_compile | dpdk_compile_spdk | dpdk_compile_ovs | dpdk_llvm_clang_compile | dpdk_mingw64_compile | +===============================+====================+===================+===================+==================+=========================+======================+ | Ubuntu 20.04 | PASS | SKIPPED | SKIPPED | SKIPPED | SKIPPED | SKIPPED | +-------------------------------+--------------------+-------------------+-------------------+------------------+-------------------------+----------------------+ | FreeBSD 14.2 | PASS | SKIPPED | SKIPPED | SKIPPED | SKIPPED | SKIPPED | +-------------------------------+--------------------+-------------------+-------------------+------------------+-------------------------+----------------------+ | CentOS Stream 9 | PASS | SKIPPED | PASS | SKIPPED | SKIPPED | SKIPPED | +-------------------------------+--------------------+-------------------+-------------------+------------------+-------------------------+----------------------+ | CentOS Stream 10 | PASS | SKIPPED | SKIPPED | SKIPPED | SKIPPED | SKIPPED | +-------------------------------+--------------------+-------------------+-------------------+------------------+-------------------------+----------------------+ | Debian GNU/Linux 12 | PASS | SKIPPED | PASS | SKIPPED | SKIPPED | SKIPPED | +-------------------------------+--------------------+-------------------+-------------------+------------------+-------------------------+----------------------+ | Fedora Linux 40 | PASS | SKIPPED | PASS | SKIPPED | SKIPPED | SKIPPED | +-------------------------------+--------------------+-------------------+-------------------+------------------+-------------------------+----------------------+ | Fedora Linux 41 | PEND | SKIPPED | PEND | PEND | SKIPPED | SKIPPED | +-------------------------------+--------------------+-------------------+-------------------+------------------+-------------------------+----------------------+ | openSUSE Leap 15.6 | PASS | SKIPPED | SKIPPED | SKIPPED | SKIPPED | SKIPPED | +-------------------------------+--------------------+-------------------+-------------------+------------------+-------------------------+----------------------+ | Red Hat Enterprise Linux 8.10 | PASS | SKIPPED | SKIPPED | SKIPPED | SKIPPED | SKIPPED | +-------------------------------+--------------------+-------------------+-------------------+------------------+-------------------------+----------------------+ | Red Hat Enterprise Linux 9.5 | PASS | SKIPPED | SKIPPED | SKIPPED | SKIPPED | SKIPPED | +-------------------------------+--------------------+-------------------+-------------------+------------------+-------------------------+----------------------+ | Ubuntu 22.04 | PASS | SKIPPED | PASS | SKIPPED | SKIPPED | SKIPPED | +-------------------------------+--------------------+-------------------+-------------------+------------------+-------------------------+----------------------+ | Ubuntu 24.04 | PASS | SKIPPED | PASS | PASS | SKIPPED | SKIPPED | +-------------------------------+--------------------+-------------------+-------------------+------------------+-------------------------+----------------------+ | Alpine Linux 3.22.0 | PASS | SKIPPED | SKIPPED | SKIPPED | SKIPPED | SKIPPED | +-------------------------------+--------------------+-------------------+-------------------+------------------+-------------------------+----------------------+ | Windows Server 2022 | SKIPPED | PASS | SKIPPED | SKIPPED | PASS | PASS | +-------------------------------+--------------------+-------------------+-------------------+------------------+-------------------------+----------------------+ Ubuntu 20.04 Kernel: 4.19 Compiler: gcc gcc (Ubuntu 9.4.0-1ubuntu1~20.04.2) 9.4.0 FreeBSD 14.2 Kernel: 14.2-RELEASE Compiler: clang 18.1.6 CentOS Stream 9 Kernel: 5.15 Compiler: gcc gcc (GCC) 11.5.0 20240719 (Red Hat 11.5.0-7) CentOS Stream 10 Kernel: 5.15 Compiler: gcc gcc (GCC) 14.2.1 20250110 (Red Hat 14.2.1-8) Debian GNU/Linux 12 Kernel: 5.15 Compiler: gcc gcc (Debian 12.2.0-14+deb12u1) 12.2.0 Fedora Linux 40 Kernel: 5.15 Compiler: clang gcc (GCC) 14.2.1 20240912 (Red Hat 14.2.1-3) Fedora Linux 41 Kernel: 5.15 Compiler: clang gcc (GCC) 14.3.1 20250523 (Red Hat 14.3.1-1) openSUSE Leap 15.6 Kernel: 5.15 Compiler: gcc gcc (SUSE Linux) 7.5.0 Red Hat Enterprise Linux 8.10 Kernel: 5.15 Compiler: gcc gcc (GCC) 8.5.0 20210514 (Red Hat 8.5.0-22) Red Hat Enterprise Linux 9.5 Kernel: 5.15 Compiler: gcc gcc (GCC) 11.5.0 20240719 (Red Hat 11.5.0-2) Ubuntu 22.04 Kernel: 5.15 Compiler: gcc gcc (Ubuntu 11.4.0-1ubuntu1~22.04) 11.4.0 Ubuntu 24.04 Kernel: 5.15 Compiler: gcc gcc (Ubuntu 13.3.0-6ubuntu2~24.04) 13.3.0 Alpine Linux 3.22.0 Kernel: 5.15 Compiler: gcc gcc (Alpine 14.2.0) 14.2.0 Windows Server 2022 Kernel: 10.0.20348.2031 Compiler: clang 15.0.7, gcc 14.1.0 (MinGW), and MSVC VS 19.39.33521 To view detailed results, visit: https://lab.dpdk.org/results/dashboard/patchsets/33517/ UNH-IOL DPDK Community Lab To manage your email subscriptions, visit: https://lab.dpdk.org/results/dashboard/preferences/subscriptions/