From mboxrd@z Thu Jan  1 00:00:00 1970
Return-Path: <test-report-bounces@dpdk.org>
Received: from mails.dpdk.org (mails.dpdk.org [217.70.189.124])
	by inbox.dpdk.org (Postfix) with ESMTP id 0845146A66
	for <public@inbox.dpdk.org>; Fri, 27 Jun 2025 03:20:47 +0200 (CEST)
Received: from mails.dpdk.org (localhost [127.0.0.1])
	by mails.dpdk.org (Postfix) with ESMTP id D244F40283;
	Fri, 27 Jun 2025 03:20:46 +0200 (CEST)
Received: from mail-qt1-f228.google.com (mail-qt1-f228.google.com
 [209.85.160.228])
 by mails.dpdk.org (Postfix) with ESMTP id 7DA6D40283
 for <test-report@dpdk.org>; Fri, 27 Jun 2025 03:20:45 +0200 (CEST)
Received: by mail-qt1-f228.google.com with SMTP id
 d75a77b69052e-4a6f6d52af7so18181891cf.1
 for <test-report@dpdk.org>; Thu, 26 Jun 2025 18:20:45 -0700 (PDT)
DKIM-Signature: v=1; a=rsa-sha256; c=relaxed/relaxed;
 d=iol.unh.edu; s=unh-iol; t=1750987245; x=1751592045; darn=dpdk.org;
 h=references:in-reply-to:cc:to:from:subject:message-id:date:from:to
 :cc:subject:date:message-id:reply-to;
 bh=KzYRD+TFr6TFbzvzCsjEkM2kwuPRm0wSYSc9ls4LqpI=;
 b=Fh1wgNm6bqthyRH5dNoSoenM6S4PCuqMR7g75TCTzyLRQZtPfAeOzDCQn77vVAKCcE
 DrvcRlRkMTnMroUhmnE8ZViSgrTkZj/zLe5nD3qNSIJs3yWz6IBTBsXKPT1A9PWUwygZ
 /K3vTpIPuwBCOu6P6AEK1iscYAMNx/OzpdDsM=
X-Google-DKIM-Signature: v=1; a=rsa-sha256; c=relaxed/relaxed;
 d=1e100.net; s=20230601; t=1750987245; x=1751592045;
 h=references:in-reply-to:cc:to:from:subject:message-id:date
 :x-gm-message-state:from:to:cc:subject:date:message-id:reply-to;
 bh=KzYRD+TFr6TFbzvzCsjEkM2kwuPRm0wSYSc9ls4LqpI=;
 b=TJ/86iDyT9EPrHMhAbubmyvR9bcSLjdAV1jcdq6nDKxiOy5LHUtT5zCD/u2XY1VkJY
 UPWzMn5VfELTBQCMWq5nZ6bWLsopURZpxe3HdKCWYDxPeu3QBTO0BjCZcze5/TcD8z12
 6cjSBVsapymW8Hj3/VF9yOBuqvxQjhUqJuLVYuKKfvR/7QhE8wRNPNvi14N6zI/UqDCr
 i2SmVJNt+zc3svcIsPber63dTI00k4ZrEz0nkdSq05YBQdn7epkbsDyJlH5SlT4wTDg0
 BNn+4L1cMOIG+fMDNRwmWdPY//LvSqMPlXPFzA2GuM6fkAnnELAQ/Tz5rL1c1FiUkgg/
 vtGg==
X-Gm-Message-State: AOJu0Yyei39G/tM22QWNtpnQUQ4r1qRU39weTv24pFvFdJCtC4h0hNrT
 9lXtcAFLYidfjojOtUEXKsGSCs474cjR/q8M6n4Jet3ZymHDNR8jqyai/6ShH/cYr7pf4fwb1a4
 xRXxb2RnmRfTFKA4HnE6zumnIKVOZTA7h6wnoklA/0o2LNYHUL/kxVVLNXNcM
X-Gm-Gg: ASbGncuGQ16t1jf9A+GcNdUo8gNz3JBj3epCb5CnA/SD6NS0wdLssS+uJBmCtp3jGED
 nD50NdnaK/c6GaVZ+hJyiwLCvXQTLamVz7dT23Bfv5NVWup/79i5e6U+HQbLkDk6DFe5x7ZsV3s
 crRrKMpmTigrelGKwW2avoB39zg/SHojfe2qVvpRsGn1GGixk9/pck5Dy0/k7M6tj1PKbDbCIqR
 2CQ0pwBzug4KijUXgLg4KC3C49WhJArhO9Se+6mURqFDtnjpYQZjN3Xtml5PiSb9b5VyAQ2foI7
 opSWXustNmt5J2EfL4Ypw5lPx3+96+93UYroSy57jsFdt5U=
X-Google-Smtp-Source: AGHT+IGtH44BXvCOloy8ryJA/T4yQOHuVSLRy9HHiH+6SF2JQIdASbhTKhKZ2b1vH4xwKT6VdkP29QHlp6c1
X-Received: by 2002:ac8:5a4e:0:b0:494:ab13:6824 with SMTP id
 d75a77b69052e-4a7fc9fea9amr27258611cf.15.1750987244780; 
 Thu, 26 Jun 2025 18:20:44 -0700 (PDT)
Received: from postal.iol.unh.edu (postal.iol.unh.edu.
 [2606:4100:3880:1234::84]) by smtp-relay.gmail.com with ESMTPS id
 d75a77b69052e-4a7fc1c0c29sm431201cf.11.2025.06.26.18.20.44
 (version=TLS1_2 cipher=ECDHE-ECDSA-AES128-GCM-SHA256 bits=128/128);
 Thu, 26 Jun 2025 18:20:44 -0700 (PDT)
X-Relaying-Domain: iol.unh.edu
Date: Thu, 26 Jun 2025 18:20:44 -0700 (PDT)
Message-ID: <685df1ec.050a0220.1b3183.1f6cSMTPIN_ADDED_MISSING@mx.google.com>
Received: from [172.17.0.2] (unknown [172.18.0.74])
 by postal.iol.unh.edu (Postfix) with ESMTP id 42E366051830;
 Thu, 26 Jun 2025 21:20:44 -0400 (EDT)
Subject: |SUCCESS| pw154750-154751 [PATCH] [v3,2/2] dts: add flow validation
From: dpdklab@iol.unh.edu
To: Test Report <test-report@dpdk.org>
Cc: dpdk-test-reports@iol.unh.edu
In-Reply-To: <20250626195617.219395-2-dmarx@iol.unh.edu>
References: <20250626195617.219395-2-dmarx@iol.unh.edu>
Content-Type: text/plain
X-BeenThere: test-report@dpdk.org
X-Mailman-Version: 2.1.29
Precedence: list
List-Id: automatic DPDK test reports <test-report.dpdk.org>
List-Unsubscribe: <https://mails.dpdk.org/options/test-report>,
 <mailto:test-report-request@dpdk.org?subject=unsubscribe>
List-Archive: <http://mails.dpdk.org/archives/test-report/>
List-Post: <mailto:test-report@dpdk.org>
List-Help: <mailto:test-report-request@dpdk.org?subject=help>
List-Subscribe: <https://mails.dpdk.org/listinfo/test-report>,
 <mailto:test-report-request@dpdk.org?subject=subscribe>
Errors-To: test-report-bounces@dpdk.org

Test-Label: iol-unit-arm64-testing
Test-Status: SUCCESS
http://dpdk.org/patch/154751

_Testing PASS_

Submitter: Dean Marx <dmarx@iol.unh.edu>
Date: Thursday, June 26 2025 19:56:17 
DPDK git baseline: Repo:dpdk
  Branch: master
  CommitID:211e4bb686c082f604af36410988420673b88fdb

154750-154751 --> testing pass

Upstream job id: Generic-Unit-Test-DPDK#350041

Test environment and result as below:

+------------------------------+---------------------------+----------------+------------------------------+--------------+
|         Environment          | cryptodev_sw_zuc_autotest | dpdk_unit_test | cryptodev_sw_snow3g_autotest | lpm_autotest |
+==============================+===========================+================+==============================+==============+
| Debian 12 (arm)              | PASS                      | SKIPPED        | PASS                         | SKIPPED      |
+------------------------------+---------------------------+----------------+------------------------------+--------------+
| CentOS Stream 9              | SKIPPED                   | PASS           | SKIPPED                      | SKIPPED      |
+------------------------------+---------------------------+----------------+------------------------------+--------------+
| Debian GNU/Linux 12          | SKIPPED                   | PASS           | SKIPPED                      | SKIPPED      |
+------------------------------+---------------------------+----------------+------------------------------+--------------+
| Fedora Linux 41              | SKIPPED                   | PASS           | SKIPPED                      | SKIPPED      |
+------------------------------+---------------------------+----------------+------------------------------+--------------+
| CentOS Stream 10             | SKIPPED                   | PASS           | SKIPPED                      | SKIPPED      |
+------------------------------+---------------------------+----------------+------------------------------+--------------+
| Ubuntu 20.04                 | SKIPPED                   | PASS           | SKIPPED                      | PASS         |
+------------------------------+---------------------------+----------------+------------------------------+--------------+
| Fedora Linux 40              | SKIPPED                   | PASS           | SKIPPED                      | SKIPPED      |
+------------------------------+---------------------------+----------------+------------------------------+--------------+
| Ubuntu 22.04                 | SKIPPED                   | PASS           | SKIPPED                      | SKIPPED      |
+------------------------------+---------------------------+----------------+------------------------------+--------------+
| Red Hat Enterprise Linux 9.5 | SKIPPED                   | PASS           | SKIPPED                      | SKIPPED      |
+------------------------------+---------------------------+----------------+------------------------------+--------------+
| Ubuntu 24.04                 | SKIPPED                   | PASS           | SKIPPED                      | SKIPPED      |
+------------------------------+---------------------------+----------------+------------------------------+--------------+


Debian 12 (arm)
	Kernel: Depends on container host
	Compiler: gcc (Debian 12.2.0-14) 12.2.0

CentOS Stream 9
	Kernel: 5.4
	Compiler: gcc gcc (GCC) 11.5.0 20240719 (Red Hat 11.5.0-7)

Debian GNU/Linux 12
	Kernel: 5.4
	Compiler: gcc gcc (Debian 12.2.0-14+deb12u1) 12.2.0

Fedora Linux 41
	Kernel: 5.4
	Compiler: clang gcc (GCC) 14.3.1 20250523 (Red Hat 14.3.1-1)

CentOS Stream 10
	Kernel: 5.4
	Compiler: gcc gcc (GCC) 14.2.1 20250110 (Red Hat 14.2.1-8)

Ubuntu 20.04
	Kernel: 5.4
	Compiler: gcc gcc (Ubuntu 9.4.0-1ubuntu1~20.04.2) 9.4.0

Fedora Linux 40
	Kernel: 5.4
	Compiler: gcc gcc (GCC) 14.2.1 20240912 (Red Hat 14.2.1-3)

Ubuntu 22.04
	Kernel: 5.4
	Compiler: gcc gcc (Ubuntu 11.4.0-1ubuntu1~22.04) 11.4.0

Red Hat Enterprise Linux 9.5
	Kernel: 5.4
	Compiler: gcc gcc (GCC) 11.5.0 20240719 (Red Hat 11.5.0-2)

Ubuntu 24.04
	Kernel: 5.4
	Compiler: gcc gcc (Ubuntu 13.3.0-6ubuntu2~24.04) 13.3.0

To view detailed results, visit:
https://lab.dpdk.org/results/dashboard/patchsets/33516/

UNH-IOL DPDK Community Lab

To manage your email subscriptions, visit: 
https://lab.dpdk.org/results/dashboard/preferences/subscriptions/