From mboxrd@z Thu Jan 1 00:00:00 1970 Return-Path: Received: from mails.dpdk.org (mails.dpdk.org [217.70.189.124]) by inbox.dpdk.org (Postfix) with ESMTP id E6EBA46A67 for ; Fri, 27 Jun 2025 04:06:28 +0200 (CEST) Received: from mails.dpdk.org (localhost [127.0.0.1]) by mails.dpdk.org (Postfix) with ESMTP id E010640283; Fri, 27 Jun 2025 04:06:28 +0200 (CEST) Received: from mail-io1-f98.google.com (mail-io1-f98.google.com [209.85.166.98]) by mails.dpdk.org (Postfix) with ESMTP id 81FBD40283 for ; Fri, 27 Jun 2025 04:06:27 +0200 (CEST) Received: by mail-io1-f98.google.com with SMTP id ca18e2360f4ac-87640a9e237so134434239f.2 for ; Thu, 26 Jun 2025 19:06:27 -0700 (PDT) DKIM-Signature: v=1; a=rsa-sha256; c=relaxed/relaxed; d=iol.unh.edu; s=unh-iol; t=1750989987; x=1751594787; darn=dpdk.org; h=references:in-reply-to:cc:to:from:subject:message-id:date:from:to :cc:subject:date:message-id:reply-to; bh=j4mfs7bfdZ5O7/O0Jjwf+u8MkeVm/edcCEmziFVhsEI=; b=VrJnv14FHvdAvw9x0H2Tn4Tw2bcrT/7qUSm4A6iwoAXv3sihcNJAmyDi4PECbBNkN2 N+WBXNB87r/vLLvB/8E9Pjfu1+kCBBvXs9txtFT9OVYM/V9qeRAgoPukz4hg8HkQtLzT 4QcnPQbfSFq1pF0dhZJuBpKiYTsqWp4qdFXvE= X-Google-DKIM-Signature: v=1; a=rsa-sha256; c=relaxed/relaxed; d=1e100.net; s=20230601; t=1750989987; x=1751594787; h=references:in-reply-to:cc:to:from:subject:message-id:date :x-gm-message-state:from:to:cc:subject:date:message-id:reply-to; bh=j4mfs7bfdZ5O7/O0Jjwf+u8MkeVm/edcCEmziFVhsEI=; b=ORtj87IuDwcjMDaTQtXUJgNa7G0wqdW+56D0jcxxu+vdxf8hbt0X2IuOZZrzVpTVA8 0EFk2eo2YXIJ1vPBY6H+HPvUDqoqxlYsauwfJ48V1S0zKz/o9l70o2JhtjuDD0NbXA61 Au/6fbjPwHCgguufGuc9zWXczBU1PM9moGqYf/KNA9rXG78qq3h7auXpYBAaP6q2mJrS Ue3Gim94DZDPE/0PVEAoLvKLgBvR6TX4A8TmxEcbwP00WMqDhrOtSqi16T4zXNwlKyuz zWhkztdMUHDmaRAvq3aSbp4utq5c42zmGEFCoqiNWxZGI0LAN5Gsn2lFmLUeB8vjFMT3 i/2w== X-Gm-Message-State: AOJu0YwtE9s5z/4qt8rfSFCDjsdwB6NgLovZUU1tLx6bLNzeSWICxfWw urOU6jbXHBv05HG0H3k+MuWhiIjHYdyl5lav6o1ym8ZXWKMZFhe0Q7QqioCGpxmcW+O9RRIcXDP C+DsNnZHOSRQlRvgMOckK5DSWDtm7g6JcGn9VGaAqu3YMYo4Q8xUbJ2lOvy4H X-Gm-Gg: ASbGncvrNCirW7Ay3NTRuTrCFLOEzhmhlQPIC60NJMHHXPGyXtgBQwPuABf3lfROysB MivBlbyeoMGJBLEn3ZyN5WmmBb7ypWM1p6v6eEejiy+MdOGBfYouDvha31ZlaM45UeqV/UsOCUw d2IWx+FVTmPcy4mZRqdNIxPtTH0jYnZGS63xfnwUTCU7tvEJHhcFrVYSob4DqtWVnU7LIATQwsd Ed9+da4UicqzGjon6AKCpww3WCB33l6+AsDA6v55YSrSg+EBa4yHtOrH2Y4cJ0qAbadogBSUpIv KPDgywlNAw02XO0df93nwtqKRqPkkqR/DFYZ5jDZjRG10AA= X-Google-Smtp-Source: AGHT+IF7HrnYS8qceJ0+EiMTF9t2s3GH25Fzg91+iBBoj/Qswr1iah7yjBx61pBC7FOSPWMzoqu076SkOYre X-Received: by 2002:a6b:5c0d:0:b0:873:f23:ff5 with SMTP id ca18e2360f4ac-876883c9ee5mr205051239f.12.1750989986813; Thu, 26 Jun 2025 19:06:26 -0700 (PDT) Received: from postal.iol.unh.edu (postal.iol.unh.edu. [2606:4100:3880:1234::84]) by smtp-relay.gmail.com with ESMTPS id ca18e2360f4ac-876879fef61sm5429439f.5.2025.06.26.19.06.26 (version=TLS1_2 cipher=ECDHE-ECDSA-AES128-GCM-SHA256 bits=128/128); Thu, 26 Jun 2025 19:06:26 -0700 (PDT) X-Relaying-Domain: iol.unh.edu Date: Thu, 26 Jun 2025 19:06:26 -0700 (PDT) Message-ID: <685dfca2.050a0220.184120.29dcSMTPIN_ADDED_MISSING@mx.google.com> Received: from [172.17.0.2] (unknown [172.18.0.74]) by postal.iol.unh.edu (Postfix) with ESMTP id 5A7B16051830; Thu, 26 Jun 2025 22:06:26 -0400 (EDT) Subject: |SUCCESS| pw154752 [PATCH] [v2] net/gve: support gve driver on FreeB From: dpdklab@iol.unh.edu To: Test Report Cc: dpdk-test-reports@iol.unh.edu In-Reply-To: <20250626211921.2291937-1-jtranoleary@google.com> References: <20250626211921.2291937-1-jtranoleary@google.com> Content-Type: text/plain X-BeenThere: test-report@dpdk.org X-Mailman-Version: 2.1.29 Precedence: list List-Id: automatic DPDK test reports List-Unsubscribe: , List-Archive: List-Post: List-Help: List-Subscribe: , Errors-To: test-report-bounces@dpdk.org Test-Label: iol-unit-arm64-testing Test-Status: SUCCESS http://dpdk.org/patch/154752 _Testing PASS_ Submitter: Jasper Tran O'Leary Date: Thursday, June 26 2025 21:19:21 DPDK git baseline: Repo:dpdk Branch: master CommitID:ce2cf3403f2ac2c6e5eac05a43db9207e35e8b9d 154752 --> testing pass Upstream job id: Generic-Unit-Test-DPDK#350067 Test environment and result as below: +------------------------------+------------------------------+---------------------------+--------------+----------------+ | Environment | cryptodev_sw_snow3g_autotest | cryptodev_sw_zuc_autotest | lpm_autotest | dpdk_unit_test | +==============================+==============================+===========================+==============+================+ | Debian 12 (arm) | PASS | PASS | SKIPPED | SKIPPED | +------------------------------+------------------------------+---------------------------+--------------+----------------+ | Ubuntu 20.04 | SKIPPED | SKIPPED | PASS | PASS | +------------------------------+------------------------------+---------------------------+--------------+----------------+ | CentOS Stream 10 | SKIPPED | SKIPPED | SKIPPED | PASS | +------------------------------+------------------------------+---------------------------+--------------+----------------+ | Fedora Linux 40 | SKIPPED | SKIPPED | SKIPPED | PASS | +------------------------------+------------------------------+---------------------------+--------------+----------------+ | CentOS Stream 9 | SKIPPED | SKIPPED | SKIPPED | PASS | +------------------------------+------------------------------+---------------------------+--------------+----------------+ | Debian GNU/Linux 12 | SKIPPED | SKIPPED | SKIPPED | PASS | +------------------------------+------------------------------+---------------------------+--------------+----------------+ | Fedora Linux 41 | SKIPPED | SKIPPED | SKIPPED | PASS | +------------------------------+------------------------------+---------------------------+--------------+----------------+ | Ubuntu 22.04 | SKIPPED | SKIPPED | SKIPPED | PASS | +------------------------------+------------------------------+---------------------------+--------------+----------------+ | Red Hat Enterprise Linux 9.5 | SKIPPED | SKIPPED | SKIPPED | PASS | +------------------------------+------------------------------+---------------------------+--------------+----------------+ | Ubuntu 24.04 | SKIPPED | SKIPPED | SKIPPED | PASS | +------------------------------+------------------------------+---------------------------+--------------+----------------+ Debian 12 (arm) Kernel: Depends on container host Compiler: gcc (Debian 12.2.0-14) 12.2.0 Ubuntu 20.04 Kernel: 5.4 Compiler: gcc gcc (Ubuntu 9.4.0-1ubuntu1~20.04.2) 9.4.0 CentOS Stream 10 Kernel: 5.4 Compiler: gcc gcc (GCC) 14.2.1 20250110 (Red Hat 14.2.1-8) Fedora Linux 40 Kernel: 5.4 Compiler: gcc gcc (GCC) 14.2.1 20240912 (Red Hat 14.2.1-3) CentOS Stream 9 Kernel: 5.4 Compiler: gcc gcc (GCC) 11.5.0 20240719 (Red Hat 11.5.0-7) Debian GNU/Linux 12 Kernel: 5.4 Compiler: gcc gcc (Debian 12.2.0-14+deb12u1) 12.2.0 Fedora Linux 41 Kernel: 5.4 Compiler: gcc gcc (GCC) 14.3.1 20250523 (Red Hat 14.3.1-1) Ubuntu 22.04 Kernel: 5.4 Compiler: gcc gcc (Ubuntu 11.4.0-1ubuntu1~22.04) 11.4.0 Red Hat Enterprise Linux 9.5 Kernel: 5.4 Compiler: gcc gcc (GCC) 11.5.0 20240719 (Red Hat 11.5.0-2) Ubuntu 24.04 Kernel: 5.4 Compiler: gcc gcc (Ubuntu 13.3.0-6ubuntu2~24.04) 13.3.0 To view detailed results, visit: https://lab.dpdk.org/results/dashboard/patchsets/33517/ UNH-IOL DPDK Community Lab To manage your email subscriptions, visit: https://lab.dpdk.org/results/dashboard/preferences/subscriptions/