From mboxrd@z Thu Jan 1 00:00:00 1970 Return-Path: Received: from mails.dpdk.org (mails.dpdk.org [217.70.189.124]) by inbox.dpdk.org (Postfix) with ESMTP id A3BE346A67 for ; Fri, 27 Jun 2025 05:20:03 +0200 (CEST) Received: from mails.dpdk.org (localhost [127.0.0.1]) by mails.dpdk.org (Postfix) with ESMTP id 7F17940267; Fri, 27 Jun 2025 05:20:03 +0200 (CEST) Received: from mail-io1-f100.google.com (mail-io1-f100.google.com [209.85.166.100]) by mails.dpdk.org (Postfix) with ESMTP id 4129E40267 for ; Fri, 27 Jun 2025 05:20:02 +0200 (CEST) Received: by mail-io1-f100.google.com with SMTP id ca18e2360f4ac-86cfc1b6dcaso55070439f.0 for ; Thu, 26 Jun 2025 20:20:02 -0700 (PDT) DKIM-Signature: v=1; a=rsa-sha256; c=relaxed/relaxed; d=iol.unh.edu; s=unh-iol; t=1750994400; x=1751599200; darn=dpdk.org; h=references:in-reply-to:cc:to:from:subject:message-id:date:from:to :cc:subject:date:message-id:reply-to; bh=CRQN4X0Z7B1HxC48nA8YLQdHJzVawyzoT/MFR2HL8/0=; b=aTmgDqvgsWM1yv6rETLXG8eye0pOT9Nj1NtXAe26Cs+P0j2GQCkl0SoCOrAHwLtdzl zXvqSoVFZtDKXQx3WwddxH0GGSYlKhQuqaGsMJMjMQ3+n138vZOzlA6KbV8CSWMRlTxd i5GPnutKL2XwVGagcmwIsyZzRvIjZaS9zU8W4= X-Google-DKIM-Signature: v=1; a=rsa-sha256; c=relaxed/relaxed; d=1e100.net; s=20230601; t=1750994400; x=1751599200; h=references:in-reply-to:cc:to:from:subject:message-id:date :x-gm-message-state:from:to:cc:subject:date:message-id:reply-to; bh=CRQN4X0Z7B1HxC48nA8YLQdHJzVawyzoT/MFR2HL8/0=; b=TLaRg9brzyJLckDTzFUfxTDnjc7YBLRkMnBcUTltHGl6vmsyYMSo+7+oqGoCm2G6O9 HW7bNa3Rq4APOlFVQvN1XZHnwVJG26F36bvrmDPwxZdW67x2RB6BhwhsP79ITaB4VipM TWLsH78nkyM2JXQOEZNjPYMd9UO+Hv5VpNNuDu+/JmGpTK7/VWB9RfRQQY0uefpW/M/g i3g0AgmRcmSKEKlpmshfoPD7tIZH3vuLUjaTgQdokeq/gBQQD5p1C6m0xU385cNwkZFP 3ZdVAB6ZB2UzitjYDudhRqTOKsdrTY4fLiSRqTsQAMQsRQDdd/msISvuJQGv4+i8ZO1b qRcg== X-Gm-Message-State: AOJu0Yy0YCZfcanGAL1CH20RfOqAFk+g4veh9EK6ni59Kuh9+XqO5Bnj Eo1P0DmGF9k8L2d7uv4l9zrQM+Oiq8yyxMmAdto0lzA+Uz529EDHZj3ytSSTIgURODbGg+8lwGd ys8Us6CGwTKKNsTUyvhYyNjN6gUP7KGjJWZ2rGT5gifRu X-Gm-Gg: ASbGncskvL3EWM6IKWcttpAuh+SBU7CDlOIpnaAaPhsu/CwYwDDe1QFWJ5DwSDX5IcA +9w4AubIElkBgtBDYviqTmWMs9EWAL5qOmXgtojszN/l/eFr4PUmGd0g24L7GyHpT0KO4M2KV62 7lIHoc1jKzjyMjj4F9iGDcD850Pe/byRB6tkiTe+SUCBa6ngAREb65xzN2yBSTcv3SUHwbj8nkg UsiCUWaIeD2ct3joo/aOGblitxHGQN7S49ZAv18jaAwOammR6hCBYMBWNR4BGMooQbwou0JA5tg Hw59+/weg0oQu4vFr3qdob0ySmQm+RLCjJ2zz8NBtPbMhlpy5oUlJJJlKefa91BKe0r7eQ== X-Google-Smtp-Source: AGHT+IGTsJIRt1+bHpq8AMrossml/D5fspbvSUeJ7Sda6PXhfpUr4UR7WiWod+fQ3LVS+Gy500JYCxCJNLr6 X-Received: by 2002:a05:6602:341a:b0:875:95b7:c0d6 with SMTP id ca18e2360f4ac-87688559edemr245293339f.2.1750994400497; Thu, 26 Jun 2025 20:20:00 -0700 (PDT) Received: from postal.iol.unh.edu (postal.iol.unh.edu. [132.177.123.84]) by smtp-relay.gmail.com with ESMTPS id 8926c6da1cb9f-50204aaf740sm58052173.69.2025.06.26.20.20.00 (version=TLS1_2 cipher=ECDHE-ECDSA-AES128-GCM-SHA256 bits=128/128); Thu, 26 Jun 2025 20:20:00 -0700 (PDT) X-Relaying-Domain: iol.unh.edu Date: Thu, 26 Jun 2025 20:20:00 -0700 (PDT) Message-ID: <685e0de0.050a0220.340805.30daSMTPIN_ADDED_MISSING@mx.google.com> Received: from [172.17.0.3] (unknown [172.18.0.74]) by postal.iol.unh.edu (Postfix) with ESMTP id 9B51B6051830; Thu, 26 Jun 2025 23:19:59 -0400 (EDT) Subject: |SUCCESS| pw154749 [PATCH] [v2] app/testpmd: cross NUMA support From: dpdklab@iol.unh.edu To: Test Report Cc: dpdk-test-reports@iol.unh.edu In-Reply-To: <20250626175856.1579-1-mkashani@nvidia.com> References: <20250626175856.1579-1-mkashani@nvidia.com> Content-Type: text/plain X-BeenThere: test-report@dpdk.org X-Mailman-Version: 2.1.29 Precedence: list List-Id: automatic DPDK test reports List-Unsubscribe: , List-Archive: List-Post: List-Help: List-Subscribe: , Errors-To: test-report-bounces@dpdk.org Test-Label: iol-compile-arm64-testing Test-Status: SUCCESS http://dpdk.org/patch/154749 _Testing PASS_ Submitter: Maayan Kashani Date: Thursday, June 26 2025 17:58:55 DPDK git baseline: Repo:dpdk Branch: master CommitID:ce2cf3403f2ac2c6e5eac05a43db9207e35e8b9d 154749 --> testing pass Upstream job id: Generic-DPDK-Compile-Meson#402483 Test environment and result as below: +------------------------------+--------------------+ | Environment | dpdk_meson_compile | +==============================+====================+ | Red Hat Enterprise Linux 9.5 | PASS | +------------------------------+--------------------+ | Ubuntu 20.04 | PASS | +------------------------------+--------------------+ | Debian GNU/Linux 12 | PASS | +------------------------------+--------------------+ | Fedora Linux 40 | PASS | +------------------------------+--------------------+ | Fedora Linux 41 | PASS | +------------------------------+--------------------+ | Ubuntu 22.04 | PASS | +------------------------------+--------------------+ | Ubuntu 24.04 | PASS | +------------------------------+--------------------+ | CentOS Stream 9 | PASS | +------------------------------+--------------------+ | CentOS Stream 10 | PASS | +------------------------------+--------------------+ Red Hat Enterprise Linux 9.5 Kernel: 5.4 Compiler: gcc gcc (GCC) 11.5.0 20240719 (Red Hat 11.5.0-2) Ubuntu 20.04 Kernel: 5.15 Compiler: aarch64-linux-gnu-gcc gcc (Ubuntu 9.4.0-1ubuntu1~20.04.2) 9.4.0 Debian GNU/Linux 12 Kernel: 5.4 Compiler: gcc gcc (Debian 12.2.0-14+deb12u1) 12.2.0 Fedora Linux 40 Kernel: 5.4 Compiler: gcc gcc (GCC) 14.2.1 20240912 (Red Hat 14.2.1-3) Fedora Linux 41 Kernel: 5.4 Compiler: gcc gcc (GCC) 14.3.1 20250523 (Red Hat 14.3.1-1) Ubuntu 22.04 Kernel: 5.4 Compiler: gcc gcc (Ubuntu 11.4.0-1ubuntu1~22.04) 11.4.0 Ubuntu 24.04 Kernel: 5.4 Compiler: gcc gcc (Ubuntu 13.3.0-6ubuntu2~24.04) 13.3.0 CentOS Stream 9 Kernel: 5.4 Compiler: gcc gcc (GCC) 11.5.0 20240719 (Red Hat 11.5.0-7) CentOS Stream 10 Kernel: 5.4 Compiler: gcc gcc (GCC) 14.2.1 20250110 (Red Hat 14.2.1-8) To view detailed results, visit: https://lab.dpdk.org/results/dashboard/patchsets/33515/ UNH-IOL DPDK Community Lab To manage your email subscriptions, visit: https://lab.dpdk.org/results/dashboard/preferences/subscriptions/