From mboxrd@z Thu Jan 1 00:00:00 1970 Return-Path: Received: from mails.dpdk.org (mails.dpdk.org [217.70.189.124]) by inbox.dpdk.org (Postfix) with ESMTP id 9069A468FB for ; Fri, 27 Jun 2025 05:28:11 +0200 (CEST) Received: from mails.dpdk.org (localhost [127.0.0.1]) by mails.dpdk.org (Postfix) with ESMTP id 7E63740267; Fri, 27 Jun 2025 05:28:11 +0200 (CEST) Received: from mail-qt1-f225.google.com (mail-qt1-f225.google.com [209.85.160.225]) by mails.dpdk.org (Postfix) with ESMTP id 01D7B40267 for ; Fri, 27 Jun 2025 05:28:10 +0200 (CEST) Received: by mail-qt1-f225.google.com with SMTP id d75a77b69052e-4a752944794so19719261cf.3 for ; Thu, 26 Jun 2025 20:28:10 -0700 (PDT) DKIM-Signature: v=1; a=rsa-sha256; c=relaxed/relaxed; d=iol.unh.edu; s=unh-iol; t=1750994890; x=1751599690; darn=dpdk.org; h=references:in-reply-to:cc:to:from:subject:message-id:date:from:to :cc:subject:date:message-id:reply-to; bh=k1UVzYNIl0IxdpTM/tXksZ/SO5CafwhT3UKOxq2vDuo=; b=J9zu5Mc9ORUn7uhry7nGZvS36+EFiK+boPo1Z9LZdsItpkB/PekS3rmaH5EhcyXno/ GBh3OUh9n/KH2N/NaZZLUVhrPEnEENl/hCBw4IJoEDbVk4hL+9lPXHh+5bN6B5CHhlQZ d0k+LTbkhmYkg1xAm0MSqv0LhKBQbwv0aMkpY= X-Google-DKIM-Signature: v=1; a=rsa-sha256; c=relaxed/relaxed; d=1e100.net; s=20230601; t=1750994890; x=1751599690; h=references:in-reply-to:cc:to:from:subject:message-id:date :x-gm-message-state:from:to:cc:subject:date:message-id:reply-to; bh=k1UVzYNIl0IxdpTM/tXksZ/SO5CafwhT3UKOxq2vDuo=; b=HhYFBpbV4b8ah4GdWULh/fNCzYDSOJAgl8FF5o1dq477OkFWLaoDF1VsEioZDE1cFl +3b9WtHmZ6inQd3fBQ6yGsil3lR3t7F0ohzLFTrBuMmx9Ip3UIHXl5a/Rj1+8rMDT5Ad YzOnRHcRmzTsBlVRt1hfzjhV7BBeBul3f+3FrufQH65HDxEMm3vpJBxupFjgkjdERPo5 Ev0JagVOHqhTQOrqXP1AsJut0gDUCEim4GOqEaBUjG4kAzBLcG8A2lyyzWWTAOhkt0C6 ksbgB7Ud9SWlXRwNbhiu1xdH2Zbl76t1svM6G6yN/IAo5TTT0VkWmu1VpN79b/vT6wBV WUBA== X-Gm-Message-State: AOJu0YwLLM5CGiZjh4amUtpJ95xUp+dR9pKXkiyITKC3CVVz8j7SkWQL sxol0wERtgrWJDiHcnZKJjnclTatgCZyYbjqDSkrJemLc5RzxfUToqO9K7cYNtZ9u92BBEo2oD0 AfuwvJP+wW0xl7PsYmlK1B04t+J+heU/Rkxwuljp5j4B84QpGVnhRQQ0AIYCb X-Gm-Gg: ASbGncuh5aQyB9bCHPrY/PVelgoyJU+p5rupKimdZUvf4B4l165MIVlRZO7RWOJ9sFv E23RxXYzaq+WiP2JEOiEgIkfTCFwrHnea9LhJrVWH4EN2g4dIAp+BIh8Tprsm/4So1mW698s30s 7J3F6XoPWeenA7hV3NsT3wSbKYx9GcqQPiCRT/A2Cyh/smYOM3C3ZFo1CAi5RWiaiW3fcvmDRY6 75NE/kMhZMWq8Y+0Jh4cPUQ43JVt/HrNtIPcPy8VmNcKMdpMoZs76j+o5A/TsJU2TsCQjQnfcDX v/BTSUVhZR/5ti109Wi6SROZkl3Qcwba3RUXQBphIhBS7rE= X-Google-Smtp-Source: AGHT+IFgBLdeGaLganCP7Wlwhi4ZhTj9NDMYwewRRYmyDpeE8FBhjfNXYYpN+6Kjxh7mu9hSQ8ihz51L15bl X-Received: by 2002:a05:622a:5c16:b0:4a6:f774:dec0 with SMTP id d75a77b69052e-4a7fc9f9b8dmr39044891cf.20.1750994890310; Thu, 26 Jun 2025 20:28:10 -0700 (PDT) Received: from postal.iol.unh.edu (postal.iol.unh.edu. [2606:4100:3880:1234::84]) by smtp-relay.gmail.com with ESMTPS id d75a77b69052e-4a7fc1c0f8dsm529011cf.15.2025.06.26.20.28.10 (version=TLS1_2 cipher=ECDHE-ECDSA-AES128-GCM-SHA256 bits=128/128); Thu, 26 Jun 2025 20:28:10 -0700 (PDT) X-Relaying-Domain: iol.unh.edu Date: Thu, 26 Jun 2025 20:28:10 -0700 (PDT) Message-ID: <685e0fca.050a0220.16ba0e.28b6SMTPIN_ADDED_MISSING@mx.google.com> Received: from [172.17.0.2] (unknown [172.18.0.74]) by postal.iol.unh.edu (Postfix) with ESMTP id 101F36051830; Thu, 26 Jun 2025 23:28:10 -0400 (EDT) Subject: |SUCCESS| pw154750-154751 [PATCH] [v3,2/2] dts: add flow validation From: dpdklab@iol.unh.edu To: Test Report Cc: dpdk-test-reports@iol.unh.edu In-Reply-To: <20250626195617.219395-2-dmarx@iol.unh.edu> References: <20250626195617.219395-2-dmarx@iol.unh.edu> Content-Type: text/plain X-BeenThere: test-report@dpdk.org X-Mailman-Version: 2.1.29 Precedence: list List-Id: automatic DPDK test reports List-Unsubscribe: , List-Archive: List-Post: List-Help: List-Subscribe: , Errors-To: test-report-bounces@dpdk.org Test-Label: iol-compile-arm64-testing Test-Status: SUCCESS http://dpdk.org/patch/154751 _Testing PASS_ Submitter: Dean Marx Date: Thursday, June 26 2025 19:56:17 DPDK git baseline: Repo:dpdk Branch: master CommitID:211e4bb686c082f604af36410988420673b88fdb 154750-154751 --> testing pass Upstream job id: Generic-DPDK-Compile-Meson#402516 Test environment and result as below: +------------------------------+--------------------+ | Environment | dpdk_meson_compile | +==============================+====================+ | Red Hat Enterprise Linux 9.5 | PASS | +------------------------------+--------------------+ | Ubuntu 20.04 | PASS | +------------------------------+--------------------+ | Debian GNU/Linux 12 | PASS | +------------------------------+--------------------+ | Fedora Linux 40 | PASS | +------------------------------+--------------------+ | Fedora Linux 41 | PASS | +------------------------------+--------------------+ | Ubuntu 22.04 | PASS | +------------------------------+--------------------+ | Ubuntu 24.04 | PASS | +------------------------------+--------------------+ | CentOS Stream 9 | PASS | +------------------------------+--------------------+ | CentOS Stream 10 | PASS | +------------------------------+--------------------+ Red Hat Enterprise Linux 9.5 Kernel: 5.4 Compiler: gcc gcc (GCC) 11.5.0 20240719 (Red Hat 11.5.0-2) Ubuntu 20.04 Kernel: 5.15 Compiler: aarch64-linux-gnu-gcc gcc (Ubuntu 9.4.0-1ubuntu1~20.04.2) 9.4.0 Debian GNU/Linux 12 Kernel: 5.4 Compiler: gcc gcc (Debian 12.2.0-14+deb12u1) 12.2.0 Fedora Linux 40 Kernel: 5.4 Compiler: gcc gcc (GCC) 14.2.1 20240912 (Red Hat 14.2.1-3) Fedora Linux 41 Kernel: 5.4 Compiler: gcc gcc (GCC) 14.3.1 20250523 (Red Hat 14.3.1-1) Ubuntu 22.04 Kernel: 5.4 Compiler: gcc gcc (Ubuntu 11.4.0-1ubuntu1~22.04) 11.4.0 Ubuntu 24.04 Kernel: 5.4 Compiler: gcc gcc (Ubuntu 13.3.0-6ubuntu2~24.04) 13.3.0 CentOS Stream 9 Kernel: 5.4 Compiler: gcc gcc (GCC) 11.5.0 20240719 (Red Hat 11.5.0-7) CentOS Stream 10 Kernel: 5.4 Compiler: gcc gcc (GCC) 14.2.1 20250110 (Red Hat 14.2.1-8) To view detailed results, visit: https://lab.dpdk.org/results/dashboard/patchsets/33516/ UNH-IOL DPDK Community Lab To manage your email subscriptions, visit: https://lab.dpdk.org/results/dashboard/preferences/subscriptions/