From mboxrd@z Thu Jan  1 00:00:00 1970
Return-Path: <test-report-bounces@dpdk.org>
Received: from mails.dpdk.org (mails.dpdk.org [217.70.189.124])
	by inbox.dpdk.org (Postfix) with ESMTP id 7D341468FB
	for <public@inbox.dpdk.org>; Fri, 27 Jun 2025 16:49:31 +0200 (CEST)
Received: from mails.dpdk.org (localhost [127.0.0.1])
	by mails.dpdk.org (Postfix) with ESMTP id 61942400D5;
	Fri, 27 Jun 2025 16:49:31 +0200 (CEST)
Received: from mail-yb1-f228.google.com (mail-yb1-f228.google.com
 [209.85.219.228])
 by mails.dpdk.org (Postfix) with ESMTP id 5D0D1400D5
 for <test-report@dpdk.org>; Fri, 27 Jun 2025 16:49:30 +0200 (CEST)
Received: by mail-yb1-f228.google.com with SMTP id
 3f1490d57ef6-e740a09eb00so1699797276.0
 for <test-report@dpdk.org>; Fri, 27 Jun 2025 07:49:30 -0700 (PDT)
DKIM-Signature: v=1; a=rsa-sha256; c=relaxed/relaxed;
 d=iol.unh.edu; s=unh-iol; t=1751035769; x=1751640569; darn=dpdk.org;
 h=references:in-reply-to:cc:to:from:subject:message-id:date:from:to
 :cc:subject:date:message-id:reply-to;
 bh=tjobm61Rd8Oa9JCRUwJfe83aOqcn3KTg9aApC4xf4gk=;
 b=MtVJ6CP5xl4RN4VD0/LlYmST6swjHxbSapQEov8d7piOGddexKATiHviEG7rx78c0F
 K/wbh4L+0xqgb1IXZKXQIt9GRQFFWbnUkjiTHI5D/49QnkgegF91zLea/eK33CzP7nmX
 SzJG/iHWRNuiKYb5Yn5ajlNDg48dLg+ncQne4=
X-Google-DKIM-Signature: v=1; a=rsa-sha256; c=relaxed/relaxed;
 d=1e100.net; s=20230601; t=1751035769; x=1751640569;
 h=references:in-reply-to:cc:to:from:subject:message-id:date
 :x-gm-message-state:from:to:cc:subject:date:message-id:reply-to;
 bh=tjobm61Rd8Oa9JCRUwJfe83aOqcn3KTg9aApC4xf4gk=;
 b=IsJC4usHtHeLlfzDrGF7VXw/45c4RKipe+GOsE/bkyqifBh3GCf3mDkR3rHVGRMGOK
 qEj/TZY/DfgLtMODmvYmXH29PD40I6w1aHiaNPv3qCZd80c826uI97ADbhz4aiMcqM/a
 ZBMabNlBFRv1rKdkhUZtK4B+uCnhgqS4BM7sSKI5MI4oehj25QkDElwW9tw+/RPSM2Eq
 2IBhjzCkrpa1oDPoZnW1XhRmOAl0+ZnFczdpYmI25GefzFQIqY8ywMeIQ/UrDYPX76s+
 veLs1FoXknP0XjywjmKOCRefIoM7GgreYt6NEhXcEQOn0p4IZ99U1qC3D0Js6yiKouZL
 C7bQ==
X-Gm-Message-State: AOJu0Yx6SHm3uArmB5UmbdhfAtuxisCsBz3yUMAixk/ZeD/Yvs7ZR3uS
 O/KAVJS08N1sPdUUiwc9gKNyRdXrHi4LGA/mX9j5jB9G7aNWg1PKEmts+Nb7BXQstdp8iUIaMZh
 do9orJ6E9tyGIJGhN4c5nF/+XkfgbtprFirrtmnhMWqVr
X-Gm-Gg: ASbGncvt5qACJJUu/A63EvuMYaHkUNfKy7M0rNAHkpx2rkuh5MP/KOTI0sFY61BR684
 so00YwGKGHKGj46XcwZcwcJ+RguIJ6nxFCgUsaPA9dOrBPKTgnhKphv0Y1Sm38PG+tOp/6kgO/P
 0iI3eN7TsJbhu8Q8wohvspxuN28sdw+FgaGXZLsqhpswh5+AGGyUUfTo0opfXdTvxG/iVzMTKu/
 1UgFEDH0nSaG25S+Q5HifkXuVeVrlD83+eNYLc3ZEOwKaivwst9NOE5APBLXj1CHD3/K3sriaLU
 V0iKM0A2wE4OBwJTpYxNf73iruxhgWuYRSotuDymwAP71FAoHo4D4J6YA1PGr6Ykp/Fpng==
X-Google-Smtp-Source: AGHT+IHDKt1l/uNC0nAUAsqHDpjybgEKNCKHpzFFaRcgykQ3Q96gZ5W5CgInx+8GRieQh9QanDFZGXxi8C0n
X-Received: by 2002:a05:6902:992:b0:e81:b080:31df with SMTP id
 3f1490d57ef6-e87a7b6b588mr4410561276.36.1751035769601; 
 Fri, 27 Jun 2025 07:49:29 -0700 (PDT)
Received: from postal.iol.unh.edu (postal.iol.unh.edu. [132.177.123.84])
 by smtp-relay.gmail.com with ESMTPS id
 3f1490d57ef6-e87a6c30f70sm108502276.26.2025.06.27.07.49.29
 (version=TLS1_2 cipher=ECDHE-ECDSA-AES128-GCM-SHA256 bits=128/128);
 Fri, 27 Jun 2025 07:49:29 -0700 (PDT)
X-Relaying-Domain: iol.unh.edu
Date: Fri, 27 Jun 2025 07:49:29 -0700 (PDT)
Message-ID: <685eaf79.250a0220.2e2e78.6263SMTPIN_ADDED_MISSING@mx.google.com>
Received: from [172.21.0.5] (unknown [172.18.0.240])
 by postal.iol.unh.edu (Postfix) with ESMTP id 0C346604D420;
 Fri, 27 Jun 2025 10:49:29 -0400 (EDT)
Subject: |SUCCESS| pw154775 [PATCH] net/ixgbe: fix sctp mask in flow director
From: dpdklab@iol.unh.edu
To: Test Report <test-report@dpdk.org>
Cc: dpdk-test-reports@iol.unh.edu
In-Reply-To: <20250627085953.286939-1-yuanx.wang@intel.com>
References: <20250627085953.286939-1-yuanx.wang@intel.com>
Content-Type: text/plain
X-BeenThere: test-report@dpdk.org
X-Mailman-Version: 2.1.29
Precedence: list
List-Id: automatic DPDK test reports <test-report.dpdk.org>
List-Unsubscribe: <https://mails.dpdk.org/options/test-report>,
 <mailto:test-report-request@dpdk.org?subject=unsubscribe>
List-Archive: <http://mails.dpdk.org/archives/test-report/>
List-Post: <mailto:test-report@dpdk.org>
List-Help: <mailto:test-report-request@dpdk.org?subject=help>
List-Subscribe: <https://mails.dpdk.org/listinfo/test-report>,
 <mailto:test-report-request@dpdk.org?subject=subscribe>
Errors-To: test-report-bounces@dpdk.org

Test-Label: iol-compile-arm64-testing
Test-Status: SUCCESS
http://dpdk.org/patch/154775

_Testing PASS_

Submitter: Yuan Wang <yuanx.wang@intel.com>
Date: Friday, June 27 2025 08:59:53 
DPDK git baseline: Repo:dpdk
  Branch: master
  CommitID:63a975a32763288ef7063adae6eb9e6b59506c70

154775 --> testing pass

Upstream job id: Generic-DPDK-Compile-Meson#402753

Test environment and result as below:

+------------------------------+--------------------+
|         Environment          | dpdk_meson_compile |
+==============================+====================+
| Red Hat Enterprise Linux 9.5 | PASS               |
+------------------------------+--------------------+
| Ubuntu 20.04                 | PASS               |
+------------------------------+--------------------+
| Debian GNU/Linux 12          | PASS               |
+------------------------------+--------------------+
| Fedora Linux 40              | PASS               |
+------------------------------+--------------------+
| Fedora Linux 41              | PASS               |
+------------------------------+--------------------+
| Ubuntu 22.04                 | PASS               |
+------------------------------+--------------------+
| Ubuntu 24.04                 | PASS               |
+------------------------------+--------------------+
| CentOS Stream 10             | PASS               |
+------------------------------+--------------------+
| CentOS Stream 9              | PASS               |
+------------------------------+--------------------+


Red Hat Enterprise Linux 9.5
	Kernel: 5.4
	Compiler: gcc gcc (GCC) 11.5.0 20240719 (Red Hat 11.5.0-2)

Ubuntu 20.04
	Kernel: 5.4
	Compiler: gcc gcc (Ubuntu 9.4.0-1ubuntu1~20.04.2) 9.4.0

Debian GNU/Linux 12
	Kernel: 5.4
	Compiler: gcc gcc (Debian 12.2.0-14+deb12u1) 12.2.0

Fedora Linux 40
	Kernel: 5.4
	Compiler: gcc gcc (GCC) 14.2.1 20240912 (Red Hat 14.2.1-3)

Fedora Linux 41
	Kernel: 5.4
	Compiler: gcc gcc (GCC) 14.3.1 20250523 (Red Hat 14.3.1-1)

Ubuntu 22.04
	Kernel: 5.4
	Compiler: gcc gcc (Ubuntu 11.4.0-1ubuntu1~22.04) 11.4.0

Ubuntu 24.04
	Kernel: 5.4
	Compiler: gcc gcc (Ubuntu 13.3.0-6ubuntu2~24.04) 13.3.0

CentOS Stream 10
	Kernel: 5.4
	Compiler: gcc gcc (GCC) 14.2.1 20250110 (Red Hat 14.2.1-8)

CentOS Stream 9
	Kernel: 5.4
	Compiler: gcc gcc (GCC) 11.5.0 20240719 (Red Hat 11.5.0-7)

To view detailed results, visit:
https://lab.dpdk.org/results/dashboard/patchsets/33522/

UNH-IOL DPDK Community Lab

To manage your email subscriptions, visit: 
https://lab.dpdk.org/results/dashboard/preferences/subscriptions/