From mboxrd@z Thu Jan 1 00:00:00 1970 Return-Path: Received: from mails.dpdk.org (mails.dpdk.org [217.70.189.124]) by inbox.dpdk.org (Postfix) with ESMTP id F32D546A70 for ; Fri, 27 Jun 2025 17:50:01 +0200 (CEST) Received: from mails.dpdk.org (localhost [127.0.0.1]) by mails.dpdk.org (Postfix) with ESMTP id EA061400D5; Fri, 27 Jun 2025 17:50:01 +0200 (CEST) Received: from mail-il1-f227.google.com (mail-il1-f227.google.com [209.85.166.227]) by mails.dpdk.org (Postfix) with ESMTP id 5DE5B400D5 for ; Fri, 27 Jun 2025 17:50:00 +0200 (CEST) Received: by mail-il1-f227.google.com with SMTP id e9e14a558f8ab-3df2fb6378cso8202555ab.0 for ; Fri, 27 Jun 2025 08:50:00 -0700 (PDT) DKIM-Signature: v=1; a=rsa-sha256; c=relaxed/relaxed; d=iol.unh.edu; s=unh-iol; t=1751039399; x=1751644199; darn=dpdk.org; h=references:in-reply-to:cc:to:from:subject:message-id:date:from:to :cc:subject:date:message-id:reply-to; bh=4Q9l5qiFYZvRL0jurfshgbQo8U8lAMPKouhfy52AT1E=; b=NAclFsaruNlOsW4OUJaIwnwkxUJ2IqsftNifbGPGPkOv6fBzfjT//fb0TXI+kpnBSn yInNU8SdS4R/gy2PQuSXxTHT7WfTrG7tdLOdZELGoKn11pulxfsTalg36SRyiqhN0iHe zZLu3q1zRBmXoMHIIcD19IBU38M/I38FqGblo= X-Google-DKIM-Signature: v=1; a=rsa-sha256; c=relaxed/relaxed; d=1e100.net; s=20230601; t=1751039399; x=1751644199; h=references:in-reply-to:cc:to:from:subject:message-id:date :x-gm-message-state:from:to:cc:subject:date:message-id:reply-to; bh=4Q9l5qiFYZvRL0jurfshgbQo8U8lAMPKouhfy52AT1E=; b=u09hGEHxxQH8fkR86OKrTJyHEck9isXwtQ5CvLWeOyf2db7MCFRjTcmLB3BI6OCrwR geBIgtj64nPlDw6dKLeHpxIvudOe8xFftQNqQPLfEmG84ri0NCFxLcSuul5YQwUIlMsP ZUhenmhIHOBnd0/ZANkyB73UswVPc1PRRVpdRPA6V1ZO5EkwmrHvpdRuE9Ng++XGldWH dq4zBv2ux27oz1N778fw1SgJmYj7YO/VU3y9nVU1WzFxTIAreJVfG6i8wSp4XTH0BuHE P9HHSqRbd7TPZ/16Sb+xUCBKbeOUubyM36FC349fk67bnXJySMiWZ2jmwGTUyFLAbgYB XUqA== X-Gm-Message-State: AOJu0YxyMqgPcFs6vPreJmHUVYXPLf3ygN4naPoHHKmECMS2oqvETbaQ cohoXqKAz5N1wS2o/JNeddQIS6A6K2AhmDGyaD8SDFIM6MIJk5B70yv2otZz82gpCzi/9JI2leU y+ExU90SLMBqagxBgsBkXBUveXYyUMQ1mFhF/2+a2di/vWBKYB85K8/Du+B4D X-Gm-Gg: ASbGncs1sAHOhwx5YvK/VL7jZssaAexS9sXz8RVvLGyy4Z4cnpmV2xeqpxqbigpjFs2 JfwfSnXnpi7D0+sWWbfj9TCBqMvTFw8QdIykxLLjvzOQniwN+SKM8qLy9UOtLXT08z5xvNJGUfz UHd5784B4McdBM8a7z8jIx6v+uUovbAkd7HMUbDo23RLC8Ga3BTPwVjD0BPxeTaDYvmbTB1mm6W s2TjAi/rJ/GEK9MSOA7zg7xJ5a5dnISL/FNMxhCWTe1Cl7K5YOqEydwb+AOKfvkUi7EHAUOrrIJ BhXmTcz2kf8aCDhgjOy++C9B3ZZKhTbLdiFq+TOtHL0ZeYs= X-Google-Smtp-Source: AGHT+IGllpnWhRB3TEbmk/8XBfFMYQv/8RNguMDWCGdeH9KjicpdXDo3q1VDV1PEQrbqZD/Wd7j+IUr7GkXr X-Received: by 2002:a05:6e02:3c88:b0:3dd:bb43:1fc0 with SMTP id e9e14a558f8ab-3df3e315e70mr88685365ab.11.1751039399587; Fri, 27 Jun 2025 08:49:59 -0700 (PDT) Received: from postal.iol.unh.edu (postal.iol.unh.edu. [2606:4100:3880:1234::84]) by smtp-relay.gmail.com with ESMTPS id 8926c6da1cb9f-50204a3f865sm112639173.34.2025.06.27.08.49.59 (version=TLS1_2 cipher=ECDHE-ECDSA-AES128-GCM-SHA256 bits=128/128); Fri, 27 Jun 2025 08:49:59 -0700 (PDT) X-Relaying-Domain: iol.unh.edu Date: Fri, 27 Jun 2025 08:49:59 -0700 (PDT) Message-ID: <685ebda7.050a0220.366c11.5970SMTPIN_ADDED_MISSING@mx.google.com> Received: from [172.21.0.8] (unknown [172.18.0.240]) by postal.iol.unh.edu (Postfix) with ESMTP id 22E3F604D420; Fri, 27 Jun 2025 11:49:59 -0400 (EDT) Subject: |SUCCESS| pw154777-154784 [PATCH] [v6,8/8] lib/pmu: fix out-of-bound From: dpdklab@iol.unh.edu To: Test Report Cc: dpdk-test-reports@iol.unh.edu In-Reply-To: <20250627105740.3388237-9-tduszynski@marvell.com> References: <20250627105740.3388237-9-tduszynski@marvell.com> Content-Type: text/plain X-BeenThere: test-report@dpdk.org X-Mailman-Version: 2.1.29 Precedence: list List-Id: automatic DPDK test reports List-Unsubscribe: , List-Archive: List-Post: List-Help: List-Subscribe: , Errors-To: test-report-bounces@dpdk.org Test-Label: iol-abi-testing Test-Status: SUCCESS http://dpdk.org/patch/154784 _Testing PASS_ Submitter: Tomasz Duszynski Date: Friday, June 27 2025 10:57:40 DPDK git baseline: Repo:dpdk Branch: master CommitID:2aabc7a0c879a876b20364aa989505ee61551165 154777-154784 --> testing pass Upstream job id: Generic-DPDK-Compile-ABI#132078 Test environment and result as below: +-------------------------------+----------+ | Environment | abi_test | +===============================+==========+ | CentOS Stream 9 | PASS | +-------------------------------+----------+ | CentOS Stream 10 | PASS | +-------------------------------+----------+ | Debian GNU/Linux 12 | PASS | +-------------------------------+----------+ | Fedora Linux 40 | PASS | +-------------------------------+----------+ | Fedora Linux 41 | PASS | +-------------------------------+----------+ | openSUSE Leap 15.6 | PASS | +-------------------------------+----------+ | Red Hat Enterprise Linux 9.5 | PASS | +-------------------------------+----------+ | Ubuntu 24.04 | PASS | +-------------------------------+----------+ | Ubuntu 22.04 | PASS | +-------------------------------+----------+ | Red Hat Enterprise Linux 8.10 | PASS | +-------------------------------+----------+ CentOS Stream 9 Kernel: 5.15 Compiler: gcc gcc (GCC) 11.5.0 20240719 (Red Hat 11.5.0-7) CentOS Stream 10 Kernel: 5.15 Compiler: gcc gcc (GCC) 14.2.1 20250110 (Red Hat 14.2.1-8) Debian GNU/Linux 12 Kernel: 5.15 Compiler: gcc gcc (Debian 12.2.0-14+deb12u1) 12.2.0 Fedora Linux 40 Kernel: 5.15 Compiler: clang gcc (GCC) 14.2.1 20240912 (Red Hat 14.2.1-3) Fedora Linux 41 Kernel: 5.15 Compiler: gcc gcc (GCC) 14.3.1 20250523 (Red Hat 14.3.1-1) openSUSE Leap 15.6 Kernel: 5.15 Compiler: gcc gcc (SUSE Linux) 7.5.0 Red Hat Enterprise Linux 9.5 Kernel: 5.15 Compiler: gcc gcc (GCC) 11.5.0 20240719 (Red Hat 11.5.0-2) Ubuntu 24.04 Kernel: 5.15 Compiler: gcc gcc (Ubuntu 13.3.0-6ubuntu2~24.04) 13.3.0 Ubuntu 22.04 Kernel: 5.15 Compiler: gcc gcc (Ubuntu 11.4.0-1ubuntu1~22.04) 11.4.0 Red Hat Enterprise Linux 8.10 Kernel: 5.15 Compiler: gcc gcc (GCC) 8.5.0 20210514 (Red Hat 8.5.0-22) To view detailed results, visit: https://lab.dpdk.org/results/dashboard/patchsets/33524/ UNH-IOL DPDK Community Lab To manage your email subscriptions, visit: https://lab.dpdk.org/results/dashboard/preferences/subscriptions/