From mboxrd@z Thu Jan  1 00:00:00 1970
Return-Path: <test-report-bounces@dpdk.org>
Received: from mails.dpdk.org (mails.dpdk.org [217.70.189.124])
	by inbox.dpdk.org (Postfix) with ESMTP id 799E746A74
	for <public@inbox.dpdk.org>; Fri, 27 Jun 2025 21:21:19 +0200 (CEST)
Received: from mails.dpdk.org (localhost [127.0.0.1])
	by mails.dpdk.org (Postfix) with ESMTP id 75FEA400EF;
	Fri, 27 Jun 2025 21:21:19 +0200 (CEST)
Received: from mail-qk1-f225.google.com (mail-qk1-f225.google.com
 [209.85.222.225])
 by mails.dpdk.org (Postfix) with ESMTP id C5305400EF
 for <test-report@dpdk.org>; Fri, 27 Jun 2025 21:21:18 +0200 (CEST)
Received: by mail-qk1-f225.google.com with SMTP id
 af79cd13be357-7d38b84984dso377109085a.0
 for <test-report@dpdk.org>; Fri, 27 Jun 2025 12:21:18 -0700 (PDT)
DKIM-Signature: v=1; a=rsa-sha256; c=relaxed/relaxed;
 d=iol.unh.edu; s=unh-iol; t=1751052078; x=1751656878; darn=dpdk.org;
 h=references:in-reply-to:cc:to:from:subject:message-id:date:from:to
 :cc:subject:date:message-id:reply-to;
 bh=uGSh7Xz7QJQ8CX8EzGbQKNX01xQ03pet5tMMRTC6P90=;
 b=HDFCnSDJU/MgKElafgr+jJetvCcBVzgIoWcPH+nttCubgmXv6ynZiOHYyAcea8uGJZ
 1qBX+wrZu5iflnee/OE5x3rVDZmBno1Ircu5hzGBJZGQlLDEeuwbK8Qv0dwLicxYlFE1
 cGZ8egQ4Elz3pZ/eOyGtcYiLnDpPKVvhwsmeA=
X-Google-DKIM-Signature: v=1; a=rsa-sha256; c=relaxed/relaxed;
 d=1e100.net; s=20230601; t=1751052078; x=1751656878;
 h=references:in-reply-to:cc:to:from:subject:message-id:date
 :x-gm-message-state:from:to:cc:subject:date:message-id:reply-to;
 bh=uGSh7Xz7QJQ8CX8EzGbQKNX01xQ03pet5tMMRTC6P90=;
 b=uHQBggWSEaNXFLl0pDDnGgxG/GpC54Ev0BYvwPCruAnJpjFrpmRxEvLPr0gbNR40Ib
 UZcZkCZjUeRqY+glihY8XpXZdA3PSo82rorgR3Z561W6EONau4j8v6Haa9oKDSpYHZD+
 bkGcL/iTprEj9MxXwMhKbAB9RebO+hOKrY37k0wLYG4AqUlfycs0cWKsPqaj6b7xUb8S
 aHmpyO+esK2hMRck1Tu5ayoYPyoEoEyacTZ6IK3Au9NQXoXD2qdEXK8q1ATVVwQA6Lej
 hQGjCaUSdH6iIMvyzRHiJWEQplQ4W+V644VuAFAoiMwPxYeS5WlxQ9zGWoWmQIdLAyd2
 BEng==
X-Gm-Message-State: AOJu0YyZYYZP0WIUvqcebyGlpixuTKFZvsaGILvKPOOHvB6riyGLhAwA
 /kx0zxFaV5aqAUU/qKv8O5yYwKmEbvqMPelrhlsBYXq0kJwTA7eWTCXD8eBYz/1NUe/LiRw7zq5
 kMEUVOnK5W8wJMZSTX/8X1SAuXLWt7YqXnYiSz25qXN4N
X-Gm-Gg: ASbGncsKlH1KW9/ns6jYAz9GBUA67JDllnnPHm459BLzkwGQ0T7wMsfBUZPwNJtV/A6
 yor8ORVBJmq0oWSrU5MMz8ElorkogB6e/JjuJhPc3cXcEz4470gC2jfKxB8CORtosma2IBEWVKv
 M4VcOf6BSvddvxVCAdu6rB4vrt92aACav9Tx2aT8VQf1RHFot/jXzxbUSPI2kBc71zJVqjwiaSN
 WzE3JX/GB1cfT5SZtw7S42mymdB8yK6hPyWneESs2WCRKQ6W8uUFDKBET/SyLOPAg6LCN5t4ekD
 +2Tez4I/+nc/pCcqrBZ5U9tC2rCEuG15u7AcBTY4OFjQQtoFcp+/kt7fpcvUjdpusH0ICQ==
X-Google-Smtp-Source: AGHT+IE33zaxfWOEtMNbfxCBakwvV1Pmw6sgezSxGrCVj4IOV8T/lsmitzg7MmDOky84vGq2AFUb81Ru1sqB
X-Received: by 2002:a05:6214:2604:b0:6fb:50d9:5c1a with SMTP id
 6a1803df08f44-6ffed7a42e3mr78959726d6.4.1751052078039; 
 Fri, 27 Jun 2025 12:21:18 -0700 (PDT)
Received: from postal.iol.unh.edu (postal.iol.unh.edu. [132.177.123.84])
 by smtp-relay.gmail.com with ESMTPS id
 6a1803df08f44-6fd771a6ef6sm2489816d6.18.2025.06.27.12.21.17
 (version=TLS1_2 cipher=ECDHE-ECDSA-AES128-GCM-SHA256 bits=128/128);
 Fri, 27 Jun 2025 12:21:18 -0700 (PDT)
X-Relaying-Domain: iol.unh.edu
Date: Fri, 27 Jun 2025 12:21:18 -0700 (PDT)
Message-ID: <685eef2e.050a0220.1a1830.d26cSMTPIN_ADDED_MISSING@mx.google.com>
Received: from [172.21.0.5] (unknown [172.18.0.240])
 by postal.iol.unh.edu (Postfix) with ESMTP id C0107604D420;
 Fri, 27 Jun 2025 15:21:17 -0400 (EDT)
Subject: |SUCCESS| pw154785 [PATCH] net/ice: fix inconsistency in Rx queue VL
From: dpdklab@iol.unh.edu
To: Test Report <test-report@dpdk.org>
Cc: dpdk-test-reports@iol.unh.edu
In-Reply-To: <20250627135201.1393662-1-bruce.richardson@intel.com>
References: <20250627135201.1393662-1-bruce.richardson@intel.com>
Content-Type: text/plain
X-BeenThere: test-report@dpdk.org
X-Mailman-Version: 2.1.29
Precedence: list
List-Id: automatic DPDK test reports <test-report.dpdk.org>
List-Unsubscribe: <https://mails.dpdk.org/options/test-report>,
 <mailto:test-report-request@dpdk.org?subject=unsubscribe>
List-Archive: <http://mails.dpdk.org/archives/test-report/>
List-Post: <mailto:test-report@dpdk.org>
List-Help: <mailto:test-report-request@dpdk.org?subject=help>
List-Subscribe: <https://mails.dpdk.org/listinfo/test-report>,
 <mailto:test-report-request@dpdk.org?subject=subscribe>
Errors-To: test-report-bounces@dpdk.org

Test-Label: iol-unit-amd64-testing
Test-Status: SUCCESS
http://dpdk.org/patch/154785

_Testing PASS_

Submitter: Bruce Richardson <bruce.richardson@intel.com>
Date: Friday, June 27 2025 13:52:01 
DPDK git baseline: Repo:dpdk
  Branch: master
  CommitID:63a975a32763288ef7063adae6eb9e6b59506c70

154785 --> testing pass

Upstream job id: Generic-VM-Unit-Test-DPDK#29533

Test environment and result as below:

+-------------------------------+----------------+
|          Environment          | dpdk_unit_test |
+===============================+================+
| CentOS Stream 9               | PASS           |
+-------------------------------+----------------+
| Debian GNU/Linux 12           | PASS           |
+-------------------------------+----------------+
| Fedora Linux 40               | PASS           |
+-------------------------------+----------------+
| CentOS Stream 10              | PASS           |
+-------------------------------+----------------+
| Fedora Linux 41               | PASS           |
+-------------------------------+----------------+
| Red Hat Enterprise Linux 8.10 | PASS           |
+-------------------------------+----------------+
| Red Hat Enterprise Linux 9.5  | PASS           |
+-------------------------------+----------------+
| Ubuntu 22.04                  | PASS           |
+-------------------------------+----------------+
| Ubuntu 24.04                  | PASS           |
+-------------------------------+----------------+
| Ubuntu 20.04                  | PASS           |
+-------------------------------+----------------+
| Windows Server 2022           | PASS           |
+-------------------------------+----------------+


CentOS Stream 9
	Kernel: 5.15
	Compiler: gcc gcc (GCC) 11.5.0 20240719 (Red Hat 11.5.0-7)

Debian GNU/Linux 12
	Kernel: 5.15
	Compiler: gcc gcc (Debian 12.2.0-14+deb12u1) 12.2.0

Fedora Linux 40
	Kernel: 5.15
	Compiler: gcc gcc (GCC) 14.2.1 20240912 (Red Hat 14.2.1-3)

CentOS Stream 10
	Kernel: 5.15
	Compiler: gcc gcc (GCC) 14.2.1 20250110 (Red Hat 14.2.1-8)

Fedora Linux 41
	Kernel: 5.15
	Compiler: gcc gcc (GCC) 14.3.1 20250523 (Red Hat 14.3.1-1)

Red Hat Enterprise Linux 8.10
	Kernel: 5.15
	Compiler: gcc gcc (GCC) 8.5.0 20210514 (Red Hat 8.5.0-22)

Red Hat Enterprise Linux 9.5
	Kernel: 5.15
	Compiler: gcc gcc (GCC) 11.5.0 20240719 (Red Hat 11.5.0-2)

Ubuntu 22.04
	Kernel: 5.15
	Compiler: gcc gcc (Ubuntu 11.4.0-1ubuntu1~22.04) 11.4.0

Ubuntu 24.04
	Kernel: 5.15
	Compiler: gcc gcc (Ubuntu 13.3.0-6ubuntu2~24.04) 13.3.0

Ubuntu 20.04
	Kernel: 5.15
	Compiler: gcc gcc (Ubuntu 9.4.0-1ubuntu1~20.04.2) 9.4.0

Windows Server 2022
	Kernel: 10.0.20348.2031
	Compiler: clang 15.0.7, gcc 14.1.0 (MinGW), and MSVC VS 19.39.33521

To view detailed results, visit:
https://lab.dpdk.org/results/dashboard/patchsets/33525/

UNH-IOL DPDK Community Lab

To manage your email subscriptions, visit: 
https://lab.dpdk.org/results/dashboard/preferences/subscriptions/