From mboxrd@z Thu Jan  1 00:00:00 1970
Return-Path: <test-report-bounces@dpdk.org>
Received: from mails.dpdk.org (mails.dpdk.org [217.70.189.124])
	by inbox.dpdk.org (Postfix) with ESMTP id CD78E46A75
	for <public@inbox.dpdk.org>; Fri, 27 Jun 2025 22:10:47 +0200 (CEST)
Received: from mails.dpdk.org (localhost [127.0.0.1])
	by mails.dpdk.org (Postfix) with ESMTP id C101B400EF;
	Fri, 27 Jun 2025 22:10:47 +0200 (CEST)
Received: from mail-io1-f100.google.com (mail-io1-f100.google.com
 [209.85.166.100])
 by mails.dpdk.org (Postfix) with ESMTP id E5A3F400EF
 for <test-report@dpdk.org>; Fri, 27 Jun 2025 22:10:46 +0200 (CEST)
Received: by mail-io1-f100.google.com with SMTP id
 ca18e2360f4ac-86a052d7897so205910639f.0
 for <test-report@dpdk.org>; Fri, 27 Jun 2025 13:10:46 -0700 (PDT)
DKIM-Signature: v=1; a=rsa-sha256; c=relaxed/relaxed;
 d=iol.unh.edu; s=unh-iol; t=1751055046; x=1751659846; darn=dpdk.org;
 h=references:in-reply-to:cc:to:from:subject:message-id:date:from:to
 :cc:subject:date:message-id:reply-to;
 bh=Ugyx6BOIl07KLhGsPrMSIZlAXymEjXGgOmMYmOBa7nI=;
 b=QGeUn4qjTrZlw1oHEP9uW1jnRGGI9J72GOlU/jCrXwZXOnLEvi6Dno5WaCl1tKlF6P
 akgsGvpr4IL2GlAqD2DvuMyzA8tZkw5Q0y10zWhvmn+E7gkZN/jzPONQuUMi9PbKmDnN
 YfIf806ywVu6W9zf8Ywj7bPA5TNQ57cWMtMYM=
X-Google-DKIM-Signature: v=1; a=rsa-sha256; c=relaxed/relaxed;
 d=1e100.net; s=20230601; t=1751055046; x=1751659846;
 h=references:in-reply-to:cc:to:from:subject:message-id:date
 :x-gm-message-state:from:to:cc:subject:date:message-id:reply-to;
 bh=Ugyx6BOIl07KLhGsPrMSIZlAXymEjXGgOmMYmOBa7nI=;
 b=LXGFW8kSSvNCqkJOVky/vcQi9vZzeu5hL64GuJrKL1fPT83IdOFM6p13QqZ9AJqFZ9
 4/TKt1F2bXipXOB+0cgyY1TJn/Y+t3D4BcsXBFKHnEGPNVz1bSJEHgAPoTg2IpRv34Lp
 rp2PolBusYasrmlWl2KEC3i1Mmse2Af6fzT13GQy9OyMgAKm6kElghJxAz06S5nnLEpe
 zfjlqry3zUyzkfb7OWPAepWw0RjtCLQSBpfWoLSx4CZX9XOmCNvSr4QjqhD9apiAZ/Iz
 1jhPts5I9Quj96w1028poJn6vGQVJYFC4jVCl5xwp7AKy5NTKMc/JPTWNSu9gzF8wUsB
 PElA==
X-Gm-Message-State: AOJu0YzewSXX1NbHPfn/xXSWiT4LYR3/fukY+BOWBezDOIoUiUbzmxzy
 pdxbPc7wWcVjhOVZlPst+uErhs06JTP4a5zEqRlY+EvM9pagAO1dil7IHlkw27kvQC1k/5ltCJP
 UKXz+xVf1MLMBHHMUeR+GF6tkk9CUKJFjtWvaYH7b4cBe
X-Gm-Gg: ASbGnctXrejY9pkVZG54mPIt+NfytnVZBk6fLbTr/iYDKY+nFRQr1THDdxsihrqRw60
 GZ/x4TrfvDMeGMflSMU77ZJ25EAt9aB46FfYL+yNTexEdiMVnlrJ3W7Z4pAfU56GXk45AdA5FFv
 LMt5OItsxw9fkilLN9sUQywGCAq7qSjQdDRloQjd/VzXekvUDK9PD8EsBrFa7rmWwS7ovgPRNMp
 pOnsNEGUsjGDyH6k52pJ/C3egxnKsRP8bhhw+zyVddaaiCSwVdNr8ZD+8PdMxUqEdADWhUz5qix
 t8TcUqhQMbnif9GIj2cHQR+zraDnKxSnERh1AjTfBYE1vWPYAPo73d6mQ1yQvAzfi/uXAw==
X-Google-Smtp-Source: AGHT+IGe0xGR0C7jb3a9guWR97CrtIlsHIGmzad0IAh/83cAp5x0KZJQIRrIOrV28tVypfTvjcND6kRpuY2P
X-Received: by 2002:a05:6602:4005:b0:86d:f35:a100 with SMTP id
 ca18e2360f4ac-87688579347mr574541539f.5.1751055046218; 
 Fri, 27 Jun 2025 13:10:46 -0700 (PDT)
Received: from postal.iol.unh.edu (postal.iol.unh.edu. [132.177.123.84])
 by smtp-relay.gmail.com with ESMTPS id
 ca18e2360f4ac-876879fef61sm12255539f.5.2025.06.27.13.10.46
 (version=TLS1_2 cipher=ECDHE-ECDSA-AES128-GCM-SHA256 bits=128/128);
 Fri, 27 Jun 2025 13:10:46 -0700 (PDT)
X-Relaying-Domain: iol.unh.edu
Date: Fri, 27 Jun 2025 13:10:46 -0700 (PDT)
Message-ID: <685efac6.050a0220.184120.624eSMTPIN_ADDED_MISSING@mx.google.com>
Received: from [172.21.0.5] (unknown [172.18.0.240])
 by postal.iol.unh.edu (Postfix) with ESMTP id B11C9604D420;
 Fri, 27 Jun 2025 16:10:45 -0400 (EDT)
Subject: |SUCCESS| pw154786-154787 [PATCH] [2/2] dts: rework test results
From: dpdklab@iol.unh.edu
To: Test Report <test-report@dpdk.org>
Cc: dpdk-test-reports@iol.unh.edu
In-Reply-To: <20250627151241.335114-3-thomas.wilks@arm.com>
References: <20250627151241.335114-3-thomas.wilks@arm.com>
Content-Type: text/plain
X-BeenThere: test-report@dpdk.org
X-Mailman-Version: 2.1.29
Precedence: list
List-Id: automatic DPDK test reports <test-report.dpdk.org>
List-Unsubscribe: <https://mails.dpdk.org/options/test-report>,
 <mailto:test-report-request@dpdk.org?subject=unsubscribe>
List-Archive: <http://mails.dpdk.org/archives/test-report/>
List-Post: <mailto:test-report@dpdk.org>
List-Help: <mailto:test-report-request@dpdk.org?subject=help>
List-Subscribe: <https://mails.dpdk.org/listinfo/test-report>,
 <mailto:test-report-request@dpdk.org?subject=subscribe>
Errors-To: test-report-bounces@dpdk.org

Test-Label: iol-unit-amd64-testing
Test-Status: SUCCESS
http://dpdk.org/patch/154787

_Testing PASS_

Submitter: Thomas Wilks <thomas.wilks@arm.com>
Date: Friday, June 27 2025 15:12:41 
DPDK git baseline: Repo:dpdk
  Branch: master
  CommitID:6a3e1088697462eba198896343cc8528939ef82a

154786-154787 --> testing pass

Upstream job id: Generic-VM-Unit-Test-DPDK#29534

Test environment and result as below:

+-------------------------------+----------------+
|          Environment          | dpdk_unit_test |
+===============================+================+
| Fedora Linux 41               | PASS           |
+-------------------------------+----------------+
| Debian GNU/Linux 12           | PASS           |
+-------------------------------+----------------+
| Fedora Linux 40               | PASS           |
+-------------------------------+----------------+
| CentOS Stream 9               | PASS           |
+-------------------------------+----------------+
| Ubuntu 20.04                  | PASS           |
+-------------------------------+----------------+
| CentOS Stream 10              | PASS           |
+-------------------------------+----------------+
| Red Hat Enterprise Linux 8.10 | PASS           |
+-------------------------------+----------------+
| Ubuntu 22.04                  | PASS           |
+-------------------------------+----------------+
| Red Hat Enterprise Linux 9.5  | PASS           |
+-------------------------------+----------------+
| Ubuntu 24.04                  | PASS           |
+-------------------------------+----------------+
| Windows Server 2022           | PASS           |
+-------------------------------+----------------+


Fedora Linux 41
	Kernel: 5.15
	Compiler: gcc gcc (GCC) 14.3.1 20250523 (Red Hat 14.3.1-1)

Debian GNU/Linux 12
	Kernel: 5.15
	Compiler: gcc gcc (Debian 12.2.0-14+deb12u1) 12.2.0

Fedora Linux 40
	Kernel: 5.15
	Compiler: gcc gcc (GCC) 14.2.1 20240912 (Red Hat 14.2.1-3)

CentOS Stream 9
	Kernel: 5.15
	Compiler: gcc gcc (GCC) 11.5.0 20240719 (Red Hat 11.5.0-7)

Ubuntu 20.04
	Kernel: 5.15
	Compiler: gcc gcc (Ubuntu 9.4.0-1ubuntu1~20.04.2) 9.4.0

CentOS Stream 10
	Kernel: 5.15
	Compiler: gcc gcc (GCC) 14.2.1 20250110 (Red Hat 14.2.1-8)

Red Hat Enterprise Linux 8.10
	Kernel: 5.15
	Compiler: gcc gcc (GCC) 8.5.0 20210514 (Red Hat 8.5.0-22)

Ubuntu 22.04
	Kernel: 5.15
	Compiler: gcc gcc (Ubuntu 11.4.0-1ubuntu1~22.04) 11.4.0

Red Hat Enterprise Linux 9.5
	Kernel: 5.15
	Compiler: gcc gcc (GCC) 11.5.0 20240719 (Red Hat 11.5.0-2)

Ubuntu 24.04
	Kernel: 5.15
	Compiler: gcc gcc (Ubuntu 13.3.0-6ubuntu2~24.04) 13.3.0

Windows Server 2022
	Kernel: 10.0.20348.2031
	Compiler: clang 15.0.7, gcc 14.1.0 (MinGW), and MSVC VS 19.39.33521

To view detailed results, visit:
https://lab.dpdk.org/results/dashboard/patchsets/33526/

UNH-IOL DPDK Community Lab

To manage your email subscriptions, visit: 
https://lab.dpdk.org/results/dashboard/preferences/subscriptions/