From mboxrd@z Thu Jan 1 00:00:00 1970 Return-Path: Received: from mails.dpdk.org (mails.dpdk.org [217.70.189.124]) by inbox.dpdk.org (Postfix) with ESMTP id 4DEAB46A75 for ; Sat, 28 Jun 2025 00:32:05 +0200 (CEST) Received: from mails.dpdk.org (localhost [127.0.0.1]) by mails.dpdk.org (Postfix) with ESMTP id 23444402B3; Sat, 28 Jun 2025 00:32:05 +0200 (CEST) Received: from mail-io1-f99.google.com (mail-io1-f99.google.com [209.85.166.99]) by mails.dpdk.org (Postfix) with ESMTP id 6F471402B3 for ; Sat, 28 Jun 2025 00:32:04 +0200 (CEST) Received: by mail-io1-f99.google.com with SMTP id ca18e2360f4ac-86a052d7897so215393039f.0 for ; Fri, 27 Jun 2025 15:32:04 -0700 (PDT) DKIM-Signature: v=1; a=rsa-sha256; c=relaxed/relaxed; d=iol.unh.edu; s=unh-iol; t=1751063523; x=1751668323; darn=dpdk.org; h=references:in-reply-to:cc:to:from:subject:message-id:date:from:to :cc:subject:date:message-id:reply-to; bh=jUne9Hmnm4Ve1PyL4sphKwx86HyhBaofpsZbIF6rPTQ=; b=gW61MoVrwfbJN48Y38gORUktmGrxiq2Jo7Sj34Ca9hT2/XapZuvl4ujtN0S/Wote2J LyZmGNS0qyqUZw0hc43T6N1dzbdE6WMvtzGooKRDXVmBqB2WZwRjEfevbpFGm+ED1TWh 96CjUnSIkZQYKQBS3sIG8hP43XSae5uABQKXg= X-Google-DKIM-Signature: v=1; a=rsa-sha256; c=relaxed/relaxed; d=1e100.net; s=20230601; t=1751063523; x=1751668323; h=references:in-reply-to:cc:to:from:subject:message-id:date :x-gm-message-state:from:to:cc:subject:date:message-id:reply-to; bh=jUne9Hmnm4Ve1PyL4sphKwx86HyhBaofpsZbIF6rPTQ=; b=W4GMYVUdxOQl+JIDKheMk678HrSjHZt/NBmK8M8GKqmYOapTQyyMCAQhkFa9zFDW0p cMG+s3WkOWGe85ljrx03BXSrA4csPRroQgGd6e12i6FRnJL60x1F9GWJtmOUi5tZ7sKj UogJYQhMQOrod/jQJKvmQzd/9vQ0bAuXSFHcuvWVXAgb5DtD0QTbGYiks7iHnrqpjZkV dWeNv1nMx1uZavruzsyiAkU10ZSsEKv+oYIUvF/fPcNOcYG5yqPnVKh+Rzgy1x6LB73d z691nA14ic2SIISaWnJVjtzlsjtE/H/WgmX2/HczoHIu84EAzpdaMuB3WkY5oH8UJj34 WU0Q== X-Gm-Message-State: AOJu0YyhWeQjq7VaC85Z860IuQD50Tl7NwySfsfqDxNV1p9VV4iGCJLB HYittGDevy9hljlMaP0fJJX/kJtMlHywnz5kKI+vkUYlZ6Di+N27v00ekpiXA2x4FcR8BiD1k/x daoDzyE5W53OIXGRURfYj6lSNW0+dxVaSgcESq4gihxQCGqWXnhQt0iL/53mu X-Gm-Gg: ASbGncs+xUFP8A/zbmeYhohksPMtm6OHD9qmkjV23POFeAfymmQooD15Sv2fN82FHZk XE70KPQnNMT3h/vhnfjpI3hSRI5itoQZlflUKS4WpwHm4ErgfLR1fNhak5c/wCv2o6XsTwr/lfW DWSg2BMcwhFLxTvkseYm4S7X8ySJeaCFJypDKM/LLceIFvN/vG/Gz1UL3hUci++QjrGvhGHmCSv PiXVbo+yHE3tlGScr57xZbyArOBdqt3otr8neRhZaz1yL/I2/+8w0Zlw5yVurt5IZ4MYmKYAzh3 L0+AJ6VaKHKdjPUlW6VIePMGfeTh+Alc9RUUeHDHhbezXh0= X-Google-Smtp-Source: AGHT+IEqdyIax2jLxGjajbKJdeoPSE21aD354etSZMWwn7U9af7oQ2Dbph+cVUUy52AYV1qdBuLfhOkfwPTG X-Received: by 2002:a05:6e02:1f85:b0:3dd:b5ef:4556 with SMTP id e9e14a558f8ab-3df4acb74d5mr78412025ab.18.1751063523603; Fri, 27 Jun 2025 15:32:03 -0700 (PDT) Received: from postal.iol.unh.edu (postal.iol.unh.edu. [2606:4100:3880:1234::84]) by smtp-relay.gmail.com with ESMTPS id e9e14a558f8ab-3df49fff9bcsm1838765ab.8.2025.06.27.15.32.03 (version=TLS1_2 cipher=ECDHE-ECDSA-AES128-GCM-SHA256 bits=128/128); Fri, 27 Jun 2025 15:32:03 -0700 (PDT) X-Relaying-Domain: iol.unh.edu Date: Fri, 27 Jun 2025 15:32:03 -0700 (PDT) Message-ID: <685f1be3.050a0220.3611ed.95deSMTPIN_ADDED_MISSING@mx.google.com> Received: from [172.21.0.6] (unknown [172.18.0.240]) by postal.iol.unh.edu (Postfix) with ESMTP id 43BB86051830; Fri, 27 Jun 2025 18:32:03 -0400 (EDT) Subject: |SUCCESS| pw154788 [PATCH] build: error out when missing elftools py From: dpdklab@iol.unh.edu To: Test Report Cc: dpdk-test-reports@iol.unh.edu In-Reply-To: <20250627152759.145084-1-bruce.richardson@intel.com> References: <20250627152759.145084-1-bruce.richardson@intel.com> Content-Type: text/plain X-BeenThere: test-report@dpdk.org X-Mailman-Version: 2.1.29 Precedence: list List-Id: automatic DPDK test reports List-Unsubscribe: , List-Archive: List-Post: List-Help: List-Subscribe: , Errors-To: test-report-bounces@dpdk.org Test-Label: iol-abi-testing Test-Status: SUCCESS http://dpdk.org/patch/154788 _Testing PASS_ Submitter: Bruce Richardson Date: Friday, June 27 2025 15:27:59 DPDK git baseline: Repo:dpdk Branch: master CommitID:2c6f1f0a847898732c18c8b37821850f1b48aa9d 154788 --> testing pass Upstream job id: Generic-DPDK-Compile-ABI#132115 Test environment and result as below: +-------------------------------+----------+ | Environment | abi_test | +===============================+==========+ | Debian GNU/Linux 12 | PASS | +-------------------------------+----------+ | Fedora Linux 40 | PASS | +-------------------------------+----------+ | CentOS Stream 9 | PASS | +-------------------------------+----------+ | CentOS Stream 10 | PASS | +-------------------------------+----------+ | Fedora Linux 41 | PASS | +-------------------------------+----------+ | Ubuntu 24.04 | PASS | +-------------------------------+----------+ | openSUSE Leap 15.6 | PASS | +-------------------------------+----------+ | Red Hat Enterprise Linux 8.10 | PASS | +-------------------------------+----------+ | Red Hat Enterprise Linux 9.5 | PASS | +-------------------------------+----------+ | Ubuntu 22.04 | PASS | +-------------------------------+----------+ Debian GNU/Linux 12 Kernel: 5.15 Compiler: gcc gcc (Debian 12.2.0-14+deb12u1) 12.2.0 Fedora Linux 40 Kernel: 5.15 Compiler: gcc gcc (GCC) 14.2.1 20240912 (Red Hat 14.2.1-3) CentOS Stream 9 Kernel: 5.15 Compiler: gcc gcc (GCC) 11.5.0 20240719 (Red Hat 11.5.0-7) CentOS Stream 10 Kernel: 5.15 Compiler: gcc gcc (GCC) 14.2.1 20250110 (Red Hat 14.2.1-8) Fedora Linux 41 Kernel: 5.15 Compiler: clang gcc (GCC) 14.3.1 20250523 (Red Hat 14.3.1-1) Ubuntu 24.04 Kernel: 5.15 Compiler: gcc gcc (Ubuntu 13.3.0-6ubuntu2~24.04) 13.3.0 openSUSE Leap 15.6 Kernel: 5.15 Compiler: gcc gcc (SUSE Linux) 7.5.0 Red Hat Enterprise Linux 8.10 Kernel: 5.15 Compiler: gcc gcc (GCC) 8.5.0 20210514 (Red Hat 8.5.0-22) Red Hat Enterprise Linux 9.5 Kernel: 5.15 Compiler: gcc gcc (GCC) 11.5.0 20240719 (Red Hat 11.5.0-2) Ubuntu 22.04 Kernel: 5.15 Compiler: gcc gcc (Ubuntu 11.4.0-1ubuntu1~22.04) 11.4.0 To view detailed results, visit: https://lab.dpdk.org/results/dashboard/patchsets/33527/ UNH-IOL DPDK Community Lab To manage your email subscriptions, visit: https://lab.dpdk.org/results/dashboard/preferences/subscriptions/