From mboxrd@z Thu Jan 1 00:00:00 1970 Return-Path: Received: from mails.dpdk.org (mails.dpdk.org [217.70.189.124]) by inbox.dpdk.org (Postfix) with ESMTP id 7F8CE46A75 for ; Sat, 28 Jun 2025 01:12:28 +0200 (CEST) Received: from mails.dpdk.org (localhost [127.0.0.1]) by mails.dpdk.org (Postfix) with ESMTP id 7BC4D402B3; Sat, 28 Jun 2025 01:12:28 +0200 (CEST) Received: from mail-pf1-f228.google.com (mail-pf1-f228.google.com [209.85.210.228]) by mails.dpdk.org (Postfix) with ESMTP id 4469D402B3 for ; Sat, 28 Jun 2025 01:12:27 +0200 (CEST) Received: by mail-pf1-f228.google.com with SMTP id d2e1a72fcca58-742c7a52e97so3262979b3a.3 for ; Fri, 27 Jun 2025 16:12:27 -0700 (PDT) DKIM-Signature: v=1; a=rsa-sha256; c=relaxed/relaxed; d=iol.unh.edu; s=unh-iol; t=1751065946; x=1751670746; darn=dpdk.org; h=references:in-reply-to:cc:to:from:subject:message-id:date:from:to :cc:subject:date:message-id:reply-to; bh=8K7wiJtZO9hMvkx+bFT96DWGwOAW1X5JWBeZ5KzLT60=; b=JP3HGLR4zuIqFxsOA4PJ2oj9sbfqwxfpFL4BAcK4T7XwEoGOtSo4Rudc9TEfVGNdu/ yeAJPNjFLQBDTJfsb7ZUWFsW6Ip/3Z53ZtKdJq8QYmffq01Y0N6RUKmg+MaL+aNJpz1d FYYsycNjrNHhdPGygRll+UmbMsww9z4cgZGwk= X-Google-DKIM-Signature: v=1; a=rsa-sha256; c=relaxed/relaxed; d=1e100.net; s=20230601; t=1751065946; x=1751670746; h=references:in-reply-to:cc:to:from:subject:message-id:date :x-gm-message-state:from:to:cc:subject:date:message-id:reply-to; bh=8K7wiJtZO9hMvkx+bFT96DWGwOAW1X5JWBeZ5KzLT60=; b=OwktUWGEb2+ayLyfRCUZdmrpJLzv8Rk/+zDy1HvJhXRItdUp+7Nsh6O5SfbH7h6CNG f/kyQ4Fnz3tlFSDojsTestFjTN0GdWNfjeDHrqpeMZsc3w5po/ieuLB3wMMtnpzwsXPm M+7fXCRfCmCIDxEZurl5U20LqNBTnMXLBx6260FjDivv3H2ZW6KzlXOY8V68/rqOT7dJ QMkznWh4rF6q9DYCkJHScad6dZ1PiD34ObhOG5aANwOe15XLMSL3g+4mPi+759+Ex2F7 qrJ7cJrrHDOHHNdl9LYrqk8nfNU0YJvJ/YWxhUMbQ+9MM/8cXflpZL+MhDF8nBykBkDd FbMw== X-Gm-Message-State: AOJu0YzGrlP7VEAFygfwixZkH7xpcybDcvsWnoUYEVnn3Vd8IK2Fj2VV pdxjsUrlSe9CUDoqpKAqYLYPsUUO5Ebpml3JrxMvFgh6sFx1173SdSHPN46bU9W9i/WLxXV4Lvb jzRcVO3gG/LhxfRaezr8v22ol0fBGd0ZIo1n8c1QBVxG/ X-Gm-Gg: ASbGnctaNOGOYA97nz94XytNFsj+CDMoKvLX/x9bbfe6+7NkOzGTDBldvfLVnoQQ9U0 U9t5yUmDGLXf73EppXGP1DxTALnlBtk6XAx98XGeYPM59Zaf4KwtJYyVrA+OgM4ahbII6Xkgywl EfglYCOgomaBkrXSyDrBRotK2/QZNfrnb5EeyU1qm3Hw9gm9WuPccUnP6y0IRm7AbfjS68HI+er +tP5SlD+rUc3JmeJOH0qpEgptq9tFpDRhG4aUG2kC5JezWHhBKTsT/ahDpY2NWrc+95yOLB5Fyn YQm7Ar2oZi0sPvGzL61n+8yWR6T9scdtCQjjXX5iq7qw2tWRmmUWCLvVj09fCTWqbjMbag== X-Google-Smtp-Source: AGHT+IFu60219WjQcGOWTYtrtcf/SbPM1EWj40MzuwI+WJlF9u5Fmto384G26JCUbjgUxj8cO0xjIINoH1Bc X-Received: by 2002:a05:6a20:3d8c:b0:21a:d503:f47c with SMTP id adf61e73a8af0-220a17e9abdmr7915501637.28.1751065946568; Fri, 27 Jun 2025 16:12:26 -0700 (PDT) Received: from postal.iol.unh.edu (postal.iol.unh.edu. [132.177.123.84]) by smtp-relay.gmail.com with ESMTPS id d2e1a72fcca58-74af5501f62sm175583b3a.18.2025.06.27.16.12.26 (version=TLS1_2 cipher=ECDHE-ECDSA-AES128-GCM-SHA256 bits=128/128); Fri, 27 Jun 2025 16:12:26 -0700 (PDT) X-Relaying-Domain: iol.unh.edu Date: Fri, 27 Jun 2025 16:12:26 -0700 (PDT) Message-ID: <685f255a.a70a0220.31763.90c4SMTPIN_ADDED_MISSING@mx.google.com> Received: from [172.21.0.5] (unknown [172.18.0.240]) by postal.iol.unh.edu (Postfix) with ESMTP id 0C47B6051830; Fri, 27 Jun 2025 19:12:26 -0400 (EDT) Subject: |WARNING| pw154789-154796 [PATCH] [v7,8/8] lib/pmu: fix out-of-bound From: dpdklab@iol.unh.edu To: Test Report Cc: dpdk-test-reports@iol.unh.edu In-Reply-To: <20250627154107.3405768-9-tduszynski@marvell.com> References: <20250627154107.3405768-9-tduszynski@marvell.com> Content-Type: text/plain X-BeenThere: test-report@dpdk.org X-Mailman-Version: 2.1.29 Precedence: list List-Id: automatic DPDK test reports List-Unsubscribe: , List-Archive: List-Post: List-Help: List-Subscribe: , Errors-To: test-report-bounces@dpdk.org Test-Label: iol-compile-amd64-testing Test-Status: WARNING http://dpdk.org/patch/154796 _Testing issues_ Submitter: Tomasz Duszynski Date: Friday, June 27 2025 15:41:07 DPDK git baseline: Repo:dpdk Branch: master CommitID:2c6f1f0a847898732c18c8b37821850f1b48aa9d 154789-154796 --> testing issues Upstream job id: Generic-DPDK-Compile-Meson#402978 Test environment and result as below: +-------------------------------+--------------------+-------------------+------------------+-------------------+-------------------------+----------------------+ | Environment | dpdk_meson_compile | dpdk_compile_spdk | dpdk_compile_ovs | dpdk_msvc_compile | dpdk_llvm_clang_compile | dpdk_mingw64_compile | +===============================+====================+===================+==================+===================+=========================+======================+ | CentOS Stream 9 | PASS | WARN | SKIPPED | SKIPPED | SKIPPED | SKIPPED | +-------------------------------+--------------------+-------------------+------------------+-------------------+-------------------------+----------------------+ | CentOS Stream 10 | PASS | SKIPPED | SKIPPED | SKIPPED | SKIPPED | SKIPPED | +-------------------------------+--------------------+-------------------+------------------+-------------------+-------------------------+----------------------+ | Debian GNU/Linux 12 | PASS | WARN | SKIPPED | SKIPPED | SKIPPED | SKIPPED | +-------------------------------+--------------------+-------------------+------------------+-------------------+-------------------------+----------------------+ | Fedora Linux 40 | PASS | WARN | SKIPPED | SKIPPED | SKIPPED | SKIPPED | +-------------------------------+--------------------+-------------------+------------------+-------------------+-------------------------+----------------------+ | Fedora Linux 41 | PASS | WARN | PASS | SKIPPED | SKIPPED | SKIPPED | +-------------------------------+--------------------+-------------------+------------------+-------------------+-------------------------+----------------------+ | openSUSE Leap 15.6 | PASS | SKIPPED | SKIPPED | SKIPPED | SKIPPED | SKIPPED | +-------------------------------+--------------------+-------------------+------------------+-------------------+-------------------------+----------------------+ | Red Hat Enterprise Linux 9.5 | PASS | SKIPPED | SKIPPED | SKIPPED | SKIPPED | SKIPPED | +-------------------------------+--------------------+-------------------+------------------+-------------------+-------------------------+----------------------+ | Ubuntu 20.04 | PASS | SKIPPED | SKIPPED | SKIPPED | SKIPPED | SKIPPED | +-------------------------------+--------------------+-------------------+------------------+-------------------+-------------------------+----------------------+ | Red Hat Enterprise Linux 8.10 | PASS | SKIPPED | SKIPPED | SKIPPED | SKIPPED | SKIPPED | +-------------------------------+--------------------+-------------------+------------------+-------------------+-------------------------+----------------------+ | Ubuntu 24.04 | PASS | WARN | PASS | SKIPPED | SKIPPED | SKIPPED | +-------------------------------+--------------------+-------------------+------------------+-------------------+-------------------------+----------------------+ | Alpine Linux 3.22.0 | PASS | SKIPPED | SKIPPED | SKIPPED | SKIPPED | SKIPPED | +-------------------------------+--------------------+-------------------+------------------+-------------------+-------------------------+----------------------+ | FreeBSD 14.2 | PASS | SKIPPED | SKIPPED | SKIPPED | SKIPPED | SKIPPED | +-------------------------------+--------------------+-------------------+------------------+-------------------+-------------------------+----------------------+ | Ubuntu 22.04 | PASS | WARN | SKIPPED | SKIPPED | SKIPPED | SKIPPED | +-------------------------------+--------------------+-------------------+------------------+-------------------+-------------------------+----------------------+ | Windows Server 2022 | SKIPPED | SKIPPED | SKIPPED | PASS | PASS | PASS | +-------------------------------+--------------------+-------------------+------------------+-------------------+-------------------------+----------------------+ ==== 20 line log output for Ubuntu 22.04 (dpdk_compile_spdk): ==== --- Failed to get log output --- ==== End log output ==== CentOS Stream 9 Kernel: 5.15 Compiler: gcc gcc (GCC) 11.5.0 20240719 (Red Hat 11.5.0-7) CentOS Stream 10 Kernel: 5.15 Compiler: gcc gcc (GCC) 14.2.1 20250110 (Red Hat 14.2.1-8) Debian GNU/Linux 12 Kernel: 5.15 Compiler: gcc gcc (Debian 12.2.0-14+deb12u1) 12.2.0 Fedora Linux 40 Kernel: 5.15 Compiler: clang gcc (GCC) 14.2.1 20240912 (Red Hat 14.2.1-3) Fedora Linux 41 Kernel: 5.15 Compiler: clang gcc (GCC) 14.3.1 20250523 (Red Hat 14.3.1-1) openSUSE Leap 15.6 Kernel: 5.15 Compiler: gcc gcc (SUSE Linux) 7.5.0 Red Hat Enterprise Linux 9.5 Kernel: 5.15 Compiler: gcc gcc (GCC) 11.5.0 20240719 (Red Hat 11.5.0-2) Ubuntu 20.04 Kernel: 5.15 Compiler: gcc gcc (Ubuntu 9.4.0-1ubuntu1~20.04.2) 9.4.0 Red Hat Enterprise Linux 8.10 Kernel: 5.15 Compiler: gcc gcc (GCC) 8.5.0 20210514 (Red Hat 8.5.0-22) Ubuntu 24.04 Kernel: 5.15 Compiler: gcc gcc (Ubuntu 13.3.0-6ubuntu2~24.04) 13.3.0 Alpine Linux 3.22.0 Kernel: 5.15 Compiler: gcc gcc (Alpine 14.2.0) 14.2.0 FreeBSD 14.2 Kernel: 14.2-RELEASE Compiler: clang 18.1.6 Ubuntu 22.04 Kernel: 5.15 Compiler: gcc gcc (Ubuntu 11.4.0-1ubuntu1~22.04) 11.4.0 Windows Server 2022 Kernel: 10.0.20348.2031 Compiler: clang 15.0.7, gcc 14.1.0 (MinGW), and MSVC VS 19.39.33521 To view detailed results, visit: https://lab.dpdk.org/results/dashboard/patchsets/33528/ UNH-IOL DPDK Community Lab To manage your email subscriptions, visit: https://lab.dpdk.org/results/dashboard/preferences/subscriptions/