From mboxrd@z Thu Jan 1 00:00:00 1970 Return-Path: Received: from mails.dpdk.org (mails.dpdk.org [217.70.189.124]) by inbox.dpdk.org (Postfix) with ESMTP id 9345046A98 for ; Mon, 30 Jun 2025 13:59:47 +0200 (CEST) Received: from mails.dpdk.org (localhost [127.0.0.1]) by mails.dpdk.org (Postfix) with ESMTP id 8CFD04025D; Mon, 30 Jun 2025 13:59:47 +0200 (CEST) Received: from mail-pl1-f228.google.com (mail-pl1-f228.google.com [209.85.214.228]) by mails.dpdk.org (Postfix) with ESMTP id 5F3274025D for ; Mon, 30 Jun 2025 13:59:46 +0200 (CEST) Received: by mail-pl1-f228.google.com with SMTP id d9443c01a7336-2363616a1a6so13195485ad.3 for ; Mon, 30 Jun 2025 04:59:46 -0700 (PDT) DKIM-Signature: v=1; a=rsa-sha256; c=relaxed/relaxed; d=iol.unh.edu; s=unh-iol; t=1751284785; x=1751889585; darn=dpdk.org; h=references:in-reply-to:cc:to:from:subject:message-id:date:from:to :cc:subject:date:message-id:reply-to; bh=9csPNCcZqLRGuEs77I29+FcIvJ8I8k4xWUGs9uDo0p8=; b=Ry2pXU++p1eDdGVPUShGlPWZohG0HC0ouN7Afp4ZRarXNwnUxhy4OTYzHZsaBzsfkN GsWMY4LGd0Z1ImrDdWrGnIillRjAMFmlALVjy1730cdoVgrG61HLSMWsh6vGGAHvA3hF yfB77MolzcTTKLRXr1K7loAoY598wgjfQlY+g= X-Google-DKIM-Signature: v=1; a=rsa-sha256; c=relaxed/relaxed; d=1e100.net; s=20230601; t=1751284785; x=1751889585; h=references:in-reply-to:cc:to:from:subject:message-id:date :x-gm-message-state:from:to:cc:subject:date:message-id:reply-to; bh=9csPNCcZqLRGuEs77I29+FcIvJ8I8k4xWUGs9uDo0p8=; b=uxroeqElik3bJxBY3NQRlMtNWvq4ss5Y3PwoLRzoPsrvU6TkyfkbnbMnRWlLGb1njn ZeJ6juQbPBG1QRYFtzEamWO/yFe0BgRGXpSe1TZUmLD+BHJkMj2akDpV+hnX7PpHkw3n N6s5PqI+NppznwMHGqZlOBb9uJOWu0NMEwaeK6h9K/5fiNCKqDFZQ/ivLv4nneW3/Tjt yRxUH6uBo5A494jkWHUoUah27w6zDlKSRN38eLGTNXmuj3TB/pEw7jICyEkzgqhBlvEk KKPxrxLfT1dZnowyOye27A98L987V+zkaxs1CQC7oy32uxvEYmGGiom+w8bQiogD4t1J 5viw== X-Gm-Message-State: AOJu0Yy/lwwJ2dGS6kx2SEZQfPSNb1lRf97Tbw1wkR06dDTUKTTxZvWW WDnkNKCVKJlD9zZJF/7pocYhx3lktLzxcP+uN64NMzjL0AHJQlCqSA90NJztnnLwaW9Pex5dtvk XQxYFeB+Z4anlKw8xBevY+EbVTkdByNPH5C2npa0clstaqiXIVD5HEO13UH8x X-Gm-Gg: ASbGncvMK9RnOHTklwIj7uK8AOm7c/6ui1Itx3aGyUUqdxR+1395v4RKgWQ1U6JZiap ErTDRkt8/h06cEGSFiwDG90mr8KE50hBJOhaLc+Xj/49Xu2xYSFwK5YKnXioY4eAyPCjRJCmRcz 5AMC1OeQ8H47r23pB9FJJoLKQ2zPj4Urc+hJcUETKwn4ohHVsyJLKVOu2Hcj5YywYtgx6qG4/hh IWgpQ5197OFB4lGIsHQQGc3kM+akNZvleYiAibLBOe/XpnzomoAISG/ticHmjgqmnPHf67KS6bc aRJr9yX88mQpNWDM49uzvnmPlqSE226J+YNsGXYkljfOebg= X-Google-Smtp-Source: AGHT+IFzRHqwxPpoEvTy4nJkIedu/qWR0B0TxtQIR13r00hTZVqqiEfNTmXtYRIsdMnxp1DFwh6WE9VftDKd X-Received: by 2002:a17:902:da2d:b0:235:e942:cb9e with SMTP id d9443c01a7336-23ac3dec1f0mr182627115ad.9.1751284785448; Mon, 30 Jun 2025 04:59:45 -0700 (PDT) Received: from postal.iol.unh.edu (postal.iol.unh.edu. [2606:4100:3880:1234::84]) by smtp-relay.gmail.com with ESMTPS id d9443c01a7336-23acb36ddedsm4257685ad.88.2025.06.30.04.59.45 (version=TLS1_2 cipher=ECDHE-ECDSA-AES128-GCM-SHA256 bits=128/128); Mon, 30 Jun 2025 04:59:45 -0700 (PDT) X-Relaying-Domain: iol.unh.edu Date: Mon, 30 Jun 2025 04:59:45 -0700 (PDT) Message-ID: <68627c31.170a0220.1c5349.7d60SMTPIN_ADDED_MISSING@mx.google.com> Received: from [172.21.0.6] (unknown [172.18.0.240]) by postal.iol.unh.edu (Postfix) with ESMTP id 7D3456051830; Mon, 30 Jun 2025 07:59:44 -0400 (EDT) Subject: |SUCCESS| pw154841 [PATCH] [v2] net/af_xdp: add rx/tx queue support From: dpdklab@iol.unh.edu To: Test Report Cc: dpdk-test-reports@iol.unh.edu In-Reply-To: <20250630085052.585867-1-shivajikant@google.com> References: <20250630085052.585867-1-shivajikant@google.com> Content-Type: text/plain X-BeenThere: test-report@dpdk.org X-Mailman-Version: 2.1.29 Precedence: list List-Id: automatic DPDK test reports List-Unsubscribe: , List-Archive: List-Post: List-Help: List-Subscribe: , Errors-To: test-report-bounces@dpdk.org Test-Label: iol-unit-arm64-testing Test-Status: SUCCESS http://dpdk.org/patch/154841 _Testing PASS_ Submitter: Shivaji Kant Date: Monday, June 30 2025 08:50:52 DPDK git baseline: Repo:dpdk Branch: master CommitID:798e267824a5b9018fff6e0dc37e9a9f1f73e8fb 154841 --> testing pass Upstream job id: Generic-Unit-Test-DPDK#351014 Test environment and result as below: +------------------------------+--------------+---------------------------+------------------------------+----------------+ | Environment | lpm_autotest | cryptodev_sw_zuc_autotest | cryptodev_sw_snow3g_autotest | dpdk_unit_test | +==============================+==============+===========================+==============================+================+ | Ubuntu 20.04 | PASS | SKIPPED | SKIPPED | PASS | +------------------------------+--------------+---------------------------+------------------------------+----------------+ | Debian 12 (arm) | SKIPPED | PASS | PASS | SKIPPED | +------------------------------+--------------+---------------------------+------------------------------+----------------+ | CentOS Stream 9 | SKIPPED | SKIPPED | SKIPPED | PASS | +------------------------------+--------------+---------------------------+------------------------------+----------------+ | CentOS Stream 10 | SKIPPED | SKIPPED | SKIPPED | PASS | +------------------------------+--------------+---------------------------+------------------------------+----------------+ | Fedora Linux 40 | SKIPPED | SKIPPED | SKIPPED | PASS | +------------------------------+--------------+---------------------------+------------------------------+----------------+ | Debian GNU/Linux 12 | SKIPPED | SKIPPED | SKIPPED | PASS | +------------------------------+--------------+---------------------------+------------------------------+----------------+ | Fedora Linux 41 | SKIPPED | SKIPPED | SKIPPED | PASS | +------------------------------+--------------+---------------------------+------------------------------+----------------+ | Ubuntu 22.04 | SKIPPED | SKIPPED | SKIPPED | PASS | +------------------------------+--------------+---------------------------+------------------------------+----------------+ | Ubuntu 24.04 | SKIPPED | SKIPPED | SKIPPED | PASS | +------------------------------+--------------+---------------------------+------------------------------+----------------+ | Red Hat Enterprise Linux 9.5 | SKIPPED | SKIPPED | SKIPPED | PASS | +------------------------------+--------------+---------------------------+------------------------------+----------------+ Ubuntu 20.04 Kernel: 5.4 Compiler: gcc gcc (Ubuntu 9.4.0-1ubuntu1~20.04.2) 9.4.0 Debian 12 (arm) Kernel: Depends on container host Compiler: gcc (Debian 12.2.0-14) 12.2.0 CentOS Stream 9 Kernel: 5.4 Compiler: gcc gcc (GCC) 11.5.0 20240719 (Red Hat 11.5.0-7) CentOS Stream 10 Kernel: 5.4 Compiler: gcc gcc (GCC) 14.2.1 20250110 (Red Hat 14.2.1-8) Fedora Linux 40 Kernel: 5.4 Compiler: gcc gcc (GCC) 14.2.1 20240912 (Red Hat 14.2.1-3) Debian GNU/Linux 12 Kernel: 5.4 Compiler: gcc gcc (Debian 12.2.0-14+deb12u1) 12.2.0 Fedora Linux 41 Kernel: 5.4 Compiler: gcc gcc (GCC) 14.3.1 20250523 (Red Hat 14.3.1-1) Ubuntu 22.04 Kernel: 5.4 Compiler: gcc gcc (Ubuntu 11.4.0-1ubuntu1~22.04) 11.4.0 Ubuntu 24.04 Kernel: 5.4 Compiler: gcc gcc (Ubuntu 13.3.0-6ubuntu2~24.04) 13.3.0 Red Hat Enterprise Linux 9.5 Kernel: 5.4 Compiler: gcc gcc (GCC) 11.5.0 20240719 (Red Hat 11.5.0-2) To view detailed results, visit: https://lab.dpdk.org/results/dashboard/patchsets/33539/ UNH-IOL DPDK Community Lab To manage your email subscriptions, visit: https://lab.dpdk.org/results/dashboard/preferences/subscriptions/