From mboxrd@z Thu Jan 1 00:00:00 1970 Return-Path: Received: from mails.dpdk.org (mails.dpdk.org [217.70.189.124]) by inbox.dpdk.org (Postfix) with ESMTP id EA15746A9C for ; Mon, 30 Jun 2025 14:22:25 +0200 (CEST) Received: from mails.dpdk.org (localhost [127.0.0.1]) by mails.dpdk.org (Postfix) with ESMTP id AAED64025D; Mon, 30 Jun 2025 14:22:25 +0200 (CEST) Received: from mail-yb1-f225.google.com (mail-yb1-f225.google.com [209.85.219.225]) by mails.dpdk.org (Postfix) with ESMTP id 0A9084025D for ; Mon, 30 Jun 2025 14:22:24 +0200 (CEST) Received: by mail-yb1-f225.google.com with SMTP id 3f1490d57ef6-e733e25bfc7so1652110276.3 for ; Mon, 30 Jun 2025 05:22:23 -0700 (PDT) DKIM-Signature: v=1; a=rsa-sha256; c=relaxed/relaxed; d=iol.unh.edu; s=unh-iol; t=1751286143; x=1751890943; darn=dpdk.org; h=references:in-reply-to:cc:to:from:subject:message-id:date:from:to :cc:subject:date:message-id:reply-to; bh=yqc/N8K4iOv0W7dgHQ0sQ3tK25i+cZqTJwH2i0769uM=; b=MsmqcfHxaV2xBHihcHAi+kuJpwPtz0gxWKCIp7eSbk9i7Yz8QYuesJg6aiTsqAYERQ Jf7Ngtr0eCECle1tktr5A/xx5oV2SF6RG5O1sJi4DYOCAIRibNuXhudcO+338y8AKVDJ bMK7TelAEHO0mmew95QRJGtX9Qv02kI9KzyXc= X-Google-DKIM-Signature: v=1; a=rsa-sha256; c=relaxed/relaxed; d=1e100.net; s=20230601; t=1751286143; x=1751890943; h=references:in-reply-to:cc:to:from:subject:message-id:date :x-gm-message-state:from:to:cc:subject:date:message-id:reply-to; bh=yqc/N8K4iOv0W7dgHQ0sQ3tK25i+cZqTJwH2i0769uM=; b=VadNjBZkw6Uj9EGSbGSqg4krhcsJWcq1AGsXrubYwZyO2ezHfJWxWS5XO/86RM1oh+ W1+o5GXmzwHjeMZ/r2/81uzAUf2KjxtkToryLTdUtgeoz0xk635rxK1SjX815luPsypx /sFLVQIqk3XfgoQutQjF+ragq8LoGEqqouzd894F3OvDdeVrROBZ2UzPEXVQfog7kvJP LmFMKTuw8sAbohhrqviJbEIwGigGAF9pZ1UnfZckufd1RlJgfsYuyGCNQ+qiNrtXlKg/ Xy2S+AFqGGEeTS+F+Zj3q/eu3vjtggez6hn1VLPlb67jZ6WsSM3UZi68dQyK37os0ap6 0aBA== X-Gm-Message-State: AOJu0Yz17OpMfYMEH9Q1UPzSHGz22WxYPzPjFScA48VoTLIaifVjEWnB rLyFWznB3XMk9qcCIAjUSRQO4vvLBlmd0rKbNsLZSs7p1HU2GT8hNJu2xV8pZSfM2LEcXrqisAz Paxz5QdK287s0XRxiVcyH2P35yCSzgXzJtrsXa3FR4szr23Ru9AqvyANX4bXW X-Gm-Gg: ASbGncuy4E8JC55YDu8TpRB5r3ScQ8+7f9h2TAyCJvdOadUA1lkWHpI8KfVKeAQTAps m1i6aBxsblb32UvzrSFlWX2fPVSr1M5qiXf1Y0+YHSmdqkk5wAPtcyskO6WzxGatphnj6/vZkt7 87k5yppsfq+zCRrGVTaLazobv0WjNlm4n/UVN9ko2RUU92RvWFsziJPwvOng1uKLhI7rEGslyFa fjgSHZe+7BXQ19jO1lNv1UZwy7yrxTEOwimU7mp7/CpLQ6hWSf0KYfP8/eZeWX2CPketPfLsfWY coi9DWIun30ut4jYFHFwWQii25jUyQswP2q8lXp1jq8piRg= X-Google-Smtp-Source: AGHT+IHk16BRhwt7JvBHtyFAvAJox3yGcFOiKvmk6TzUpDDMJdHY1WSJD1iX3c6X4rJsT3RtHLDld0jaSBmu X-Received: by 2002:a05:690c:4911:b0:711:7128:114f with SMTP id 00721157ae682-715171507cdmr190058007b3.12.1751286143245; Mon, 30 Jun 2025 05:22:23 -0700 (PDT) Received: from postal.iol.unh.edu (postal.iol.unh.edu. [2606:4100:3880:1234::84]) by smtp-relay.gmail.com with ESMTPS id 00721157ae682-71515cbce80sm2642277b3.32.2025.06.30.05.22.23 (version=TLS1_2 cipher=ECDHE-ECDSA-AES128-GCM-SHA256 bits=128/128); Mon, 30 Jun 2025 05:22:23 -0700 (PDT) X-Relaying-Domain: iol.unh.edu Date: Mon, 30 Jun 2025 05:22:23 -0700 (PDT) Message-ID: <6862817f.050a0220.2b5a29.f186SMTPIN_ADDED_MISSING@mx.google.com> Received: from [172.21.0.6] (unknown [172.18.0.240]) by postal.iol.unh.edu (Postfix) with ESMTP id E547F6051830; Mon, 30 Jun 2025 08:22:22 -0400 (EDT) Subject: |SUCCESS| pw154841 [PATCH] [v2] net/af_xdp: add rx/tx queue support From: dpdklab@iol.unh.edu To: Test Report Cc: dpdk-test-reports@iol.unh.edu In-Reply-To: <20250630085052.585867-1-shivajikant@google.com> References: <20250630085052.585867-1-shivajikant@google.com> Content-Type: text/plain X-BeenThere: test-report@dpdk.org X-Mailman-Version: 2.1.29 Precedence: list List-Id: automatic DPDK test reports List-Unsubscribe: , List-Archive: List-Post: List-Help: List-Subscribe: , Errors-To: test-report-bounces@dpdk.org Test-Label: iol-unit-amd64-testing Test-Status: SUCCESS http://dpdk.org/patch/154841 _Testing PASS_ Submitter: Shivaji Kant Date: Monday, June 30 2025 08:50:52 DPDK git baseline: Repo:dpdk Branch: master CommitID:798e267824a5b9018fff6e0dc37e9a9f1f73e8fb 154841 --> testing pass Upstream job id: Generic-Unit-Test-DPDK#351013 Test environment and result as below: +-------------------------------+----------------+ | Environment | dpdk_unit_test | +===============================+================+ | CentOS Stream 10 | PASS | +-------------------------------+----------------+ | CentOS Stream 9 | PASS | +-------------------------------+----------------+ | Fedora Linux 40 | PASS | +-------------------------------+----------------+ | Debian GNU/Linux 12 | PASS | +-------------------------------+----------------+ | Ubuntu 22.04 | PASS | +-------------------------------+----------------+ | Fedora Linux 41 | PASS | +-------------------------------+----------------+ | Red Hat Enterprise Linux 8.10 | PASS | +-------------------------------+----------------+ | Ubuntu 20.04 | PASS | +-------------------------------+----------------+ | Ubuntu 24.04 | PASS | +-------------------------------+----------------+ | Red Hat Enterprise Linux 9.5 | PASS | +-------------------------------+----------------+ | Windows Server 2022 | PASS | +-------------------------------+----------------+ CentOS Stream 10 Kernel: 5.15 Compiler: gcc gcc (GCC) 14.2.1 20250110 (Red Hat 14.2.1-8) CentOS Stream 9 Kernel: 5.15 Compiler: gcc gcc (GCC) 11.5.0 20240719 (Red Hat 11.5.0-7) Fedora Linux 40 Kernel: 5.15 Compiler: clang gcc (GCC) 14.2.1 20240912 (Red Hat 14.2.1-3) Debian GNU/Linux 12 Kernel: 5.15 Compiler: gcc gcc (Debian 12.2.0-14+deb12u1) 12.2.0 Ubuntu 22.04 Kernel: 5.15 Compiler: gcc gcc (Ubuntu 11.4.0-1ubuntu1~22.04) 11.4.0 Fedora Linux 41 Kernel: 5.15 Compiler: gcc gcc (GCC) 14.3.1 20250523 (Red Hat 14.3.1-1) Red Hat Enterprise Linux 8.10 Kernel: 5.15 Compiler: gcc gcc (GCC) 8.5.0 20210514 (Red Hat 8.5.0-22) Ubuntu 20.04 Kernel: 5.15 Compiler: gcc gcc (Ubuntu 9.4.0-1ubuntu1~20.04.2) 9.4.0 Ubuntu 24.04 Kernel: 5.15 Compiler: gcc gcc (Ubuntu 13.3.0-6ubuntu2~24.04) 13.3.0 Red Hat Enterprise Linux 9.5 Kernel: 5.15 Compiler: gcc gcc (GCC) 11.5.0 20240719 (Red Hat 11.5.0-2) Windows Server 2022 Kernel: 10.0.20348.2031 Compiler: clang 15.0.7, gcc 14.1.0 (MinGW), and MSVC VS 19.39.33521 To view detailed results, visit: https://lab.dpdk.org/results/dashboard/patchsets/33539/ UNH-IOL DPDK Community Lab To manage your email subscriptions, visit: https://lab.dpdk.org/results/dashboard/preferences/subscriptions/