From mboxrd@z Thu Jan 1 00:00:00 1970 Return-Path: Received: from mails.dpdk.org (mails.dpdk.org [217.70.189.124]) by inbox.dpdk.org (Postfix) with ESMTP id 94CE146A9C for ; Mon, 30 Jun 2025 14:38:44 +0200 (CEST) Received: from mails.dpdk.org (localhost [127.0.0.1]) by mails.dpdk.org (Postfix) with ESMTP id 7864F40291; Mon, 30 Jun 2025 14:38:44 +0200 (CEST) Received: from mail-ua1-f99.google.com (mail-ua1-f99.google.com [209.85.222.99]) by mails.dpdk.org (Postfix) with ESMTP id 9806E40291 for ; Mon, 30 Jun 2025 14:38:42 +0200 (CEST) Received: by mail-ua1-f99.google.com with SMTP id a1e0cc1a2514c-87f26496daeso488362241.2 for ; Mon, 30 Jun 2025 05:38:42 -0700 (PDT) DKIM-Signature: v=1; a=rsa-sha256; c=relaxed/relaxed; d=iol.unh.edu; s=unh-iol; t=1751287122; x=1751891922; darn=dpdk.org; h=references:in-reply-to:cc:to:from:subject:message-id:date:from:to :cc:subject:date:message-id:reply-to; bh=eoaUsbFJru0HxEfoGDiztlqXKoXY/dSgCl64PVf1nCU=; b=ELODKqXYjQNOL//bmL1sM6qWCD6UsVLYozbMqSF5r3DbBJOBfnJZbs6bJ4/oMvnUkh va9Gj4Fh4qylosml2cYP6QgmI54ANbymCooohooq3l6ctRQ5DMOzJg3/r/uQw9NCeW/H s4uSbJptk4I2O3h3ru6cA7drLhUUP+PArLVg4= X-Google-DKIM-Signature: v=1; a=rsa-sha256; c=relaxed/relaxed; d=1e100.net; s=20230601; t=1751287122; x=1751891922; h=references:in-reply-to:cc:to:from:subject:message-id:date :x-gm-message-state:from:to:cc:subject:date:message-id:reply-to; bh=eoaUsbFJru0HxEfoGDiztlqXKoXY/dSgCl64PVf1nCU=; b=JbZ4Z80eG0+AUFLCJy9vprkkNheXyRRebj0wNLNzs6eZAeOuWJv+8ossRKXwmfVE8Q kxd7hdxTYR6X498PWPb3EzZV8UBJjJBGjs/pe+ChnT5mXhElkcmQihEz7+Lk1qSVJ34K n09vojdaWAA6ylQ03PStmdHNWs8K6GyZhh+PKjA9qlasxnxTEp4OJasaARyq4kSUMkZ4 QKMhrQIs7d3bHTfKJpiYsNsZUqz0XCL/uanbRQlxGQ2ZGfNO1AiB+lKtvkB+8zB434dq JjgTUWkcdFrjzFL+JYIw0zOo7eKQd+yIg6tPt+/q7wo2aWeTtywjx3wPggV7r+J4cL1I xzUA== X-Gm-Message-State: AOJu0Ywumb4ARFuKIFBIQCjdt44kA0144oVyBQoM74saUL2UEjASJYYD YhQ3jZXZDCWOet4BYUQu9g3QrGz5h5S/kFvg3MFFvq8HUe84ShMBFr0lb5bRkHtZimjJ3s4pH1x VBc9tfkI58Fo2yMvgF362jfGtZZiU6NgCs5IPkTTxd8iH0AE/uV71pIXUrdvk X-Gm-Gg: ASbGncvLaWE1OblMYVYrCn5h/j6OtOJu8WjnLjPZXJWOrjkED9bKpMdLQAtFL5UuPN2 DgxNSl2Gso80qqO2jXkFF4R/CM/Bm+DJMDJUfPNaCUAZRIt4PFq3m1CRB8xHUp8aMy0LkZ4Konx QQJJBIVM3HeBRQQOfS4QFE7+gjjHhFFU9cCb8TSPwFNlVf8FA8yqiZTuoBeARqT7ba3+R+lBRZy 0zKhVNqy0igacJ/qwbpwl7b+VIFR5RUwEFkfztj6nWF75256HVYMd2VKoZFHK345wMElNWl0ITj rZAZkfjF24q+WMDRrRdSwE5Kd5VsD9QB4dB5fYXyQ0WYN7Q= X-Google-Smtp-Source: AGHT+IFqo6r5x/FHZYN3RveOaVo8tu4jNVbJhgjm6NzP3NH82UPj6utwKtM4arNXm/Bt4A/ErZ7lvbiZBuZc X-Received: by 2002:a05:6102:c93:b0:4ec:c60d:bc11 with SMTP id ada2fe7eead31-4ee4f71e188mr7059645137.14.1751287121916; Mon, 30 Jun 2025 05:38:41 -0700 (PDT) Received: from postal.iol.unh.edu (postal.iol.unh.edu. [2606:4100:3880:1234::84]) by smtp-relay.gmail.com with ESMTPS id a1e0cc1a2514c-884d1d4661asm210044241.12.2025.06.30.05.38.41 (version=TLS1_2 cipher=ECDHE-ECDSA-AES128-GCM-SHA256 bits=128/128); Mon, 30 Jun 2025 05:38:41 -0700 (PDT) X-Relaying-Domain: iol.unh.edu Date: Mon, 30 Jun 2025 05:38:41 -0700 (PDT) Message-ID: <68628551.b00a0220.3b1976.bd7eSMTPIN_ADDED_MISSING@mx.google.com> Received: from [172.21.0.5] (unknown [172.18.0.240]) by postal.iol.unh.edu (Postfix) with ESMTP id 8B700604D420; Mon, 30 Jun 2025 08:38:41 -0400 (EDT) Subject: |SUCCESS| pw154841 [PATCH] [v2] net/af_xdp: add rx/tx queue support From: dpdklab@iol.unh.edu To: Test Report Cc: dpdk-test-reports@iol.unh.edu In-Reply-To: <20250630085052.585867-1-shivajikant@google.com> References: <20250630085052.585867-1-shivajikant@google.com> Content-Type: text/plain X-BeenThere: test-report@dpdk.org X-Mailman-Version: 2.1.29 Precedence: list List-Id: automatic DPDK test reports List-Unsubscribe: , List-Archive: List-Post: List-Help: List-Subscribe: , Errors-To: test-report-bounces@dpdk.org Test-Label: iol-abi-testing Test-Status: SUCCESS http://dpdk.org/patch/154841 _Testing PASS_ Submitter: Shivaji Kant Date: Monday, June 30 2025 08:50:52 DPDK git baseline: Repo:dpdk Branch: master CommitID:798e267824a5b9018fff6e0dc37e9a9f1f73e8fb 154841 --> testing pass Upstream job id: Generic-DPDK-Compile-ABI#132374 Test environment and result as below: +-------------------------------+----------+ | Environment | abi_test | +===============================+==========+ | CentOS Stream 9 | PASS | +-------------------------------+----------+ | CentOS Stream 10 | PASS | +-------------------------------+----------+ | Debian GNU/Linux 12 | PASS | +-------------------------------+----------+ | Fedora Linux 40 | PASS | +-------------------------------+----------+ | Fedora Linux 41 | PASS | +-------------------------------+----------+ | Red Hat Enterprise Linux 8.10 | PASS | +-------------------------------+----------+ | openSUSE Leap 15.6 | PASS | +-------------------------------+----------+ | Red Hat Enterprise Linux 9.5 | PASS | +-------------------------------+----------+ | Ubuntu 22.04 | PASS | +-------------------------------+----------+ | Ubuntu 24.04 | PASS | +-------------------------------+----------+ CentOS Stream 9 Kernel: 5.15 Compiler: gcc gcc (GCC) 11.5.0 20240719 (Red Hat 11.5.0-7) CentOS Stream 10 Kernel: 5.15 Compiler: gcc gcc (GCC) 14.2.1 20250110 (Red Hat 14.2.1-8) Debian GNU/Linux 12 Kernel: 5.15 Compiler: gcc gcc (Debian 12.2.0-14+deb12u1) 12.2.0 Fedora Linux 40 Kernel: 5.15 Compiler: clang gcc (GCC) 14.2.1 20240912 (Red Hat 14.2.1-3) Fedora Linux 41 Kernel: 5.15 Compiler: clang gcc (GCC) 14.3.1 20250523 (Red Hat 14.3.1-1) Red Hat Enterprise Linux 8.10 Kernel: 5.15 Compiler: gcc gcc (GCC) 8.5.0 20210514 (Red Hat 8.5.0-22) openSUSE Leap 15.6 Kernel: 5.15 Compiler: gcc gcc (SUSE Linux) 7.5.0 Red Hat Enterprise Linux 9.5 Kernel: 5.15 Compiler: gcc gcc (GCC) 11.5.0 20240719 (Red Hat 11.5.0-2) Ubuntu 22.04 Kernel: 5.15 Compiler: gcc gcc (Ubuntu 11.4.0-1ubuntu1~22.04) 11.4.0 Ubuntu 24.04 Kernel: 5.15 Compiler: gcc gcc (Ubuntu 13.3.0-6ubuntu2~24.04) 13.3.0 To view detailed results, visit: https://lab.dpdk.org/results/dashboard/patchsets/33539/ UNH-IOL DPDK Community Lab To manage your email subscriptions, visit: https://lab.dpdk.org/results/dashboard/preferences/subscriptions/