From mboxrd@z Thu Jan 1 00:00:00 1970 Return-Path: Received: from mails.dpdk.org (mails.dpdk.org [217.70.189.124]) by inbox.dpdk.org (Postfix) with ESMTP id 9209D46A9C for ; Mon, 30 Jun 2025 14:39:01 +0200 (CEST) Received: from mails.dpdk.org (localhost [127.0.0.1]) by mails.dpdk.org (Postfix) with ESMTP id 8D97A40291; Mon, 30 Jun 2025 14:39:01 +0200 (CEST) Received: from mail-oa1-f97.google.com (mail-oa1-f97.google.com [209.85.160.97]) by mails.dpdk.org (Postfix) with ESMTP id 73B7F40291 for ; Mon, 30 Jun 2025 14:39:00 +0200 (CEST) Received: by mail-oa1-f97.google.com with SMTP id 586e51a60fabf-2ea83f382c3so3039381fac.0 for ; Mon, 30 Jun 2025 05:39:00 -0700 (PDT) DKIM-Signature: v=1; a=rsa-sha256; c=relaxed/relaxed; d=iol.unh.edu; s=unh-iol; t=1751287139; x=1751891939; darn=dpdk.org; h=references:in-reply-to:cc:to:from:subject:message-id:date:from:to :cc:subject:date:message-id:reply-to; bh=xG2ls3SIvbaoyPpn2Z9LXNAi8CmjgQdR1q7E6LMt2Hw=; b=NSNC5rEN5cbDVt4BzS7GhG0xrprc0uvmWvRtO3xUEDuWpwYl7RsHH4rvmYS7P50YUi ByrjsJ35uD+GIBUesuNCxpT4dyJVmZj5cTW85GQyPxne2faZcDa397gq0GsmQ52t1JEB BG2JigZG8p1ZhGLS9aqikWbSZVJ/RAadO7AfQ= X-Google-DKIM-Signature: v=1; a=rsa-sha256; c=relaxed/relaxed; d=1e100.net; s=20230601; t=1751287139; x=1751891939; h=references:in-reply-to:cc:to:from:subject:message-id:date :x-gm-message-state:from:to:cc:subject:date:message-id:reply-to; bh=xG2ls3SIvbaoyPpn2Z9LXNAi8CmjgQdR1q7E6LMt2Hw=; b=gLIFodD7xky+cE5YNirIm7IbbRURiCgynufNDgF0YfdoDfasK5L+BEB5o+OwRmBbe+ bo41qSEmtD0lPhyaj2ug9n8Y46syU6xOInsjXr+rmXWBxWq3Jp0SyjyDZQnfLWeFlvXw vyBsFepr4zxXZT2woe87FRsCiGcucs+Mx/cCodYdrpmw3oEHITtHNcWls/srlYb4se6D 6Z6sO75vP9DbbYgE9+6+jjrEfSWFJ3cyhG793nvdTN8k0gOoFKxkqHDH0pmjdTDb52no 3sX9RRzXUxpqLSdHLe+wPVwAnjSA6sCuKS4FpHZLBJ9oh3cbCVLQ6Momtq6HdZWJroZi vvwA== X-Gm-Message-State: AOJu0Yz42HIO1BXF70zec+uJBcdlh3pr5u7zv16rc2eMEARzBG4u89gS hocryomuP6Mp/8e3jBLCrV1y9cse0obBst21sYoyd2q2z2hmkg/YoVS2d7GHLnQUawGhk/tmnMq e/xfRc3EC3z2E1XLTu93saoG/mZ1InqjYjiXxJxFjh6Ym1j5vPgyCJR6txscn X-Gm-Gg: ASbGncuKG5ggiNLcix6pHNbK2kbb1j7H/U2647vNqv/bSIvh+yB7W83Z80KmOdtHPCt 2NkK/F1Eq7W4Vtq29n+uhLSfWrHpMqXAVphFDAJZEbaluCql56HOY7FTjky0jbfDScl8aZhXiDc 5lUYcXI30JOoGWtRjNxlRIbxy69i9GJRKlYqWTExH6RMLV8OSIXf0Wc4qA256kcNNsV5rfBYNFm pBSuAnOqz/4JFc5n8HwAEb0q+bslDqiM2iXiyWySSdKx2Nz2HmrADbTzAclz3z53cGmP4zBejXH x94flrBzdOkmKUiobe0k6npIgTjx5z/MeJ1WveD9KTDE8ds= X-Google-Smtp-Source: AGHT+IFIm7hKgD9Lim0Wakjes8J25FO5cl29N5pQs/o/97P8FBQjXBU9zL6zZyWj+jUNasTjR8KJ9G0sQCdJ X-Received: by 2002:a05:6871:e013:b0:29e:6394:fd4a with SMTP id 586e51a60fabf-2efed4150d0mr9135792fac.2.1751287139336; Mon, 30 Jun 2025 05:38:59 -0700 (PDT) Received: from postal.iol.unh.edu (postal.iol.unh.edu. [2606:4100:3880:1234::84]) by smtp-relay.gmail.com with ESMTPS id 586e51a60fabf-2efd4f9c356sm566882fac.23.2025.06.30.05.38.59 (version=TLS1_2 cipher=ECDHE-ECDSA-AES128-GCM-SHA256 bits=128/128); Mon, 30 Jun 2025 05:38:59 -0700 (PDT) X-Relaying-Domain: iol.unh.edu Date: Mon, 30 Jun 2025 05:38:59 -0700 (PDT) Message-ID: <68628563.050a0220.ef9ad.e242SMTPIN_ADDED_MISSING@mx.google.com> Received: from [172.21.0.5] (unknown [172.18.0.240]) by postal.iol.unh.edu (Postfix) with ESMTP id D224A604D420; Mon, 30 Jun 2025 08:38:58 -0400 (EDT) Subject: |SUCCESS| pw154841 [PATCH] [v2] net/af_xdp: add rx/tx queue support From: dpdklab@iol.unh.edu To: Test Report Cc: dpdk-test-reports@iol.unh.edu In-Reply-To: <20250630085052.585867-1-shivajikant@google.com> References: <20250630085052.585867-1-shivajikant@google.com> Content-Type: text/plain X-BeenThere: test-report@dpdk.org X-Mailman-Version: 2.1.29 Precedence: list List-Id: automatic DPDK test reports List-Unsubscribe: , List-Archive: List-Post: List-Help: List-Subscribe: , Errors-To: test-report-bounces@dpdk.org Test-Label: iol-abi-testing Test-Status: SUCCESS http://dpdk.org/patch/154841 _Testing PASS_ Submitter: Shivaji Kant Date: Monday, June 30 2025 08:50:52 DPDK git baseline: Repo:dpdk Branch: master CommitID:798e267824a5b9018fff6e0dc37e9a9f1f73e8fb 154841 --> testing pass Upstream job id: Generic-DPDK-Compile-ABI#132367 Test environment and result as below: +-------------------------------+----------+ | Environment | abi_test | +===============================+==========+ | CentOS Stream 9 | PASS | +-------------------------------+----------+ | CentOS Stream 10 | PASS | +-------------------------------+----------+ | Debian GNU/Linux 12 | PASS | +-------------------------------+----------+ | Fedora Linux 40 | PASS | +-------------------------------+----------+ | Fedora Linux 41 | PASS | +-------------------------------+----------+ | Red Hat Enterprise Linux 8.10 | PASS | +-------------------------------+----------+ | openSUSE Leap 15.6 | PASS | +-------------------------------+----------+ | Red Hat Enterprise Linux 9.5 | PASS | +-------------------------------+----------+ | Ubuntu 22.04 | PASS | +-------------------------------+----------+ | Ubuntu 24.04 | PASS | +-------------------------------+----------+ CentOS Stream 9 Kernel: 5.15 Compiler: gcc gcc (GCC) 11.5.0 20240719 (Red Hat 11.5.0-7) CentOS Stream 10 Kernel: 5.15 Compiler: gcc gcc (GCC) 14.2.1 20250110 (Red Hat 14.2.1-8) Debian GNU/Linux 12 Kernel: 5.15 Compiler: gcc gcc (Debian 12.2.0-14+deb12u1) 12.2.0 Fedora Linux 40 Kernel: 5.15 Compiler: clang gcc (GCC) 14.2.1 20240912 (Red Hat 14.2.1-3) Fedora Linux 41 Kernel: 5.15 Compiler: clang gcc (GCC) 14.3.1 20250523 (Red Hat 14.3.1-1) Red Hat Enterprise Linux 8.10 Kernel: 5.15 Compiler: gcc gcc (GCC) 8.5.0 20210514 (Red Hat 8.5.0-22) openSUSE Leap 15.6 Kernel: 5.15 Compiler: gcc gcc (SUSE Linux) 7.5.0 Red Hat Enterprise Linux 9.5 Kernel: 5.15 Compiler: gcc gcc (GCC) 11.5.0 20240719 (Red Hat 11.5.0-2) Ubuntu 22.04 Kernel: 5.15 Compiler: gcc gcc (Ubuntu 11.4.0-1ubuntu1~22.04) 11.4.0 Ubuntu 24.04 Kernel: 5.15 Compiler: gcc gcc (Ubuntu 13.3.0-6ubuntu2~24.04) 13.3.0 To view detailed results, visit: https://lab.dpdk.org/results/dashboard/patchsets/33539/ UNH-IOL DPDK Community Lab To manage your email subscriptions, visit: https://lab.dpdk.org/results/dashboard/preferences/subscriptions/