From mboxrd@z Thu Jan 1 00:00:00 1970 Return-Path: Received: from mails.dpdk.org (mails.dpdk.org [217.70.189.124]) by inbox.dpdk.org (Postfix) with ESMTP id A4F0946A9C for ; Mon, 30 Jun 2025 14:39:21 +0200 (CEST) Received: from mails.dpdk.org (localhost [127.0.0.1]) by mails.dpdk.org (Postfix) with ESMTP id 9D69440291; Mon, 30 Jun 2025 14:39:21 +0200 (CEST) Received: from mail-ua1-f100.google.com (mail-ua1-f100.google.com [209.85.222.100]) by mails.dpdk.org (Postfix) with ESMTP id E0F3A40291 for ; Mon, 30 Jun 2025 14:39:19 +0200 (CEST) Received: by mail-ua1-f100.google.com with SMTP id a1e0cc1a2514c-880f92a63c7so333614241.1 for ; Mon, 30 Jun 2025 05:39:19 -0700 (PDT) DKIM-Signature: v=1; a=rsa-sha256; c=relaxed/relaxed; d=iol.unh.edu; s=unh-iol; t=1751287159; x=1751891959; darn=dpdk.org; h=references:in-reply-to:cc:to:from:subject:message-id:date:from:to :cc:subject:date:message-id:reply-to; bh=M6OXe3rqLZ3cFDQqdXi5sqcfdFZ5Abct4bZWFaqLL9s=; b=ajscpKKRrEegGayZZnYTKDyYkOnD5OVlUnK6I6uxfQv7XRCUHSs4l61ys00iwph4UU pJXRYpq6qWXGXW89Dl5eplJynJbuPNhKZIoqK5VG81ut2bb7M/ScTYUdWKLN6XsTGvZt LJ8l/TD3oVSqoY0RCY2oh/ki1DOR2xN5LVcFU= X-Google-DKIM-Signature: v=1; a=rsa-sha256; c=relaxed/relaxed; d=1e100.net; s=20230601; t=1751287159; x=1751891959; h=references:in-reply-to:cc:to:from:subject:message-id:date :x-gm-message-state:from:to:cc:subject:date:message-id:reply-to; bh=M6OXe3rqLZ3cFDQqdXi5sqcfdFZ5Abct4bZWFaqLL9s=; b=to07l2PcxPjP/d/czFRCLICfgT896yqFhOICbEFOZuhrXntIudgOjXd2dspH4XY73Q Mrj+fa1HHHI1kD7OjRpEOHRXVoSy00sgOsvZx0v9izzCi6EHQJ8Q3Jv8PtzdTj0iY7Qk OHdSivTVVfLGobykO1WRH5epHCT6QtdB/xi0q3Ijg/KbXTXEULpEDN5XXDLOMQ9+HisE jbvdSNIVohwfFd6Zg9XxcAAqBQU0hwKqG/TfYpmS+AYc+tS98uyvs2vwEAs74ybSjNmL CMej27dY6CMm6iS1OFk/29zM0V6QPGkXMgjnLItBUnJxNoSj8DI8Gl4FECuBEYBLIh5m xFhA== X-Gm-Message-State: AOJu0YwzLfKnZtK0hDJ8brVixg7stFppYHbdGnWxrt5lLKAUA5LjdlI2 OI7wbMx0XHi+C1/QQv3vdt9B81b6GkCg1aPGCZw+tjpxIVvIeEOBRlYGfCh4Zmn+uESLxv/3XLm Ff2aXj8t5je6eV4dnD3bR4PdlSeMLs06uX1hGbjh8A8jr75+S9nb9Y5NQM3ZS X-Gm-Gg: ASbGncsEHL/f8v7v9DZdu6lpW2VU5CezHJPaMR0CELPLx0KrRClvz52rxYbtQxn+T8/ mks8/5jngmM0hlC+Kr6phFDdNDdZl0lclJNL2Vijbt23ihZRAEYULgHhh1oYb7BUr2nYPdBjqVz DfxOdo2rBk+nd5wAZTqlyHEypREEJm6hqh/I1xt1R0gO3NPc3pFzUajV3viXh9M5mnvLt+kKVkC sf9f7Tv9MoHrt3C2L010Qn91F1GG7L/JVSTn09JBo2FvaPZgDbkoavqJCFL/5tVXh9Ii9XXOGDl TmsO5IWBE+DEUphGg5NQIBJYbOFOcwsQVB8i5FBTqWBjs5Y= X-Google-Smtp-Source: AGHT+IEMJJCXKiz1hQB9s7ODtQ7Vd/dtl9MAgE/ztF9VWiCzchF5IrzsG3D0wdH5fYCae48f3XOQZbfO8D8M X-Received: by 2002:a05:6102:2923:b0:4e5:a0a3:86da with SMTP id ada2fe7eead31-4ee4f7400fbmr7923464137.12.1751287159289; Mon, 30 Jun 2025 05:39:19 -0700 (PDT) Received: from postal.iol.unh.edu (postal.iol.unh.edu. [2606:4100:3880:1234::84]) by smtp-relay.gmail.com with ESMTPS id a1e0cc1a2514c-884eb15fcd3sm43343241.15.2025.06.30.05.39.19 (version=TLS1_2 cipher=ECDHE-ECDSA-AES128-GCM-SHA256 bits=128/128); Mon, 30 Jun 2025 05:39:19 -0700 (PDT) X-Relaying-Domain: iol.unh.edu Date: Mon, 30 Jun 2025 05:39:19 -0700 (PDT) Message-ID: <68628577.050a0220.88ea9.2689SMTPIN_ADDED_MISSING@mx.google.com> Received: from [172.21.0.6] (unknown [172.18.0.240]) by postal.iol.unh.edu (Postfix) with ESMTP id ECD66604D420; Mon, 30 Jun 2025 08:39:18 -0400 (EDT) Subject: |SUCCESS| pw154841 [PATCH] [v2] net/af_xdp: add rx/tx queue support From: dpdklab@iol.unh.edu To: Test Report Cc: dpdk-test-reports@iol.unh.edu In-Reply-To: <20250630085052.585867-1-shivajikant@google.com> References: <20250630085052.585867-1-shivajikant@google.com> Content-Type: text/plain X-BeenThere: test-report@dpdk.org X-Mailman-Version: 2.1.29 Precedence: list List-Id: automatic DPDK test reports List-Unsubscribe: , List-Archive: List-Post: List-Help: List-Subscribe: , Errors-To: test-report-bounces@dpdk.org Test-Label: iol-abi-testing Test-Status: SUCCESS http://dpdk.org/patch/154841 _Testing PASS_ Submitter: Shivaji Kant Date: Monday, June 30 2025 08:50:52 DPDK git baseline: Repo:dpdk Branch: master CommitID:798e267824a5b9018fff6e0dc37e9a9f1f73e8fb 154841 --> testing pass Upstream job id: Generic-DPDK-Compile-ABI#132369 Test environment and result as below: +-------------------------------+----------+ | Environment | abi_test | +===============================+==========+ | CentOS Stream 9 | PASS | +-------------------------------+----------+ | CentOS Stream 10 | PASS | +-------------------------------+----------+ | Debian GNU/Linux 12 | PASS | +-------------------------------+----------+ | Fedora Linux 40 | PASS | +-------------------------------+----------+ | Fedora Linux 41 | PASS | +-------------------------------+----------+ | Red Hat Enterprise Linux 8.10 | PASS | +-------------------------------+----------+ | openSUSE Leap 15.6 | PASS | +-------------------------------+----------+ | Red Hat Enterprise Linux 9.5 | PASS | +-------------------------------+----------+ | Ubuntu 22.04 | PASS | +-------------------------------+----------+ | Ubuntu 24.04 | PASS | +-------------------------------+----------+ CentOS Stream 9 Kernel: 5.15 Compiler: gcc gcc (GCC) 11.5.0 20240719 (Red Hat 11.5.0-7) CentOS Stream 10 Kernel: 5.15 Compiler: gcc gcc (GCC) 14.2.1 20250110 (Red Hat 14.2.1-8) Debian GNU/Linux 12 Kernel: 5.15 Compiler: gcc gcc (Debian 12.2.0-14+deb12u1) 12.2.0 Fedora Linux 40 Kernel: 5.15 Compiler: clang gcc (GCC) 14.2.1 20240912 (Red Hat 14.2.1-3) Fedora Linux 41 Kernel: 5.15 Compiler: clang gcc (GCC) 14.3.1 20250523 (Red Hat 14.3.1-1) Red Hat Enterprise Linux 8.10 Kernel: 5.15 Compiler: gcc gcc (GCC) 8.5.0 20210514 (Red Hat 8.5.0-22) openSUSE Leap 15.6 Kernel: 5.15 Compiler: gcc gcc (SUSE Linux) 7.5.0 Red Hat Enterprise Linux 9.5 Kernel: 5.15 Compiler: gcc gcc (GCC) 11.5.0 20240719 (Red Hat 11.5.0-2) Ubuntu 22.04 Kernel: 5.15 Compiler: gcc gcc (Ubuntu 11.4.0-1ubuntu1~22.04) 11.4.0 Ubuntu 24.04 Kernel: 5.15 Compiler: gcc gcc (Ubuntu 13.3.0-6ubuntu2~24.04) 13.3.0 To view detailed results, visit: https://lab.dpdk.org/results/dashboard/patchsets/33539/ UNH-IOL DPDK Community Lab To manage your email subscriptions, visit: https://lab.dpdk.org/results/dashboard/preferences/subscriptions/