From mboxrd@z Thu Jan 1 00:00:00 1970 Return-Path: Received: from mails.dpdk.org (mails.dpdk.org [217.70.189.124]) by inbox.dpdk.org (Postfix) with ESMTP id 4FE4346A9C for ; Mon, 30 Jun 2025 15:16:28 +0200 (CEST) Received: from mails.dpdk.org (localhost [127.0.0.1]) by mails.dpdk.org (Postfix) with ESMTP id 26E8940291; Mon, 30 Jun 2025 15:16:28 +0200 (CEST) Received: from mail-pj1-f98.google.com (mail-pj1-f98.google.com [209.85.216.98]) by mails.dpdk.org (Postfix) with ESMTP id 0D63440291 for ; Mon, 30 Jun 2025 15:16:26 +0200 (CEST) Received: by mail-pj1-f98.google.com with SMTP id 98e67ed59e1d1-313eeb77b1fso1466949a91.1 for ; Mon, 30 Jun 2025 06:16:26 -0700 (PDT) DKIM-Signature: v=1; a=rsa-sha256; c=relaxed/relaxed; d=iol.unh.edu; s=unh-iol; t=1751289386; x=1751894186; darn=dpdk.org; h=references:in-reply-to:cc:to:from:subject:message-id:date:from:to :cc:subject:date:message-id:reply-to; bh=QhC4a4Voh3RnI5dwpE4LJ0mJywzzNXSBvYCH8zKOW8o=; b=Y4fRye9XUJEG+4fst8qm9TFQGKPs/3dQVWwbdBiD9hikJmuJH/lWOlOrdTHAJV0EqC EZzTnr5O4JxZUuIbkrKD8rj2iPGlPTmxnwVV/sAHVudxHD1YIm4PjgI1ecHjv++61fOm Pz22/qo5skeAZGI1jKwF37e40YGBUVHoFDhYs= X-Google-DKIM-Signature: v=1; a=rsa-sha256; c=relaxed/relaxed; d=1e100.net; s=20230601; t=1751289386; x=1751894186; h=references:in-reply-to:cc:to:from:subject:message-id:date :x-gm-message-state:from:to:cc:subject:date:message-id:reply-to; bh=QhC4a4Voh3RnI5dwpE4LJ0mJywzzNXSBvYCH8zKOW8o=; b=THAgDjncDZlhLuhgGpuPYcDdtMjezApfoWeedSvs3zRviss4JXG75CWMbZdSVXRhjj Zgvzjfi+gQbWwql/QbVphnV9KyTmOT4lXG6xk77dV8Q/glIGci3k1KCoytRE3ACIs5VH +vg1sEdotKKgjozXriJ1Lp4wkm9AD27yP6D9oZRcZvWrzrLCTgX2bJSrCV92sVSO9OfT yTr8lX3vVZtcdKaj/Blu5xvKeQ1Bqi3S6vRBFfyP96RyDZjx8jtN4Y4kUakzGU8S4SaH tFAWC5Kt/cQ0hVwfFRvcblvyv1Zr81e7kOQ5LEjuefS/QE+fD8Lq3bLl62KbwgNQ2KBH lXQA== X-Gm-Message-State: AOJu0YyWSYEkad1FecfsJWxg6GEBazGK86ROTIqz74FgqmffdSlUc8BO 8FjHo6adya6SR6x0n41DUPTRiTXKOZ7nJaLD5Y8QSZj5pUZJVbfVJppe8baGzt3qn2bnPx1BWQX RTKr+P/V484mjoPqkjGBXHA3NSo8Kp1sapeuncPf+4vH8 X-Gm-Gg: ASbGncvz9Ic3Uos4QwcFgkz8ITsws6eYihPlk1NI5NkKTYvL+2LBWYzsZq8pBeFu6e5 waYPuN/zqq/N2p4C7lB+02gEmNwAL9OLnTYqGVCalpYNMNgJbjF4Kc85w9vu6o6sB2inkrjgu26 BYyDgpBNkYQGM9OsdVui1W/wL8CLp8NZOaXUDv3zC7iUE7pPrq6eAKueeDA6uj96aT4su8A0rog 5+xp57x0atMqs7OrfhhTvjpWn5RQWh8L9Uto1vSF1gnsH62VlW4u+L7bI4x7N5KXJ5H3pe/auYm Vd5bCAEx8cX2dpguB/tXTz4XDH2IWPIkOcOY4T9cXM69qkJEpkTQDKWCSD7VlOsYfHfpQw== X-Google-Smtp-Source: AGHT+IFGgqguDzZDdIR4dUcy+Lx2tHgo/i+MlWIbqool9hhr17SUhetn1BIGELaDMW4F3OBu+A1v3DdnBHyt X-Received: by 2002:a17:90b:184f:b0:311:ea13:2e63 with SMTP id 98e67ed59e1d1-318c9225ebfmr18826668a91.13.1751289385861; Mon, 30 Jun 2025 06:16:25 -0700 (PDT) Received: from postal.iol.unh.edu (postal.iol.unh.edu. [132.177.123.84]) by smtp-relay.gmail.com with ESMTPS id 98e67ed59e1d1-318c1366ebcsm278726a91.2.2025.06.30.06.16.25 (version=TLS1_2 cipher=ECDHE-ECDSA-AES128-GCM-SHA256 bits=128/128); Mon, 30 Jun 2025 06:16:25 -0700 (PDT) X-Relaying-Domain: iol.unh.edu Date: Mon, 30 Jun 2025 06:16:25 -0700 (PDT) Message-ID: <68628e29.170a0220.1421d1.f37eSMTPIN_ADDED_MISSING@mx.google.com> Received: from [172.21.0.5] (unknown [172.18.0.240]) by postal.iol.unh.edu (Postfix) with ESMTP id 16627604D420; Mon, 30 Jun 2025 09:16:25 -0400 (EDT) Subject: |WARNING| pw154841 [PATCH] [v2] net/af_xdp: add rx/tx queue support From: dpdklab@iol.unh.edu To: Test Report Cc: dpdk-test-reports@iol.unh.edu In-Reply-To: <20250630085052.585867-1-shivajikant@google.com> References: <20250630085052.585867-1-shivajikant@google.com> Content-Type: text/plain X-BeenThere: test-report@dpdk.org X-Mailman-Version: 2.1.29 Precedence: list List-Id: automatic DPDK test reports List-Unsubscribe: , List-Archive: List-Post: List-Help: List-Subscribe: , Errors-To: test-report-bounces@dpdk.org Test-Label: iol-compile-amd64-testing Test-Status: WARNING http://dpdk.org/patch/154841 _Testing issues_ Submitter: Shivaji Kant Date: Monday, June 30 2025 08:50:52 DPDK git baseline: Repo:dpdk Branch: master CommitID:798e267824a5b9018fff6e0dc37e9a9f1f73e8fb 154841 --> testing issues Upstream job id: Generic-DPDK-Compile-Meson#403660 Test environment and result as below: +-------------------------------+--------------------+-------------------+------------------+-------------------------+----------------------+ | Environment | dpdk_meson_compile | dpdk_compile_spdk | dpdk_compile_ovs | dpdk_llvm_clang_compile | dpdk_mingw64_compile | +===============================+====================+===================+==================+=========================+======================+ | CentOS Stream 9 | PASS | PASS | SKIPPED | SKIPPED | SKIPPED | +-------------------------------+--------------------+-------------------+------------------+-------------------------+----------------------+ | Fedora Linux 40 | PASS | PASS | SKIPPED | SKIPPED | SKIPPED | +-------------------------------+--------------------+-------------------+------------------+-------------------------+----------------------+ | CentOS Stream 10 | PASS | SKIPPED | SKIPPED | SKIPPED | SKIPPED | +-------------------------------+--------------------+-------------------+------------------+-------------------------+----------------------+ | Debian GNU/Linux 12 | PASS | PASS | SKIPPED | SKIPPED | SKIPPED | +-------------------------------+--------------------+-------------------+------------------+-------------------------+----------------------+ | Fedora Linux 41 | PASS | PASS | PASS | SKIPPED | SKIPPED | +-------------------------------+--------------------+-------------------+------------------+-------------------------+----------------------+ | openSUSE Leap 15.6 | PASS | SKIPPED | SKIPPED | SKIPPED | SKIPPED | +-------------------------------+--------------------+-------------------+------------------+-------------------------+----------------------+ | Red Hat Enterprise Linux 8.10 | PASS | SKIPPED | SKIPPED | SKIPPED | SKIPPED | +-------------------------------+--------------------+-------------------+------------------+-------------------------+----------------------+ | Ubuntu 20.04 | PASS | SKIPPED | SKIPPED | SKIPPED | SKIPPED | +-------------------------------+--------------------+-------------------+------------------+-------------------------+----------------------+ | Red Hat Enterprise Linux 9.5 | PASS | SKIPPED | SKIPPED | SKIPPED | SKIPPED | +-------------------------------+--------------------+-------------------+------------------+-------------------------+----------------------+ | Ubuntu 22.04 | PASS | PASS | SKIPPED | SKIPPED | SKIPPED | +-------------------------------+--------------------+-------------------+------------------+-------------------------+----------------------+ | Ubuntu 24.04 | PASS | PASS | PASS | SKIPPED | SKIPPED | +-------------------------------+--------------------+-------------------+------------------+-------------------------+----------------------+ | Alpine Linux 3.22.0 | PASS | SKIPPED | SKIPPED | SKIPPED | SKIPPED | +-------------------------------+--------------------+-------------------+------------------+-------------------------+----------------------+ | FreeBSD 14.2 | PASS | SKIPPED | SKIPPED | SKIPPED | SKIPPED | +-------------------------------+--------------------+-------------------+------------------+-------------------------+----------------------+ | Windows Server 2022 | SKIPPED | SKIPPED | SKIPPED | PASS | PASS | +-------------------------------+--------------------+-------------------+------------------+-------------------------+----------------------+ CentOS Stream 9 Kernel: 5.15 Compiler: gcc gcc (GCC) 11.5.0 20240719 (Red Hat 11.5.0-7) Fedora Linux 40 Kernel: 5.15 Compiler: clang gcc (GCC) 14.2.1 20240912 (Red Hat 14.2.1-3) CentOS Stream 10 Kernel: 5.15 Compiler: gcc gcc (GCC) 14.2.1 20250110 (Red Hat 14.2.1-8) Debian GNU/Linux 12 Kernel: 5.15 Compiler: gcc gcc (Debian 12.2.0-14+deb12u1) 12.2.0 Fedora Linux 41 Kernel: 5.15 Compiler: clang gcc (GCC) 14.3.1 20250523 (Red Hat 14.3.1-1) openSUSE Leap 15.6 Kernel: 5.15 Compiler: gcc gcc (SUSE Linux) 7.5.0 Red Hat Enterprise Linux 8.10 Kernel: 5.15 Compiler: gcc gcc (GCC) 8.5.0 20210514 (Red Hat 8.5.0-22) Ubuntu 20.04 Kernel: 5.15 Compiler: gcc gcc (Ubuntu 9.4.0-1ubuntu1~20.04.2) 9.4.0 Red Hat Enterprise Linux 9.5 Kernel: 5.15 Compiler: gcc gcc (GCC) 11.5.0 20240719 (Red Hat 11.5.0-2) Ubuntu 22.04 Kernel: 5.15 Compiler: gcc gcc (Ubuntu 11.4.0-1ubuntu1~22.04) 11.4.0 Ubuntu 24.04 Kernel: 5.15 Compiler: gcc gcc (Ubuntu 13.3.0-6ubuntu2~24.04) 13.3.0 Alpine Linux 3.22.0 Kernel: 5.15 Compiler: gcc gcc (Alpine 14.2.0) 14.2.0 FreeBSD 14.2 Kernel: 14.2-RELEASE Compiler: clang 18.1.6 Windows Server 2022 Kernel: 10.0.20348.2031 Compiler: clang 15.0.7, gcc 14.1.0 (MinGW), and MSVC VS 19.39.33521 To view detailed results, visit: https://lab.dpdk.org/results/dashboard/patchsets/33539/ UNH-IOL DPDK Community Lab To manage your email subscriptions, visit: https://lab.dpdk.org/results/dashboard/preferences/subscriptions/