From mboxrd@z Thu Jan 1 00:00:00 1970 Return-Path: Received: from mails.dpdk.org (mails.dpdk.org [217.70.189.124]) by inbox.dpdk.org (Postfix) with ESMTP id 4959746A9C for ; Mon, 30 Jun 2025 15:16:46 +0200 (CEST) Received: from mails.dpdk.org (localhost [127.0.0.1]) by mails.dpdk.org (Postfix) with ESMTP id 44B9840291; Mon, 30 Jun 2025 15:16:46 +0200 (CEST) Received: from mail-pl1-f228.google.com (mail-pl1-f228.google.com [209.85.214.228]) by mails.dpdk.org (Postfix) with ESMTP id 1CAC740291 for ; Mon, 30 Jun 2025 15:16:45 +0200 (CEST) Received: by mail-pl1-f228.google.com with SMTP id d9443c01a7336-235a3dd4f0dso26283385ad.0 for ; Mon, 30 Jun 2025 06:16:45 -0700 (PDT) DKIM-Signature: v=1; a=rsa-sha256; c=relaxed/relaxed; d=iol.unh.edu; s=unh-iol; t=1751289404; x=1751894204; darn=dpdk.org; h=references:in-reply-to:cc:to:from:subject:message-id:date:from:to :cc:subject:date:message-id:reply-to; bh=F8ChBlyCHS0hB+wHnHwOR/nVGS38Zvs3y8nkyRT5fSQ=; b=E0yKAIq7FroDkgR5Zf96w+IylIPYya9DBAdzgB/XEN/38OjbyZrQHB7Hp9Fej2A+hz PBq6g3vUqqTgtnoYyl4JzKqlfzH4eQ//Kqc2xD7k5JGFTBDIQXm/MhNf3Uja/jdWG1iB iTHrVoSI4wHwjy27wqUlcilYLyPHLPxlG/sQo= X-Google-DKIM-Signature: v=1; a=rsa-sha256; c=relaxed/relaxed; d=1e100.net; s=20230601; t=1751289404; x=1751894204; h=references:in-reply-to:cc:to:from:subject:message-id:date :x-gm-message-state:from:to:cc:subject:date:message-id:reply-to; bh=F8ChBlyCHS0hB+wHnHwOR/nVGS38Zvs3y8nkyRT5fSQ=; b=OhIokbSDKvB8aSP3QMTHCeN69A1pr/LZvtji/oe+KtoPZx+Mil9TojYQIE4VJEbMVA JIZY6bUISLuaLPxSzkHlx+ZFIOkHehyYnD5eHQNQ6z0ckVuKz82fVAOMw9EJpazpXCz/ BzwWhlgMOvaPrvZduHZdoE24aerU6i/kJGmi+vAQf38R0utDVzFF5wR6PS7DmlZNT4aq Fdh1go6wdQKpS45a3K1ANOc6oVE2Egj4Nfw+0kieuiIdrrwaYEDQTQU1h5CGqJmRWBc9 tzwB8HsJhx2NguVYG7aVsTgc1I9Wg9P4PXBX8t0wA73AxKuwItz77fhDE9LtltV7NCCo 3Lgw== X-Gm-Message-State: AOJu0YyfONLUfvgHCt+ZSLp8e3Vohbx6qBGtplB+hsreca1a1g7Uac7+ p9dFrwf7qB2NoEhAxLHK2wVTwMgA5PlzweJi4k2x5iUq4JeY5aT2glYytqMt7ME7qodFY0n3yPB HjtfykRV3dkwvtJhayCxZhYDG3R/Tm8cwNoX9sMU3qlydOXHda7AUgL6kpa1H X-Gm-Gg: ASbGncvuWXpiIOX/zYNpMOtEmrqFLN+vbSxIu/AuUYx3Knm5inU5DU0l/JgtFzt5ao+ CwVPV7KdhraO3zHAAVMc6M3DpLrfjoRG6TC3i0k99UU3dwGDc3EynQ8ouQognqsdsv/e6wpb9Cj Mw2lsJOEgPWI64UOZR5FWE6ZUS/VGcoIQzmSpGP+GHMMZSj22HDDMRPk6G6penlshOVsCYxkf+F 6Qyeb+UfD/chCKgbC31FnKCJiBEZsfg4uruYlb41jmEf9WdByV4KemZ4AfI2Hh4bL1sXU8IV88F Oj98n/GbcGpLTTDLNec9nVzbTcCo6Ar0GDGUm3p3KWNuq9Y= X-Google-Smtp-Source: AGHT+IFjMPpC2Y4XnT9YlZmow4sRlzihWCcrVdHh5x/J1sSuzOeS25T873BdrvfNeehRcA7Vw2E0JTMa1G2/ X-Received: by 2002:a17:902:da89:b0:234:e8db:431d with SMTP id d9443c01a7336-23ac45c5b7amr144598635ad.20.1751289404168; Mon, 30 Jun 2025 06:16:44 -0700 (PDT) Received: from postal.iol.unh.edu (postal.iol.unh.edu. [2606:4100:3880:1234::84]) by smtp-relay.gmail.com with ESMTPS id d9443c01a7336-23acb2f201dsm4096195ad.31.2025.06.30.06.16.44 (version=TLS1_2 cipher=ECDHE-ECDSA-AES128-GCM-SHA256 bits=128/128); Mon, 30 Jun 2025 06:16:44 -0700 (PDT) X-Relaying-Domain: iol.unh.edu Date: Mon, 30 Jun 2025 06:16:44 -0700 (PDT) Message-ID: <68628e3c.170a0220.16d241.6961SMTPIN_ADDED_MISSING@mx.google.com> Received: from [172.21.0.8] (unknown [172.18.0.240]) by postal.iol.unh.edu (Postfix) with ESMTP id 5A407604D420; Mon, 30 Jun 2025 09:16:43 -0400 (EDT) Subject: |WARNING| pw154841 [PATCH] [v2] net/af_xdp: add rx/tx queue support From: dpdklab@iol.unh.edu To: Test Report Cc: dpdk-test-reports@iol.unh.edu In-Reply-To: <20250630085052.585867-1-shivajikant@google.com> References: <20250630085052.585867-1-shivajikant@google.com> Content-Type: text/plain X-BeenThere: test-report@dpdk.org X-Mailman-Version: 2.1.29 Precedence: list List-Id: automatic DPDK test reports List-Unsubscribe: , List-Archive: List-Post: List-Help: List-Subscribe: , Errors-To: test-report-bounces@dpdk.org Test-Label: iol-compile-amd64-testing Test-Status: WARNING http://dpdk.org/patch/154841 _Testing issues_ Submitter: Shivaji Kant Date: Monday, June 30 2025 08:50:52 DPDK git baseline: Repo:dpdk Branch: master CommitID:798e267824a5b9018fff6e0dc37e9a9f1f73e8fb 154841 --> testing issues Upstream job id: Generic-DPDK-Compile-Meson#403658 Test environment and result as below: +-------------------------------+--------------------+-------------------+------------------+-------------------------+----------------------+ | Environment | dpdk_meson_compile | dpdk_compile_spdk | dpdk_compile_ovs | dpdk_llvm_clang_compile | dpdk_mingw64_compile | +===============================+====================+===================+==================+=========================+======================+ | CentOS Stream 9 | PASS | PASS | SKIPPED | SKIPPED | SKIPPED | +-------------------------------+--------------------+-------------------+------------------+-------------------------+----------------------+ | Fedora Linux 40 | PASS | PASS | SKIPPED | SKIPPED | SKIPPED | +-------------------------------+--------------------+-------------------+------------------+-------------------------+----------------------+ | CentOS Stream 10 | PASS | SKIPPED | SKIPPED | SKIPPED | SKIPPED | +-------------------------------+--------------------+-------------------+------------------+-------------------------+----------------------+ | Debian GNU/Linux 12 | PASS | PASS | SKIPPED | SKIPPED | SKIPPED | +-------------------------------+--------------------+-------------------+------------------+-------------------------+----------------------+ | Fedora Linux 41 | PASS | PASS | PASS | SKIPPED | SKIPPED | +-------------------------------+--------------------+-------------------+------------------+-------------------------+----------------------+ | openSUSE Leap 15.6 | PASS | SKIPPED | SKIPPED | SKIPPED | SKIPPED | +-------------------------------+--------------------+-------------------+------------------+-------------------------+----------------------+ | Red Hat Enterprise Linux 8.10 | PASS | SKIPPED | SKIPPED | SKIPPED | SKIPPED | +-------------------------------+--------------------+-------------------+------------------+-------------------------+----------------------+ | Ubuntu 20.04 | PASS | SKIPPED | SKIPPED | SKIPPED | SKIPPED | +-------------------------------+--------------------+-------------------+------------------+-------------------------+----------------------+ | Red Hat Enterprise Linux 9.5 | PASS | SKIPPED | SKIPPED | SKIPPED | SKIPPED | +-------------------------------+--------------------+-------------------+------------------+-------------------------+----------------------+ | Ubuntu 22.04 | PASS | PASS | SKIPPED | SKIPPED | SKIPPED | +-------------------------------+--------------------+-------------------+------------------+-------------------------+----------------------+ | Ubuntu 24.04 | PASS | PASS | PASS | SKIPPED | SKIPPED | +-------------------------------+--------------------+-------------------+------------------+-------------------------+----------------------+ | Alpine Linux 3.22.0 | PASS | SKIPPED | SKIPPED | SKIPPED | SKIPPED | +-------------------------------+--------------------+-------------------+------------------+-------------------------+----------------------+ | FreeBSD 14.2 | PASS | SKIPPED | SKIPPED | SKIPPED | SKIPPED | +-------------------------------+--------------------+-------------------+------------------+-------------------------+----------------------+ | Windows Server 2022 | SKIPPED | SKIPPED | SKIPPED | PASS | PASS | +-------------------------------+--------------------+-------------------+------------------+-------------------------+----------------------+ CentOS Stream 9 Kernel: 5.15 Compiler: gcc gcc (GCC) 11.5.0 20240719 (Red Hat 11.5.0-7) Fedora Linux 40 Kernel: 5.15 Compiler: clang gcc (GCC) 14.2.1 20240912 (Red Hat 14.2.1-3) CentOS Stream 10 Kernel: 5.15 Compiler: gcc gcc (GCC) 14.2.1 20250110 (Red Hat 14.2.1-8) Debian GNU/Linux 12 Kernel: 5.15 Compiler: gcc gcc (Debian 12.2.0-14+deb12u1) 12.2.0 Fedora Linux 41 Kernel: 5.15 Compiler: clang gcc (GCC) 14.3.1 20250523 (Red Hat 14.3.1-1) openSUSE Leap 15.6 Kernel: 5.15 Compiler: gcc gcc (SUSE Linux) 7.5.0 Red Hat Enterprise Linux 8.10 Kernel: 5.15 Compiler: gcc gcc (GCC) 8.5.0 20210514 (Red Hat 8.5.0-22) Ubuntu 20.04 Kernel: 5.15 Compiler: gcc gcc (Ubuntu 9.4.0-1ubuntu1~20.04.2) 9.4.0 Red Hat Enterprise Linux 9.5 Kernel: 5.15 Compiler: gcc gcc (GCC) 11.5.0 20240719 (Red Hat 11.5.0-2) Ubuntu 22.04 Kernel: 5.15 Compiler: gcc gcc (Ubuntu 11.4.0-1ubuntu1~22.04) 11.4.0 Ubuntu 24.04 Kernel: 5.15 Compiler: gcc gcc (Ubuntu 13.3.0-6ubuntu2~24.04) 13.3.0 Alpine Linux 3.22.0 Kernel: 5.15 Compiler: gcc gcc (Alpine 14.2.0) 14.2.0 FreeBSD 14.2 Kernel: 14.2-RELEASE Compiler: clang 18.1.6 Windows Server 2022 Kernel: 10.0.20348.2031 Compiler: clang 15.0.7, gcc 14.1.0 (MinGW), and MSVC VS 19.39.33521 To view detailed results, visit: https://lab.dpdk.org/results/dashboard/patchsets/33539/ UNH-IOL DPDK Community Lab To manage your email subscriptions, visit: https://lab.dpdk.org/results/dashboard/preferences/subscriptions/