From mboxrd@z Thu Jan 1 00:00:00 1970 Return-Path: Received: from mails.dpdk.org (mails.dpdk.org [217.70.189.124]) by inbox.dpdk.org (Postfix) with ESMTP id 7110046A9C for ; Mon, 30 Jun 2025 15:18:23 +0200 (CEST) Received: from mails.dpdk.org (localhost [127.0.0.1]) by mails.dpdk.org (Postfix) with ESMTP id 6BDB440291; Mon, 30 Jun 2025 15:18:23 +0200 (CEST) Received: from mail-il1-f225.google.com (mail-il1-f225.google.com [209.85.166.225]) by mails.dpdk.org (Postfix) with ESMTP id 801C540291 for ; Mon, 30 Jun 2025 15:18:22 +0200 (CEST) Received: by mail-il1-f225.google.com with SMTP id e9e14a558f8ab-3df30d542caso10536935ab.1 for ; Mon, 30 Jun 2025 06:18:22 -0700 (PDT) DKIM-Signature: v=1; a=rsa-sha256; c=relaxed/relaxed; d=iol.unh.edu; s=unh-iol; t=1751289502; x=1751894302; darn=dpdk.org; h=references:in-reply-to:cc:to:from:subject:message-id:date:from:to :cc:subject:date:message-id:reply-to; bh=HQoPy6Te9oGL1cbzNdx44mrjKTqiGp2LtGLZXZIusSE=; b=I8fRnyptklL/q3M275nY9ex1eKuGD8rxsNlfyWaCrq4bmtgzhwWp8aKtkcCEg2Zs0q u1jjqX+Wz1kOPDPc5Hlgtz8IeYfr6WolkNnkK5SBGIPVJLWahlPOlh+nDiVXhNTtnrj1 BSYfXAMxGua3FlssGoj3nkvbOiSEMta9pBRdA= X-Google-DKIM-Signature: v=1; a=rsa-sha256; c=relaxed/relaxed; d=1e100.net; s=20230601; t=1751289502; x=1751894302; h=references:in-reply-to:cc:to:from:subject:message-id:date :x-gm-message-state:from:to:cc:subject:date:message-id:reply-to; bh=HQoPy6Te9oGL1cbzNdx44mrjKTqiGp2LtGLZXZIusSE=; b=luzuaVQ5OqKdak+u7d5q5cHqfMRcyx4IUdbyjVzIJVfwzPr8hOmQiR+tv5TvHJftkY pmCQbTeUDNGWEHp2pb44BOGwKvhNgq/l6r/6lpxNp+cfRXINXgTiezwPmi1INt+ORiRC hzh8bEAblEQIJBkJEYKljVwSulYq1Dxxpnrbk2IAghwVVBtNvqYh8Ckzug8vGq5UGqUY as0GmI3+kDJkd5RvR5qysORjlBG0J77zOL85bJpHtrnthGtoGTqrsFek29cvD1DTUxjq iBTl34hqNspWGaplVkgMVjNj0/uxcAUTXrCCcBHfQu7GvChSTXDZLjFjxLiCgG1l3N7C pWQg== X-Gm-Message-State: AOJu0YyM2KUHwXZhotPabFeLDeyg6ptUJcCQj8sNM4k8rl3wPnAG4Buo wA5vhKoH+0M+8kU2IVCAK0f0uc6jk8c6drmpvjxfhtbE+WzEwmASXhXe1xo4ATI5f+mpW1eohCO /gLQe1+qZIsNrZWAnRKXQxMls1hmcJKOV9Slxxs8RYMku X-Gm-Gg: ASbGncsuVLtAVEAvSw1/kTfI13xtXT8GCBTug9YmWOHIhWlQuyoK6oqokWuCRlCebfv 7ge7F2uoOI52yMVx79mXXIGFRZdHPF9T4PB9jJh4xzfo6EZlV26tSy6qxKrJwKjQcwOUJ3Wwmm8 eHd/bsHSZab7G3JJi/C5dJcz0jybEganAQqfRywh4/gtzf60GNku5eXAwyg28/P4CBobba46uCS aaQ+esl2AeV9FgV7ZDJMFUxy/PgXxk8IDT4ICgI1J8g0yIlLIB+mz+mMu2Oo2+hNcfeRUZtYjlF VvqSRx8ix+9XJzkOQy5r7RNzJEInImzun715tvSw13Wm09qPNyO80pUKxmW4EX8Bz0mfRQ== X-Google-Smtp-Source: AGHT+IHMfEp36HY8l6yFoLoQzlOOq5mL50+E1RVtGgDs06hztlKrI4TaC3YiUTygW35lYdi1aiUziQn4YflA X-Received: by 2002:a05:6e02:174e:b0:3de:296c:a042 with SMTP id e9e14a558f8ab-3df4ab85845mr112908395ab.11.1751289501720; Mon, 30 Jun 2025 06:18:21 -0700 (PDT) Received: from postal.iol.unh.edu (postal.iol.unh.edu. [132.177.123.84]) by smtp-relay.gmail.com with ESMTPS id e9e14a558f8ab-3df4a0be7a7sm4416925ab.54.2025.06.30.06.18.21 (version=TLS1_2 cipher=ECDHE-ECDSA-AES128-GCM-SHA256 bits=128/128); Mon, 30 Jun 2025 06:18:21 -0700 (PDT) X-Relaying-Domain: iol.unh.edu Date: Mon, 30 Jun 2025 06:18:21 -0700 (PDT) Message-ID: <68628e9d.050a0220.75953.7e11SMTPIN_ADDED_MISSING@mx.google.com> Received: from [172.21.0.5] (unknown [172.18.0.240]) by postal.iol.unh.edu (Postfix) with ESMTP id 3A4206051830; Mon, 30 Jun 2025 09:18:21 -0400 (EDT) Subject: |WARNING| pw154841 [PATCH] [v2] net/af_xdp: add rx/tx queue support From: dpdklab@iol.unh.edu To: Test Report Cc: dpdk-test-reports@iol.unh.edu In-Reply-To: <20250630085052.585867-1-shivajikant@google.com> References: <20250630085052.585867-1-shivajikant@google.com> Content-Type: text/plain X-BeenThere: test-report@dpdk.org X-Mailman-Version: 2.1.29 Precedence: list List-Id: automatic DPDK test reports List-Unsubscribe: , List-Archive: List-Post: List-Help: List-Subscribe: , Errors-To: test-report-bounces@dpdk.org Test-Label: iol-compile-amd64-testing Test-Status: WARNING http://dpdk.org/patch/154841 _Testing issues_ Submitter: Shivaji Kant Date: Monday, June 30 2025 08:50:52 DPDK git baseline: Repo:dpdk Branch: master CommitID:798e267824a5b9018fff6e0dc37e9a9f1f73e8fb 154841 --> testing issues Upstream job id: Generic-DPDK-Compile-Meson#403667 Test environment and result as below: +-------------------------------+--------------------+-------------------+------------------+-------------------------+----------------------+ | Environment | dpdk_meson_compile | dpdk_compile_spdk | dpdk_compile_ovs | dpdk_llvm_clang_compile | dpdk_mingw64_compile | +===============================+====================+===================+==================+=========================+======================+ | CentOS Stream 9 | PASS | PASS | SKIPPED | SKIPPED | SKIPPED | +-------------------------------+--------------------+-------------------+------------------+-------------------------+----------------------+ | Fedora Linux 40 | PASS | PASS | SKIPPED | SKIPPED | SKIPPED | +-------------------------------+--------------------+-------------------+------------------+-------------------------+----------------------+ | CentOS Stream 10 | PASS | SKIPPED | SKIPPED | SKIPPED | SKIPPED | +-------------------------------+--------------------+-------------------+------------------+-------------------------+----------------------+ | Debian GNU/Linux 12 | PASS | PASS | SKIPPED | SKIPPED | SKIPPED | +-------------------------------+--------------------+-------------------+------------------+-------------------------+----------------------+ | Fedora Linux 41 | PASS | PASS | PASS | SKIPPED | SKIPPED | +-------------------------------+--------------------+-------------------+------------------+-------------------------+----------------------+ | openSUSE Leap 15.6 | PASS | SKIPPED | SKIPPED | SKIPPED | SKIPPED | +-------------------------------+--------------------+-------------------+------------------+-------------------------+----------------------+ | Red Hat Enterprise Linux 8.10 | PASS | SKIPPED | SKIPPED | SKIPPED | SKIPPED | +-------------------------------+--------------------+-------------------+------------------+-------------------------+----------------------+ | Ubuntu 20.04 | PASS | SKIPPED | SKIPPED | SKIPPED | SKIPPED | +-------------------------------+--------------------+-------------------+------------------+-------------------------+----------------------+ | Red Hat Enterprise Linux 9.5 | PASS | SKIPPED | SKIPPED | SKIPPED | SKIPPED | +-------------------------------+--------------------+-------------------+------------------+-------------------------+----------------------+ | Ubuntu 22.04 | PASS | PASS | SKIPPED | SKIPPED | SKIPPED | +-------------------------------+--------------------+-------------------+------------------+-------------------------+----------------------+ | Ubuntu 24.04 | PASS | PASS | PASS | SKIPPED | SKIPPED | +-------------------------------+--------------------+-------------------+------------------+-------------------------+----------------------+ | Alpine Linux 3.22.0 | PASS | SKIPPED | SKIPPED | SKIPPED | SKIPPED | +-------------------------------+--------------------+-------------------+------------------+-------------------------+----------------------+ | FreeBSD 14.2 | PASS | SKIPPED | SKIPPED | SKIPPED | SKIPPED | +-------------------------------+--------------------+-------------------+------------------+-------------------------+----------------------+ | Windows Server 2022 | SKIPPED | SKIPPED | SKIPPED | PASS | PASS | +-------------------------------+--------------------+-------------------+------------------+-------------------------+----------------------+ CentOS Stream 9 Kernel: 5.15 Compiler: gcc gcc (GCC) 11.5.0 20240719 (Red Hat 11.5.0-7) Fedora Linux 40 Kernel: 5.15 Compiler: clang gcc (GCC) 14.2.1 20240912 (Red Hat 14.2.1-3) CentOS Stream 10 Kernel: 5.15 Compiler: gcc gcc (GCC) 14.2.1 20250110 (Red Hat 14.2.1-8) Debian GNU/Linux 12 Kernel: 5.15 Compiler: gcc gcc (Debian 12.2.0-14+deb12u1) 12.2.0 Fedora Linux 41 Kernel: 5.15 Compiler: clang gcc (GCC) 14.3.1 20250523 (Red Hat 14.3.1-1) openSUSE Leap 15.6 Kernel: 5.15 Compiler: gcc gcc (SUSE Linux) 7.5.0 Red Hat Enterprise Linux 8.10 Kernel: 5.15 Compiler: gcc gcc (GCC) 8.5.0 20210514 (Red Hat 8.5.0-22) Ubuntu 20.04 Kernel: 5.15 Compiler: gcc gcc (Ubuntu 9.4.0-1ubuntu1~20.04.2) 9.4.0 Red Hat Enterprise Linux 9.5 Kernel: 5.15 Compiler: gcc gcc (GCC) 11.5.0 20240719 (Red Hat 11.5.0-2) Ubuntu 22.04 Kernel: 5.15 Compiler: gcc gcc (Ubuntu 11.4.0-1ubuntu1~22.04) 11.4.0 Ubuntu 24.04 Kernel: 5.15 Compiler: gcc gcc (Ubuntu 13.3.0-6ubuntu2~24.04) 13.3.0 Alpine Linux 3.22.0 Kernel: 5.15 Compiler: gcc gcc (Alpine 14.2.0) 14.2.0 FreeBSD 14.2 Kernel: 14.2-RELEASE Compiler: clang 18.1.6 Windows Server 2022 Kernel: 10.0.20348.2031 Compiler: clang 15.0.7, gcc 14.1.0 (MinGW), and MSVC VS 19.39.33521 To view detailed results, visit: https://lab.dpdk.org/results/dashboard/patchsets/33539/ UNH-IOL DPDK Community Lab To manage your email subscriptions, visit: https://lab.dpdk.org/results/dashboard/preferences/subscriptions/