From mboxrd@z Thu Jan 1 00:00:00 1970 Return-Path: Received: from mails.dpdk.org (mails.dpdk.org [217.70.189.124]) by inbox.dpdk.org (Postfix) with ESMTP id F417E46A9C for ; Mon, 30 Jun 2025 15:35:15 +0200 (CEST) Received: from mails.dpdk.org (localhost [127.0.0.1]) by mails.dpdk.org (Postfix) with ESMTP id CB6EA40291; Mon, 30 Jun 2025 15:35:15 +0200 (CEST) Received: from mail-oa1-f99.google.com (mail-oa1-f99.google.com [209.85.160.99]) by mails.dpdk.org (Postfix) with ESMTP id 96F9640291 for ; Mon, 30 Jun 2025 15:35:14 +0200 (CEST) Received: by mail-oa1-f99.google.com with SMTP id 586e51a60fabf-2ea6dd628a7so2508666fac.1 for ; Mon, 30 Jun 2025 06:35:14 -0700 (PDT) DKIM-Signature: v=1; a=rsa-sha256; c=relaxed/relaxed; d=iol.unh.edu; s=unh-iol; t=1751290514; x=1751895314; darn=dpdk.org; h=references:in-reply-to:cc:to:from:subject:message-id:date:from:to :cc:subject:date:message-id:reply-to; bh=/9NHypcBxrMfymaReo0BIIeIDJejT+f/oawWi+IedcA=; b=fIZYuIuLNw9JvVd8gTL56o46nM/V62N0u0zfDtYU5bIGGgYjXe1oqy9iUH4sIeGPGe QRy/fVKc0++cNgzZgv9DFIkUj+ng3HW3GPu6zjmU7VFn69hPEv91x1YdB4Vha+GSsMMj XiMMrErTKENpjCwhUPc+QloRT/5iQFRsCeRy0= X-Google-DKIM-Signature: v=1; a=rsa-sha256; c=relaxed/relaxed; d=1e100.net; s=20230601; t=1751290514; x=1751895314; h=references:in-reply-to:cc:to:from:subject:message-id:date :x-gm-message-state:from:to:cc:subject:date:message-id:reply-to; bh=/9NHypcBxrMfymaReo0BIIeIDJejT+f/oawWi+IedcA=; b=OfPGrNcrpuGvsRehd73mj0DrFw427jXTZmAqS3yG1Z8fC3ARLBkYjiuNYTdSe7u276 fgn0oUleyUsSgqqUoarCgsokr9X71k1blJDjO5lr2rzP4MLSCUW+YrNVuXHw/OQ7Nmrk gu3vcS7JUd3o8WZpDUkX8Og/NTPKrnWWd+gyCKeOhC6K3536j+8nzJ0hNkN2jBKslw1x oIQVIAlebJZamWXtGDohBCVBx0v9tUTwzsZ7aiqevgQ1oJbMms+RDzC7KhHJxTAwOxW2 /PL6n74/7ANQHyQPkQ0cv4O3YtMbbmR05pi8lPp4R+vUVUKyUXiiGndQsbKUVf+dPXTn 1/0g== X-Gm-Message-State: AOJu0YwQbXuNcwlXi+pue09uJzoZBozzS2SNE2EJWq72UXY0pOyGngP7 FMTMar7Lj7Wf2uAp39T7Rpmtl+9A0qOrBKKuXdKQefxaM66nhZ/3bc5X2EgtFZXoXWRWu9z1OaV Jfus2IODcVsf46FFgyVG9iBnCAEGrh16D6XMFJTqqr4XY X-Gm-Gg: ASbGnctYl/VRbzfkJbr/Wm05caQhqvL8if25Iy1iLrcgYl9y/PbMmaTeBx3KB+Mpzc1 xd/Y1PIQWKbjUxuS2TpV7tQhCQn/nY8+K0cw//ax/uqF23vYgwnjHYFYNiK9ZPQEfhN6usFRCE8 i3ra4numc/UX57ChvijfO2BB6/5Wd4gMlDC+wc3RLKvVdYf7/NudpRRAiI6a7brIzP+ABiQTSP0 3pE1r+33ylWrCcNF2f8YK0PnHy0bwLHryip9pPczxESoHw3W0nHIX2sHxz88+vVUhTvp6/FuOfh 7KgK7Y8O+7Vvpe7BI6xgNopJBMSIoMzH/s2v2SH/0SjOErJWU/MNHhHmYDiZe0TyaWFfUQ== X-Google-Smtp-Source: AGHT+IH1ebq3K474SYeRd24h3e2ZCFxB9eOebeDrp4Iip5yilSYylazj9pOa2DhfbVDbAsII3cz9ev4Y9AEl X-Received: by 2002:a05:6870:1990:b0:2d4:e8fd:7ffb with SMTP id 586e51a60fabf-2efed44c394mr9488784fac.1.1751290513752; Mon, 30 Jun 2025 06:35:13 -0700 (PDT) Received: from postal.iol.unh.edu (postal.iol.unh.edu. [132.177.123.84]) by smtp-relay.gmail.com with ESMTPS id 586e51a60fabf-2efd4d93164sm551535fac.8.2025.06.30.06.35.13 (version=TLS1_2 cipher=ECDHE-ECDSA-AES128-GCM-SHA256 bits=128/128); Mon, 30 Jun 2025 06:35:13 -0700 (PDT) X-Relaying-Domain: iol.unh.edu Date: Mon, 30 Jun 2025 06:35:13 -0700 (PDT) Message-ID: <68629291.050a0220.1d746c.d85aSMTPIN_ADDED_MISSING@mx.google.com> Received: from [172.21.0.8] (unknown [172.18.0.240]) by postal.iol.unh.edu (Postfix) with ESMTP id 337D7604D420; Mon, 30 Jun 2025 09:35:13 -0400 (EDT) Subject: |SUCCESS| pw154842-154847 [PATCH] [v6,6/6] net/dpaa2: enable softwar From: dpdklab@iol.unh.edu To: Test Report Cc: dpdk-test-reports@iol.unh.edu In-Reply-To: <20250630095800.2943863-7-g.singh@nxp.com> References: <20250630095800.2943863-7-g.singh@nxp.com> Content-Type: text/plain X-BeenThere: test-report@dpdk.org X-Mailman-Version: 2.1.29 Precedence: list List-Id: automatic DPDK test reports List-Unsubscribe: , List-Archive: List-Post: List-Help: List-Subscribe: , Errors-To: test-report-bounces@dpdk.org Test-Label: iol-unit-amd64-testing Test-Status: SUCCESS http://dpdk.org/patch/154847 _Testing PASS_ Submitter: Gagandeep Singh Date: Monday, June 30 2025 09:58:00 DPDK git baseline: Repo:dpdk Branch: master CommitID:798e267824a5b9018fff6e0dc37e9a9f1f73e8fb 154842-154847 --> testing pass Upstream job id: Generic-Unit-Test-DPDK#351041 Test environment and result as below: +-------------------------------+----------------+ | Environment | dpdk_unit_test | +===============================+================+ | CentOS Stream 9 | PASS | +-------------------------------+----------------+ | CentOS Stream 10 | PASS | +-------------------------------+----------------+ | Fedora Linux 41 | PASS | +-------------------------------+----------------+ | Red Hat Enterprise Linux 8.10 | PASS | +-------------------------------+----------------+ | Fedora Linux 40 | PASS | +-------------------------------+----------------+ | Debian GNU/Linux 12 | PASS | +-------------------------------+----------------+ | Red Hat Enterprise Linux 9.5 | PASS | +-------------------------------+----------------+ | Ubuntu 22.04 | PASS | +-------------------------------+----------------+ | Ubuntu 24.04 | PASS | +-------------------------------+----------------+ | Ubuntu 20.04 | PASS | +-------------------------------+----------------+ | Windows Server 2022 | PASS | +-------------------------------+----------------+ CentOS Stream 9 Kernel: 5.15 Compiler: gcc gcc (GCC) 11.5.0 20240719 (Red Hat 11.5.0-7) CentOS Stream 10 Kernel: 5.15 Compiler: gcc gcc (GCC) 14.2.1 20250110 (Red Hat 14.2.1-8) Fedora Linux 41 Kernel: 5.15 Compiler: gcc gcc (GCC) 14.3.1 20250523 (Red Hat 14.3.1-1) Red Hat Enterprise Linux 8.10 Kernel: 5.15 Compiler: gcc gcc (GCC) 8.5.0 20210514 (Red Hat 8.5.0-22) Fedora Linux 40 Kernel: 5.15 Compiler: gcc gcc (GCC) 14.2.1 20240912 (Red Hat 14.2.1-3) Debian GNU/Linux 12 Kernel: 5.15 Compiler: gcc gcc (Debian 12.2.0-14+deb12u1) 12.2.0 Red Hat Enterprise Linux 9.5 Kernel: 5.15 Compiler: gcc gcc (GCC) 11.5.0 20240719 (Red Hat 11.5.0-2) Ubuntu 22.04 Kernel: 5.15 Compiler: gcc gcc (Ubuntu 11.4.0-1ubuntu1~22.04) 11.4.0 Ubuntu 24.04 Kernel: 5.15 Compiler: gcc gcc (Ubuntu 13.3.0-6ubuntu2~24.04) 13.3.0 Ubuntu 20.04 Kernel: 5.15 Compiler: gcc gcc (Ubuntu 9.4.0-1ubuntu1~20.04.2) 9.4.0 Windows Server 2022 Kernel: 10.0.20348.2031 Compiler: clang 15.0.7, gcc 14.1.0 (MinGW), and MSVC VS 19.39.33521 To view detailed results, visit: https://lab.dpdk.org/results/dashboard/patchsets/33540/ UNH-IOL DPDK Community Lab To manage your email subscriptions, visit: https://lab.dpdk.org/results/dashboard/preferences/subscriptions/