From mboxrd@z Thu Jan 1 00:00:00 1970 Return-Path: Received: from mails.dpdk.org (mails.dpdk.org [217.70.189.124]) by inbox.dpdk.org (Postfix) with ESMTP id 3DAB446A23 for ; Mon, 30 Jun 2025 15:38:45 +0200 (CEST) Received: from mails.dpdk.org (localhost [127.0.0.1]) by mails.dpdk.org (Postfix) with ESMTP id 2D48140291; Mon, 30 Jun 2025 15:38:45 +0200 (CEST) Received: from mail-il1-f227.google.com (mail-il1-f227.google.com [209.85.166.227]) by mails.dpdk.org (Postfix) with ESMTP id 4C87B40291 for ; Mon, 30 Jun 2025 15:38:44 +0200 (CEST) Received: by mail-il1-f227.google.com with SMTP id e9e14a558f8ab-3dda399db09so37166435ab.3 for ; Mon, 30 Jun 2025 06:38:44 -0700 (PDT) DKIM-Signature: v=1; a=rsa-sha256; c=relaxed/relaxed; d=iol.unh.edu; s=unh-iol; t=1751290723; x=1751895523; darn=dpdk.org; h=references:in-reply-to:cc:to:from:subject:message-id:date:from:to :cc:subject:date:message-id:reply-to; bh=E539Po5f+FCtrP8pefo16iyA31JRTvBCmxtqTVG/XfA=; b=J6ZVfIJUkNjB2Yg69rfioYxoUbkYDsWh9pmxivhlnecD0HwuWiNfmlVEhqH8cGYjBJ t2SIhw183m5L9soUXT0Hh+AFDegPnUDpF1Nlyn1cA7aP45lOnW/M87bYptDk00rBsmLS UD8XNxB7gMDFHgSrilnVCEQH9DxDlQeisFokc= X-Google-DKIM-Signature: v=1; a=rsa-sha256; c=relaxed/relaxed; d=1e100.net; s=20230601; t=1751290723; x=1751895523; h=references:in-reply-to:cc:to:from:subject:message-id:date :x-gm-message-state:from:to:cc:subject:date:message-id:reply-to; bh=E539Po5f+FCtrP8pefo16iyA31JRTvBCmxtqTVG/XfA=; b=gNDtHZi++FH3nfa1I1p/gFBvzKUyNSAVZuXikf7HjOiQdiobPF5CK52MCCd1WR6dGg H8KBzTJGrUValGlOkV0NNOpK1RFwrN8GREHUp5KfjY8+b4I3sVzqiPqCxrAZ/Vy1INGV Ylj5asRDVtJsdUxppM4prIhvmcltzZbdKB4j8yH3BNDNNK2VTBH15utJWrIudtnPobqR 6C9O8oXKFPiBeFKHOfX/F7uvraYP5ioPSvcZz5eaJxZIuv+87teJA5UbH5LJY56TDI9c VIARCsFxbEBAnQUT51aq7IqoLmGeunikX3eTYXL7IHgsC2VjA57ii+Mfi8z1oQsHw1u+ 3KDw== X-Gm-Message-State: AOJu0YwCHHeVgCNgw6UrHLToIxRMJ7yDJkulhjmmh4vqFz4depiibB8L DdKCcuYRnGU6woaawoPhZC64b3ic4DB6Xc5G4XKw0m1l2PuaaBSNrUEl5nNOYdcIK93pAJVF0np lBj/m4bBxVGxQezi2/e1EpRCzUcbuzHFaxmSBEozykUMczJQG0pe03t0LFreH X-Gm-Gg: ASbGncseznaaxINMkIKHy/joKr3AzhQKdu6hDk6ytF7QvtqsKmcze8pRWyK65WZl3C1 2ZX5iq6immNA7PNFb6LSeZl9b5FAQD+JLjc5sTY296uhXnnKG7NLrc+QGkysxDRezzjPhQ21Cc9 k8VT3Qnc+qa9/pWEJc9HhBt4Wz4uex1h0hUIVWpHtaYzUl35faha4s60oRcwej1ohWGTtcEhnP3 5OYBfCupucYOsL6KLyJMfw0mn9AxmEjqPFtDRvLZrupgja1vkCfnnolsFhz5jbXOy4pJeWiNil9 EIiF6IQ3e14eUdlDKL6Q3VP5kfevczPZx4b0ypYijod+0po= X-Google-Smtp-Source: AGHT+IHmFPzV/aAEZldLP8Qh8zYCBGsGtvFEL+hb5aFhXxu6cmo73nqtVeDBO02YhbLj7M6ig6N/KhMv3r3v X-Received: by 2002:a05:6e02:1a41:b0:3df:4811:ea2a with SMTP id e9e14a558f8ab-3df4acc3068mr133807855ab.22.1751290723565; Mon, 30 Jun 2025 06:38:43 -0700 (PDT) Received: from postal.iol.unh.edu (postal.iol.unh.edu. [2606:4100:3880:1234::84]) by smtp-relay.gmail.com with ESMTPS id 8926c6da1cb9f-502048580d9sm310014173.7.2025.06.30.06.38.43 (version=TLS1_2 cipher=ECDHE-ECDSA-AES128-GCM-SHA256 bits=128/128); Mon, 30 Jun 2025 06:38:43 -0700 (PDT) X-Relaying-Domain: iol.unh.edu Date: Mon, 30 Jun 2025 06:38:43 -0700 (PDT) Message-ID: <68629363.050a0220.15bb2.0e30SMTPIN_ADDED_MISSING@mx.google.com> Received: from [172.21.0.9] (unknown [172.18.0.240]) by postal.iol.unh.edu (Postfix) with ESMTP id ED1A5604D420; Mon, 30 Jun 2025 09:38:42 -0400 (EDT) Subject: |SUCCESS| pw154842-154847 [PATCH] [v6,6/6] net/dpaa2: enable softwar From: dpdklab@iol.unh.edu To: Test Report Cc: dpdk-test-reports@iol.unh.edu In-Reply-To: <20250630095800.2943863-7-g.singh@nxp.com> References: <20250630095800.2943863-7-g.singh@nxp.com> Content-Type: text/plain X-BeenThere: test-report@dpdk.org X-Mailman-Version: 2.1.29 Precedence: list List-Id: automatic DPDK test reports List-Unsubscribe: , List-Archive: List-Post: List-Help: List-Subscribe: , Errors-To: test-report-bounces@dpdk.org Test-Label: iol-unit-arm64-testing Test-Status: SUCCESS http://dpdk.org/patch/154847 _Testing PASS_ Submitter: Gagandeep Singh Date: Monday, June 30 2025 09:58:00 DPDK git baseline: Repo:dpdk Branch: master CommitID:798e267824a5b9018fff6e0dc37e9a9f1f73e8fb 154842-154847 --> testing pass Upstream job id: Generic-Unit-Test-DPDK#351033 Test environment and result as below: +------------------------------+----------------+ | Environment | dpdk_unit_test | +==============================+================+ | CentOS Stream 10 | PASS | +------------------------------+----------------+ | CentOS Stream 9 | PASS | +------------------------------+----------------+ | Fedora Linux 41 | PASS | +------------------------------+----------------+ | Debian GNU/Linux 12 | PASS | +------------------------------+----------------+ | Fedora Linux 40 | PASS | +------------------------------+----------------+ | Red Hat Enterprise Linux 9.5 | PASS | +------------------------------+----------------+ | Ubuntu 24.04 | PASS | +------------------------------+----------------+ | Ubuntu 22.04 | PASS | +------------------------------+----------------+ | Ubuntu 20.04 | PASS | +------------------------------+----------------+ CentOS Stream 10 Kernel: 5.4 Compiler: gcc gcc (GCC) 14.2.1 20250110 (Red Hat 14.2.1-8) CentOS Stream 9 Kernel: 5.4 Compiler: gcc gcc (GCC) 11.5.0 20240719 (Red Hat 11.5.0-7) Fedora Linux 41 Kernel: 5.4 Compiler: clang gcc (GCC) 14.3.1 20250523 (Red Hat 14.3.1-1) Debian GNU/Linux 12 Kernel: 5.4 Compiler: gcc gcc (Debian 12.2.0-14+deb12u1) 12.2.0 Fedora Linux 40 Kernel: 5.4 Compiler: gcc gcc (GCC) 14.2.1 20240912 (Red Hat 14.2.1-3) Red Hat Enterprise Linux 9.5 Kernel: 5.4 Compiler: gcc gcc (GCC) 11.5.0 20240719 (Red Hat 11.5.0-2) Ubuntu 24.04 Kernel: 5.4 Compiler: gcc gcc (Ubuntu 13.3.0-6ubuntu2~24.04) 13.3.0 Ubuntu 22.04 Kernel: 5.4 Compiler: gcc gcc (Ubuntu 11.4.0-1ubuntu1~22.04) 11.4.0 Ubuntu 20.04 Kernel: 5.4 Compiler: gcc gcc (Ubuntu 9.4.0-1ubuntu1~20.04.2) 9.4.0 To view detailed results, visit: https://lab.dpdk.org/results/dashboard/patchsets/33540/ UNH-IOL DPDK Community Lab To manage your email subscriptions, visit: https://lab.dpdk.org/results/dashboard/preferences/subscriptions/