From mboxrd@z Thu Jan 1 00:00:00 1970 Return-Path: Received: from mails.dpdk.org (mails.dpdk.org [217.70.189.124]) by inbox.dpdk.org (Postfix) with ESMTP id 8944946A9C for ; Mon, 30 Jun 2025 15:42:04 +0200 (CEST) Received: from mails.dpdk.org (localhost [127.0.0.1]) by mails.dpdk.org (Postfix) with ESMTP id 83DA240291; Mon, 30 Jun 2025 15:42:04 +0200 (CEST) Received: from mail-qk1-f228.google.com (mail-qk1-f228.google.com [209.85.222.228]) by mails.dpdk.org (Postfix) with ESMTP id A4E5840291 for ; Mon, 30 Jun 2025 15:42:02 +0200 (CEST) Received: by mail-qk1-f228.google.com with SMTP id af79cd13be357-7d219896edeso468787385a.1 for ; Mon, 30 Jun 2025 06:42:02 -0700 (PDT) DKIM-Signature: v=1; a=rsa-sha256; c=relaxed/relaxed; d=iol.unh.edu; s=unh-iol; t=1751290922; x=1751895722; darn=dpdk.org; h=references:in-reply-to:cc:to:from:subject:message-id:date:from:to :cc:subject:date:message-id:reply-to; bh=SncqG60E6b9uESUMfLeRiGUEvKdpNNHlJRPvP2kwPo8=; b=ZaCgAA/6FXc7vD+Mh6N3o3Vmxsc41Vz3tds48ljnqoXw9G3kjYbAsQVPGDOlHPSv2K qNTtHFUleU7HxTrEMM5pX/1KMLqq8eND/SKhV7b+7n8HXmRVG+2/kmzXCMHrmwVG2FW4 2fx05VQRfqnN3bGb/ZDkIjTvaRfuWbqUcE408= X-Google-DKIM-Signature: v=1; a=rsa-sha256; c=relaxed/relaxed; d=1e100.net; s=20230601; t=1751290922; x=1751895722; h=references:in-reply-to:cc:to:from:subject:message-id:date :x-gm-message-state:from:to:cc:subject:date:message-id:reply-to; bh=SncqG60E6b9uESUMfLeRiGUEvKdpNNHlJRPvP2kwPo8=; b=VzsuQRDLo4QWJ0XxUoScxJlym8rAXb/rnN5ZbqCqp08bb2h6GrkvZgRt5M0UxJ9012 jiq/69lgliUTMsrWeFcsPONkXFOpXbljjvRA8yzlwP76pJOFdiKryrwhjOfPkQvCILie 2yVPwpix0e/rDiUz5j2p6kYnJv9mKWPqhc86UQ3cFpUl79nYN14IPzRm6UQ3lkD50+z3 FSyl64+8ZUUyIf/+wiccatLY9mvXa9c1fezbHx7L5tSomKoUICmXb9SsobEfTGtWAhoT kqDyGt5NtMe7Kt1x73DdssRoiiq8MZz71lrFBk/U6/5oQDzYi8C8FmfTTXJ+6LYjmlfE fl/g== X-Gm-Message-State: AOJu0YzkKEEmjkSjATgWnfM0gpw53+2lzfInLEg0TEt9uTuaG/AUCW4S O8xr9W3QImle80KplifPclQ8qAJTgTKpW0swVdZpDWKQ5b3oP1aeC2rKhJzAn6FZw/qi6HZux7Y 4ZY9IAWAMG2ha9GuEtfNOe9iKHB0XUARFZX76KJIpcxpk X-Gm-Gg: ASbGnctxZ7k7j2ZtHGYSCK+qmvicIEqgt0xnp6DOrHAo3VGv3TdTb8rtGpno0FuYL+e FhSp6MKf+ZZ2MOVhj9lFEHYwuLDbbIt1tUNrkmrjeFihZF3H83kn/sMS0MZGgXiTuFOBjZ5HOpv gzHWcfs+hzE5ixTikv1BcBkxnPcDB2A6MmxVgJCIr5BTsIpaqTCK1YClezLZgPqtWZwSmlZp9n9 DB1HmEjmp3R9Ir0qlYSd7Irgb5AlbksbhgjHTIAH0oQs8fnAc+PSZY59n/ilEzWIT9WCu7k7XcJ J1QdWnp1+aZpEO47Ys/3AZ4dKvoSG6LEXPYyobmJJST9XjeIY6RyrfSG3hadJOMJV5bF6w== X-Google-Smtp-Source: AGHT+IG+nLL0gpYZXQJvpY6lC2YSjPo8f+cZnU5DIg/5hFgjiAWy872nvmRzfN/Vu4bzjbSY78m9PbfrDY1F X-Received: by 2002:a05:6214:262f:b0:6fa:c55e:869 with SMTP id 6a1803df08f44-70002ee7d42mr261757356d6.23.1751290921984; Mon, 30 Jun 2025 06:42:01 -0700 (PDT) Received: from postal.iol.unh.edu (postal.iol.unh.edu. [132.177.123.84]) by smtp-relay.gmail.com with ESMTPS id 6a1803df08f44-6fd7727fef0sm5146296d6.43.2025.06.30.06.42.01 (version=TLS1_2 cipher=ECDHE-ECDSA-AES128-GCM-SHA256 bits=128/128); Mon, 30 Jun 2025 06:42:01 -0700 (PDT) X-Relaying-Domain: iol.unh.edu Date: Mon, 30 Jun 2025 06:42:01 -0700 (PDT) Message-ID: <68629429.050a0220.175090.b267SMTPIN_ADDED_MISSING@mx.google.com> Received: from [172.21.0.6] (unknown [172.18.0.240]) by postal.iol.unh.edu (Postfix) with ESMTP id 96D16604D420; Mon, 30 Jun 2025 09:42:01 -0400 (EDT) Subject: |SUCCESS| pw154842-154847 [PATCH] [v6,6/6] net/dpaa2: enable softwar From: dpdklab@iol.unh.edu To: Test Report Cc: dpdk-test-reports@iol.unh.edu In-Reply-To: <20250630095800.2943863-7-g.singh@nxp.com> References: <20250630095800.2943863-7-g.singh@nxp.com> Content-Type: text/plain X-BeenThere: test-report@dpdk.org X-Mailman-Version: 2.1.29 Precedence: list List-Id: automatic DPDK test reports List-Unsubscribe: , List-Archive: List-Post: List-Help: List-Subscribe: , Errors-To: test-report-bounces@dpdk.org Test-Label: iol-abi-testing Test-Status: SUCCESS http://dpdk.org/patch/154847 _Testing PASS_ Submitter: Gagandeep Singh Date: Monday, June 30 2025 09:58:00 DPDK git baseline: Repo:dpdk Branch: master CommitID:798e267824a5b9018fff6e0dc37e9a9f1f73e8fb 154842-154847 --> testing pass Upstream job id: Generic-DPDK-Compile-ABI#132381 Test environment and result as below: +-------------------------------+----------+ | Environment | abi_test | +===============================+==========+ | CentOS Stream 9 | PASS | +-------------------------------+----------+ | CentOS Stream 10 | PASS | +-------------------------------+----------+ | Debian GNU/Linux 12 | PASS | +-------------------------------+----------+ | Fedora Linux 40 | PASS | +-------------------------------+----------+ | Fedora Linux 41 | PASS | +-------------------------------+----------+ | openSUSE Leap 15.6 | PASS | +-------------------------------+----------+ | Red Hat Enterprise Linux 8.10 | PASS | +-------------------------------+----------+ | Red Hat Enterprise Linux 9.5 | PASS | +-------------------------------+----------+ | Ubuntu 22.04 | PASS | +-------------------------------+----------+ | Ubuntu 24.04 | PASS | +-------------------------------+----------+ CentOS Stream 9 Kernel: 5.15 Compiler: gcc gcc (GCC) 11.5.0 20240719 (Red Hat 11.5.0-7) CentOS Stream 10 Kernel: 5.15 Compiler: gcc gcc (GCC) 14.2.1 20250110 (Red Hat 14.2.1-8) Debian GNU/Linux 12 Kernel: 5.15 Compiler: gcc gcc (Debian 12.2.0-14+deb12u1) 12.2.0 Fedora Linux 40 Kernel: 5.15 Compiler: clang gcc (GCC) 14.2.1 20240912 (Red Hat 14.2.1-3) Fedora Linux 41 Kernel: 5.15 Compiler: clang gcc (GCC) 14.3.1 20250523 (Red Hat 14.3.1-1) openSUSE Leap 15.6 Kernel: 5.15 Compiler: gcc gcc (SUSE Linux) 7.5.0 Red Hat Enterprise Linux 8.10 Kernel: 5.15 Compiler: gcc gcc (GCC) 8.5.0 20210514 (Red Hat 8.5.0-22) Red Hat Enterprise Linux 9.5 Kernel: 5.15 Compiler: gcc gcc (GCC) 11.5.0 20240719 (Red Hat 11.5.0-2) Ubuntu 22.04 Kernel: 5.15 Compiler: gcc gcc (Ubuntu 11.4.0-1ubuntu1~22.04) 11.4.0 Ubuntu 24.04 Kernel: 5.15 Compiler: gcc gcc (Ubuntu 13.3.0-6ubuntu2~24.04) 13.3.0 To view detailed results, visit: https://lab.dpdk.org/results/dashboard/patchsets/33540/ UNH-IOL DPDK Community Lab To manage your email subscriptions, visit: https://lab.dpdk.org/results/dashboard/preferences/subscriptions/