From mboxrd@z Thu Jan 1 00:00:00 1970 Return-Path: Received: from mails.dpdk.org (mails.dpdk.org [217.70.189.124]) by inbox.dpdk.org (Postfix) with ESMTP id 14C9B46A9D for ; Mon, 30 Jun 2025 16:01:14 +0200 (CEST) Received: from mails.dpdk.org (localhost [127.0.0.1]) by mails.dpdk.org (Postfix) with ESMTP id 0C92D40291; Mon, 30 Jun 2025 16:01:14 +0200 (CEST) Received: from mail-il1-f226.google.com (mail-il1-f226.google.com [209.85.166.226]) by mails.dpdk.org (Postfix) with ESMTP id 70B6440291 for ; Mon, 30 Jun 2025 16:01:12 +0200 (CEST) Received: by mail-il1-f226.google.com with SMTP id e9e14a558f8ab-3df3ce3ec91so9442235ab.2 for ; Mon, 30 Jun 2025 07:01:12 -0700 (PDT) DKIM-Signature: v=1; a=rsa-sha256; c=relaxed/relaxed; d=iol.unh.edu; s=unh-iol; t=1751292072; x=1751896872; darn=dpdk.org; h=references:in-reply-to:cc:to:from:subject:message-id:date:from:to :cc:subject:date:message-id:reply-to; bh=gI7Qf9qYwhTY+XJjovpyldROPtkzR0fEoaATH/bOYzQ=; b=glcYUWL1r2QWpzcrWW2blyfV+TYGdQLVfe5D3mswoye+97W3sVTFJLDIbxbGo6dg/a t2/ErtBqwRhPwewqXAFJQNROXM0a5n4e6Brp5UcgyDtqUZarPHgaLO9yZb+Abzf0T3wn Bv6ttWfJCTNUHH16NtCq45/LWsGiugQPicJhY= X-Google-DKIM-Signature: v=1; a=rsa-sha256; c=relaxed/relaxed; d=1e100.net; s=20230601; t=1751292072; x=1751896872; h=references:in-reply-to:cc:to:from:subject:message-id:date :x-gm-message-state:from:to:cc:subject:date:message-id:reply-to; bh=gI7Qf9qYwhTY+XJjovpyldROPtkzR0fEoaATH/bOYzQ=; b=xFASJ7Ac9llwKMoC788BwV4Qiyo8DUkp1KMiJOta2dAQffwWjzBXB4O1tMv1CcL5NU DpwI0Gb6/tVWjyJp1O/twJri4fplMtiMrHzFoy1kKhLIDoDWN5tC/yUTapraD7kg60mg d4CZlv9mQNKwYfxgXV4dEZH0L8oYcHeHzsZPc3KPVmjiAF0XVAYh4kDmahuAbUdBfn5L Xq8BMWMs1BHCxSZFfGthHC8XQ+WhydGPIWv1BEvJFFy0JFPdokLtC/72jbSS/8W3U3wi qZRZi9Aj451vgqAlymhxB+fA3OusxEB9m3Az/ti4u8NO7XkzVKToltUD92jtXd4zMunb otTA== X-Gm-Message-State: AOJu0YyHWGh9jsywqXs5xvsnUkIBwt9wUmdVjRr8OiyeAVlKojo4GQir F+psnJH7zTBpyA2y9UxuGAKnuLxOj0U5AgqcbsDfExlNB/TpGEz63xy5x47LRrx0vgavDrHNuho g0engTJLlfeRMoWQpAltoVm5IgIIYf4uLqhQqs5Deupwj X-Gm-Gg: ASbGncunFKKa7f+2elOh+XD8dXHQINd639/RDVOJw1oZ5sPTvxC/4ShPy/CDwuucY0j 8QE6hdWyK9PbImY5Q5AFKwHz562xyfbm4Gj8bhDk9SAdOGW7S5cxu682sPnx/tYXPadE5pa76tx rWVR6i6MpgNZbmW5VQ2TAwqylSoolCBGi7tzQZVTBS90/VwZ7Pp1xNl8mnUNDH/NSmNVVFy13GE X98bbtDqV9ZjcuRQ6Sz2any9InTTbzfHNkV9fynJQww8d7mmsI6ctVzzWmvA4VCl9la+umutkqS EspLwOzfDceFVcfs8xL4yL24qZgq+zgk3oEnjGohJONORQEPKDIvGhtoV9rVEoSs8BHF2w== X-Google-Smtp-Source: AGHT+IGgAtR3JozSyI0U/RKQEjb4xD+u35jB7MK6/vBxMM63QCZ/Cs9kja98xaKUrw2M4Yx4dFveGWdNiABC X-Received: by 2002:a05:6e02:1486:b0:3dc:7df8:c830 with SMTP id e9e14a558f8ab-3df4ab4af1cmr147724615ab.7.1751292066799; Mon, 30 Jun 2025 07:01:06 -0700 (PDT) Received: from postal.iol.unh.edu (postal.iol.unh.edu. [132.177.123.84]) by smtp-relay.gmail.com with ESMTPS id e9e14a558f8ab-3df4a037acdsm4328815ab.27.2025.06.30.07.01.06 (version=TLS1_2 cipher=ECDHE-ECDSA-AES128-GCM-SHA256 bits=128/128); Mon, 30 Jun 2025 07:01:06 -0700 (PDT) X-Relaying-Domain: iol.unh.edu Date: Mon, 30 Jun 2025 07:01:06 -0700 (PDT) Message-ID: <686298a2.050a0220.e2e87.7142SMTPIN_ADDED_MISSING@mx.google.com> Received: from [172.21.0.5] (unknown [172.18.0.240]) by postal.iol.unh.edu (Postfix) with ESMTP id 55461604D420; Mon, 30 Jun 2025 10:01:05 -0400 (EDT) Subject: |SUCCESS| pw154842-154847 [PATCH] [v6,6/6] net/dpaa2: enable softwar From: dpdklab@iol.unh.edu To: Test Report Cc: dpdk-test-reports@iol.unh.edu In-Reply-To: <20250630095800.2943863-7-g.singh@nxp.com> References: <20250630095800.2943863-7-g.singh@nxp.com> Content-Type: text/plain X-BeenThere: test-report@dpdk.org X-Mailman-Version: 2.1.29 Precedence: list List-Id: automatic DPDK test reports List-Unsubscribe: , List-Archive: List-Post: List-Help: List-Subscribe: , Errors-To: test-report-bounces@dpdk.org Test-Label: iol-unit-amd64-testing Test-Status: SUCCESS http://dpdk.org/patch/154847 _Testing PASS_ Submitter: Gagandeep Singh Date: Monday, June 30 2025 09:58:00 DPDK git baseline: Repo:dpdk Branch: master CommitID:798e267824a5b9018fff6e0dc37e9a9f1f73e8fb 154842-154847 --> testing pass Upstream job id: Generic-VM-Unit-Test-DPDK#29589 Test environment and result as below: +-------------------------------+----------------+ | Environment | dpdk_unit_test | +===============================+================+ | CentOS Stream 9 | PASS | +-------------------------------+----------------+ | CentOS Stream 10 | PASS | +-------------------------------+----------------+ | Fedora Linux 41 | PASS | +-------------------------------+----------------+ | Red Hat Enterprise Linux 8.10 | PASS | +-------------------------------+----------------+ | Fedora Linux 40 | PASS | +-------------------------------+----------------+ | Debian GNU/Linux 12 | PASS | +-------------------------------+----------------+ | Red Hat Enterprise Linux 9.5 | PASS | +-------------------------------+----------------+ | Ubuntu 22.04 | PASS | +-------------------------------+----------------+ | Ubuntu 24.04 | PASS | +-------------------------------+----------------+ | Ubuntu 20.04 | PASS | +-------------------------------+----------------+ | Windows Server 2022 | PASS | +-------------------------------+----------------+ CentOS Stream 9 Kernel: 5.15 Compiler: gcc gcc (GCC) 11.5.0 20240719 (Red Hat 11.5.0-7) CentOS Stream 10 Kernel: 5.15 Compiler: gcc gcc (GCC) 14.2.1 20250110 (Red Hat 14.2.1-8) Fedora Linux 41 Kernel: 5.15 Compiler: gcc gcc (GCC) 14.3.1 20250523 (Red Hat 14.3.1-1) Red Hat Enterprise Linux 8.10 Kernel: 5.15 Compiler: gcc gcc (GCC) 8.5.0 20210514 (Red Hat 8.5.0-22) Fedora Linux 40 Kernel: 5.15 Compiler: gcc gcc (GCC) 14.2.1 20240912 (Red Hat 14.2.1-3) Debian GNU/Linux 12 Kernel: 5.15 Compiler: gcc gcc (Debian 12.2.0-14+deb12u1) 12.2.0 Red Hat Enterprise Linux 9.5 Kernel: 5.15 Compiler: gcc gcc (GCC) 11.5.0 20240719 (Red Hat 11.5.0-2) Ubuntu 22.04 Kernel: 5.15 Compiler: gcc gcc (Ubuntu 11.4.0-1ubuntu1~22.04) 11.4.0 Ubuntu 24.04 Kernel: 5.15 Compiler: gcc gcc (Ubuntu 13.3.0-6ubuntu2~24.04) 13.3.0 Ubuntu 20.04 Kernel: 5.15 Compiler: gcc gcc (Ubuntu 9.4.0-1ubuntu1~20.04.2) 9.4.0 Windows Server 2022 Kernel: 10.0.20348.2031 Compiler: clang 15.0.7, gcc 14.1.0 (MinGW), and MSVC VS 19.39.33521 To view detailed results, visit: https://lab.dpdk.org/results/dashboard/patchsets/33540/ UNH-IOL DPDK Community Lab To manage your email subscriptions, visit: https://lab.dpdk.org/results/dashboard/preferences/subscriptions/