From mboxrd@z Thu Jan 1 00:00:00 1970 Return-Path: Received: from mails.dpdk.org (mails.dpdk.org [217.70.189.124]) by inbox.dpdk.org (Postfix) with ESMTP id CB38646A9D for ; Mon, 30 Jun 2025 16:58:22 +0200 (CEST) Received: from mails.dpdk.org (localhost [127.0.0.1]) by mails.dpdk.org (Postfix) with ESMTP id C589B4066F; Mon, 30 Jun 2025 16:58:22 +0200 (CEST) Received: from mail-qv1-f98.google.com (mail-qv1-f98.google.com [209.85.219.98]) by mails.dpdk.org (Postfix) with ESMTP id 754DF4065B for ; Mon, 30 Jun 2025 16:58:21 +0200 (CEST) Received: by mail-qv1-f98.google.com with SMTP id 6a1803df08f44-6fac7147cb8so77584956d6.1 for ; Mon, 30 Jun 2025 07:58:21 -0700 (PDT) DKIM-Signature: v=1; a=rsa-sha256; c=relaxed/relaxed; d=iol.unh.edu; s=unh-iol; t=1751295501; x=1751900301; darn=dpdk.org; h=references:in-reply-to:cc:to:from:subject:message-id:date:from:to :cc:subject:date:message-id:reply-to; bh=HBNw61/GeIUoHyMJRTIsTYtF3tD690V/u1AL73jR29w=; b=FVCn4JNXUjjt8ayVyefTzMOmmGZ8C8NxCBMs7dvWHsWUUzl8GSYjlG+thjC3iSSXik 17V1umFW1YOtE5hFiVqin4dLAhdL1t+Hl8N5ARB4px4IjFxqFMfOrrK0yTiQfd5HRkTY gLt/t0leHzyqj1q2Nz6giXPKUqgFG9NakEFDA= X-Google-DKIM-Signature: v=1; a=rsa-sha256; c=relaxed/relaxed; d=1e100.net; s=20230601; t=1751295501; x=1751900301; h=references:in-reply-to:cc:to:from:subject:message-id:date :x-gm-message-state:from:to:cc:subject:date:message-id:reply-to; bh=HBNw61/GeIUoHyMJRTIsTYtF3tD690V/u1AL73jR29w=; b=dvYRFFVymGavDYTF5UynSv/jGMMVChg6I+7mRVOaCg2vjkqL7HrOhZt9PNu2Q6lmWL vwlLQR36GUAXr6aRHxDkYr8ZRnmZNjdKmTUxBXsauj6eqbm4Y3rKnxX9qZMFzHVJL2N/ Vmo6yJK6l2Q8FyhkZKME3YdIkmVb8gRvM6rqa3lPmpvuFFI745j8WKS/j0SzdNQKp43T 6Ps1MYuORuqJAuVPfy7IQoPsCKJtYsSxaW+FF3acdio8PwluKAuWnlQ8fFshP+wIuNyj 2OgBK59RGnDn4jsojiVDx7wBd3qaMCAui4MIiDad4QFUn2PqZmM7kWaBQn0RjFxM6Irl ikfQ== X-Gm-Message-State: AOJu0YyH68DrpdlQr+r43yCfRsi6o/Qs4b9VJOYTjkhySfGWXpV2IKOa nAj6mynxEKEluBSuP9mfyQdOC9jWG2LEtbUWAAYbqjpcUinjH4skF6TzDUuwvBmU8+82mOBCLUK Sl/2huEQodVJzIs7+lOLZCsKP+EDCaNJoed1VJTNKZ89aSMeRf2Us9NoNVr7m X-Gm-Gg: ASbGncuJ7liS7rQolIYjDM1+Liwc/zyjK1XAHbfwJRpARZoXxuxBAh8GJdHArNGDQTo Y4uZvHhSgw7wjfRuwszSv6/UnBngOP2UmF9Gf4ToHiDj9bGt3tbkSp2i9MC27T9Z2wYI+4k+lZG 0bXI2RXILTShDKBI8Vq4nmRwOvz8i2GaM38wiI9uQNJAoZ6qsGkSnvS7RUSq2VS9bK6Xk552w84 /cpKsRtG8NEgjn3GorHanTFoFFqPm2vxHXkdR5mLNUYkK5/nNnftMQil37xD+i+KQJz2iBiB2z9 gZ+7+5KXR7DmZcEIlOz6InFkJWjkb31SC+HaF2GvNmgPrNw= X-Google-Smtp-Source: AGHT+IEmNAYUtjfkI7DATyTXAjrcnlsQu33yBsdl+Jp0bNxFbFimO+IoJ+1kyTFP+Hm5EsKA+Xo9//qOpMf9 X-Received: by 2002:ad4:5c87:0:b0:6fd:3a4d:363a with SMTP id 6a1803df08f44-70002248052mr241499016d6.25.1751295500837; Mon, 30 Jun 2025 07:58:20 -0700 (PDT) Received: from postal.iol.unh.edu (postal.iol.unh.edu. [2606:4100:3880:1234::84]) by smtp-relay.gmail.com with ESMTPS id 6a1803df08f44-6fd7727fef0sm5209676d6.43.2025.06.30.07.58.20 (version=TLS1_2 cipher=ECDHE-ECDSA-AES128-GCM-SHA256 bits=128/128); Mon, 30 Jun 2025 07:58:20 -0700 (PDT) X-Relaying-Domain: iol.unh.edu Date: Mon, 30 Jun 2025 07:58:20 -0700 (PDT) Message-ID: <6862a60c.050a0220.175090.b81eSMTPIN_ADDED_MISSING@mx.google.com> Received: from [172.21.0.5] (unknown [172.18.0.240]) by postal.iol.unh.edu (Postfix) with ESMTP id 7E9B6604D420; Mon, 30 Jun 2025 10:58:20 -0400 (EDT) Subject: |SUCCESS| pw154841 [PATCH] [v2] net/af_xdp: add rx/tx queue support From: dpdklab@iol.unh.edu To: Test Report Cc: dpdk-test-reports@iol.unh.edu In-Reply-To: <20250630085052.585867-1-shivajikant@google.com> References: <20250630085052.585867-1-shivajikant@google.com> Content-Type: text/plain X-BeenThere: test-report@dpdk.org X-Mailman-Version: 2.1.29 Precedence: list List-Id: automatic DPDK test reports List-Unsubscribe: , List-Archive: List-Post: List-Help: List-Subscribe: , Errors-To: test-report-bounces@dpdk.org Test-Label: iol-compile-arm64-testing Test-Status: SUCCESS http://dpdk.org/patch/154841 _Testing PASS_ Submitter: Shivaji Kant Date: Monday, June 30 2025 08:50:52 DPDK git baseline: Repo:dpdk Branch: master CommitID:798e267824a5b9018fff6e0dc37e9a9f1f73e8fb 154841 --> testing pass Upstream job id: Generic-DPDK-Compile-Meson#403645 Test environment and result as below: +------------------------------+--------------------+ | Environment | dpdk_meson_compile | +==============================+====================+ | Red Hat Enterprise Linux 9.5 | PASS | +------------------------------+--------------------+ | Ubuntu 20.04 | PASS | +------------------------------+--------------------+ | Debian GNU/Linux 12 | PASS | +------------------------------+--------------------+ | Fedora Linux 41 | PASS | +------------------------------+--------------------+ | Fedora Linux 40 | PASS | +------------------------------+--------------------+ | Ubuntu 22.04 | PASS | +------------------------------+--------------------+ | Ubuntu 24.04 | PASS | +------------------------------+--------------------+ | CentOS Stream 9 | PASS | +------------------------------+--------------------+ | CentOS Stream 10 | PASS | +------------------------------+--------------------+ Red Hat Enterprise Linux 9.5 Kernel: 5.4 Compiler: gcc gcc (GCC) 11.5.0 20240719 (Red Hat 11.5.0-2) Ubuntu 20.04 Kernel: 5.15 Compiler: aarch64-linux-gnu-gcc gcc (Ubuntu 9.4.0-1ubuntu1~20.04.2) 9.4.0 Debian GNU/Linux 12 Kernel: 5.4 Compiler: gcc gcc (Debian 12.2.0-14+deb12u1) 12.2.0 Fedora Linux 41 Kernel: 5.4 Compiler: gcc gcc (GCC) 14.3.1 20250523 (Red Hat 14.3.1-1) Fedora Linux 40 Kernel: 5.4 Compiler: gcc gcc (GCC) 14.2.1 20240912 (Red Hat 14.2.1-3) Ubuntu 22.04 Kernel: 5.4 Compiler: gcc gcc (Ubuntu 11.4.0-1ubuntu1~22.04) 11.4.0 Ubuntu 24.04 Kernel: 5.4 Compiler: gcc gcc (Ubuntu 13.3.0-6ubuntu2~24.04) 13.3.0 CentOS Stream 9 Kernel: 5.4 Compiler: gcc gcc (GCC) 11.5.0 20240719 (Red Hat 11.5.0-7) CentOS Stream 10 Kernel: 5.4 Compiler: gcc gcc (GCC) 14.2.1 20250110 (Red Hat 14.2.1-8) To view detailed results, visit: https://lab.dpdk.org/results/dashboard/patchsets/33539/ UNH-IOL DPDK Community Lab To manage your email subscriptions, visit: https://lab.dpdk.org/results/dashboard/preferences/subscriptions/