From mboxrd@z Thu Jan 1 00:00:00 1970 Return-Path: Received: from mails.dpdk.org (mails.dpdk.org [217.70.189.124]) by inbox.dpdk.org (Postfix) with ESMTP id BFB3146A9D for ; Mon, 30 Jun 2025 17:17:26 +0200 (CEST) Received: from mails.dpdk.org (localhost [127.0.0.1]) by mails.dpdk.org (Postfix) with ESMTP id BB3EA40291; Mon, 30 Jun 2025 17:17:26 +0200 (CEST) Received: from mail-pl1-f226.google.com (mail-pl1-f226.google.com [209.85.214.226]) by mails.dpdk.org (Postfix) with ESMTP id 9DE0C40291 for ; Mon, 30 Jun 2025 17:17:25 +0200 (CEST) Received: by mail-pl1-f226.google.com with SMTP id d9443c01a7336-2350b1b9129so12781445ad.0 for ; Mon, 30 Jun 2025 08:17:25 -0700 (PDT) DKIM-Signature: v=1; a=rsa-sha256; c=relaxed/relaxed; d=iol.unh.edu; s=unh-iol; t=1751296645; x=1751901445; darn=dpdk.org; h=references:in-reply-to:cc:to:from:subject:message-id:date:from:to :cc:subject:date:message-id:reply-to; bh=O60X6MU8rYY4JG615hVeIF1QFaI3lhgyXxBrXuM8eYA=; b=Pml5srnMklzhA1vaLAxtQ3A6+d9c2fVHCkoBKbLZWYPfEom/SkkrUtjj6xmYQMrheO lxAUt2xzN+P0J89p5PAInIXeQPwkHEzbq6za0VUwsJEBzntSLU2+1ypgaPg6a6EpibGQ wp4LoO6NJt9I28xL8xv+PhYWUaJTGP0hljZLU= X-Google-DKIM-Signature: v=1; a=rsa-sha256; c=relaxed/relaxed; d=1e100.net; s=20230601; t=1751296645; x=1751901445; h=references:in-reply-to:cc:to:from:subject:message-id:date :x-gm-message-state:from:to:cc:subject:date:message-id:reply-to; bh=O60X6MU8rYY4JG615hVeIF1QFaI3lhgyXxBrXuM8eYA=; b=oS5s/l/Kzemnbu038Wba1wPkHx2k+PB+XDKvlBec1KBceILlF7A01hPxq4/pyyuyJw ORoi7tyYBevGoz19dNmoAKYzw7t1HUnG2YAqS4Ui6ST/g+jhICPg0PMyfkB1WgxyyvyX Lm++lgIIXZUzkvtuJPK9555pdoTeKPNRS6tu2LzK50q11Of1OQrAXUwI8mxCqzAAZtZa 28boEnAGPUNNblOSD88Tg5DbHyZHcYht9Fd/oJcbaKfRHXH5z0om77TNF4NbMb/hCjsL luprsBj8hFXGwrN/G9a6zcn7VYUkNItEh3WuDwU731UT6kqh8ZHuDKpi/ZV/HsmjUpvt cLfQ== X-Gm-Message-State: AOJu0YxYbjMOV/EOJ9tg9YFEn5QwxVM7AzmC+yL4xm85rGaBPwTTiIKp DEQ7jKmWWqw/CIGwRLzjugnvoly3S5hrgU6ghAuzhxlbzoumYiy3CUs0M6X/au7toyFytRteoO7 TV7T917WYuONRfdDlt5I0hcBdTNGUCe74ZTFz6jYn8Umj X-Gm-Gg: ASbGncvMvSaKrKTj9AsBbYK5wW6e6HC8unyKgJnimqNfhKssCC0HveFbbiKwDsvlYLA Fu/9m9mG9nDzenJZjhC3Rtde72Il7oRkePEX8PRmJRE13CIn8vcttmFQiJP96zVckxAmoHmT6HK vW7xm5H0hySX6aaf+h3lLaJ/SeynXAdJQ1wTeyQg1UlSqCaXDANk/HcAhWHuNDqfI00VIlMx7fK LDMPN8XHcxuFpJVwqSrxwAxJYmpBNFUt0+THBm57Q3tBUfb+KciuPY4WQZFK/QSCkCOET4fO+Yg GqFbjKjC8Zd8BSzySQIZlpoEmNOCqN8rXNxcZGbJp+m0hlSExkxs4T+bF0UlMMupgokisA== X-Google-Smtp-Source: AGHT+IHySRZ1qu1GwS4LkJ1+93y7W2/CtXArjKT9e7eWKCeX1JsMjYpqqejCPdZD/hQPAZyGIco0KvgEV+mF X-Received: by 2002:a17:903:3bc6:b0:237:de7e:5bbc with SMTP id d9443c01a7336-23ac4665e18mr212953455ad.49.1751296644665; Mon, 30 Jun 2025 08:17:24 -0700 (PDT) Received: from postal.iol.unh.edu (postal.iol.unh.edu. [132.177.123.84]) by smtp-relay.gmail.com with ESMTPS id d9443c01a7336-23acb2f31desm4275295ad.51.2025.06.30.08.17.24 (version=TLS1_2 cipher=ECDHE-ECDSA-AES128-GCM-SHA256 bits=128/128); Mon, 30 Jun 2025 08:17:24 -0700 (PDT) X-Relaying-Domain: iol.unh.edu Date: Mon, 30 Jun 2025 08:17:24 -0700 (PDT) Message-ID: <6862aa84.170a0220.f29e9.81e8SMTPIN_ADDED_MISSING@mx.google.com> Received: from [172.21.0.9] (unknown [172.18.0.240]) by postal.iol.unh.edu (Postfix) with ESMTP id 26681604D420; Mon, 30 Jun 2025 11:17:24 -0400 (EDT) Subject: |WARNING| pw154842-154847 [PATCH] [v6,6/6] net/dpaa2: enable softwar From: dpdklab@iol.unh.edu To: Test Report Cc: dpdk-test-reports@iol.unh.edu In-Reply-To: <20250630095800.2943863-7-g.singh@nxp.com> References: <20250630095800.2943863-7-g.singh@nxp.com> Content-Type: text/plain X-BeenThere: test-report@dpdk.org X-Mailman-Version: 2.1.29 Precedence: list List-Id: automatic DPDK test reports List-Unsubscribe: , List-Archive: List-Post: List-Help: List-Subscribe: , Errors-To: test-report-bounces@dpdk.org Test-Label: iol-compile-amd64-testing Test-Status: WARNING http://dpdk.org/patch/154847 _Testing issues_ Submitter: Gagandeep Singh Date: Monday, June 30 2025 09:58:00 DPDK git baseline: Repo:dpdk Branch: master CommitID:798e267824a5b9018fff6e0dc37e9a9f1f73e8fb 154842-154847 --> testing issues Upstream job id: Generic-DPDK-Compile-Meson#403696 Test environment and result as below: +-------------------------------+--------------------+-------------------+------------------+-------------------------+-------------------+----------------------+ | Environment | dpdk_meson_compile | dpdk_compile_spdk | dpdk_compile_ovs | dpdk_llvm_clang_compile | dpdk_msvc_compile | dpdk_mingw64_compile | +===============================+====================+===================+==================+=========================+===================+======================+ | CentOS Stream 9 | PASS | PASS | SKIPPED | SKIPPED | SKIPPED | SKIPPED | +-------------------------------+--------------------+-------------------+------------------+-------------------------+-------------------+----------------------+ | CentOS Stream 10 | PASS | SKIPPED | SKIPPED | SKIPPED | SKIPPED | SKIPPED | +-------------------------------+--------------------+-------------------+------------------+-------------------------+-------------------+----------------------+ | Debian GNU/Linux 12 | PASS | PASS | SKIPPED | SKIPPED | SKIPPED | SKIPPED | +-------------------------------+--------------------+-------------------+------------------+-------------------------+-------------------+----------------------+ | Fedora Linux 40 | PASS | PASS | SKIPPED | SKIPPED | SKIPPED | SKIPPED | +-------------------------------+--------------------+-------------------+------------------+-------------------------+-------------------+----------------------+ | Fedora Linux 41 | PASS | PASS | PASS | SKIPPED | SKIPPED | SKIPPED | +-------------------------------+--------------------+-------------------+------------------+-------------------------+-------------------+----------------------+ | openSUSE Leap 15.6 | PASS | SKIPPED | SKIPPED | SKIPPED | SKIPPED | SKIPPED | +-------------------------------+--------------------+-------------------+------------------+-------------------------+-------------------+----------------------+ | Red Hat Enterprise Linux 8.10 | PASS | SKIPPED | SKIPPED | SKIPPED | SKIPPED | SKIPPED | +-------------------------------+--------------------+-------------------+------------------+-------------------------+-------------------+----------------------+ | Red Hat Enterprise Linux 9.5 | PASS | SKIPPED | SKIPPED | SKIPPED | SKIPPED | SKIPPED | +-------------------------------+--------------------+-------------------+------------------+-------------------------+-------------------+----------------------+ | Ubuntu 20.04 | PASS | SKIPPED | SKIPPED | SKIPPED | SKIPPED | SKIPPED | +-------------------------------+--------------------+-------------------+------------------+-------------------------+-------------------+----------------------+ | Ubuntu 22.04 | PASS | PASS | SKIPPED | SKIPPED | SKIPPED | SKIPPED | +-------------------------------+--------------------+-------------------+------------------+-------------------------+-------------------+----------------------+ | FreeBSD 14.2 | PASS | SKIPPED | SKIPPED | SKIPPED | SKIPPED | SKIPPED | +-------------------------------+--------------------+-------------------+------------------+-------------------------+-------------------+----------------------+ | Ubuntu 24.04 | PASS | PASS | PASS | SKIPPED | SKIPPED | SKIPPED | +-------------------------------+--------------------+-------------------+------------------+-------------------------+-------------------+----------------------+ | Alpine Linux 3.22.0 | PASS | SKIPPED | SKIPPED | SKIPPED | SKIPPED | SKIPPED | +-------------------------------+--------------------+-------------------+------------------+-------------------------+-------------------+----------------------+ | Windows Server 2022 | SKIPPED | SKIPPED | SKIPPED | PASS | PASS | PASS | +-------------------------------+--------------------+-------------------+------------------+-------------------------+-------------------+----------------------+ CentOS Stream 9 Kernel: 5.15 Compiler: gcc gcc (GCC) 11.5.0 20240719 (Red Hat 11.5.0-7) CentOS Stream 10 Kernel: 5.15 Compiler: gcc gcc (GCC) 14.2.1 20250110 (Red Hat 14.2.1-8) Debian GNU/Linux 12 Kernel: 5.15 Compiler: gcc gcc (Debian 12.2.0-14+deb12u1) 12.2.0 Fedora Linux 40 Kernel: 5.15 Compiler: clang gcc (GCC) 14.2.1 20240912 (Red Hat 14.2.1-3) Fedora Linux 41 Kernel: 5.15 Compiler: clang gcc (GCC) 14.3.1 20250523 (Red Hat 14.3.1-1) openSUSE Leap 15.6 Kernel: 5.15 Compiler: gcc gcc (SUSE Linux) 7.5.0 Red Hat Enterprise Linux 8.10 Kernel: 5.15 Compiler: gcc gcc (GCC) 8.5.0 20210514 (Red Hat 8.5.0-22) Red Hat Enterprise Linux 9.5 Kernel: 5.15 Compiler: gcc gcc (GCC) 11.5.0 20240719 (Red Hat 11.5.0-2) Ubuntu 20.04 Kernel: 4.19 Compiler: gcc gcc (Ubuntu 9.4.0-1ubuntu1~20.04.2) 9.4.0 Ubuntu 22.04 Kernel: 5.15 Compiler: gcc gcc (Ubuntu 11.4.0-1ubuntu1~22.04) 11.4.0 FreeBSD 14.2 Kernel: 14.2-RELEASE Compiler: clang 18.1.6 Ubuntu 24.04 Kernel: 5.15 Compiler: gcc gcc (Ubuntu 13.3.0-6ubuntu2~24.04) 13.3.0 Alpine Linux 3.22.0 Kernel: 5.15 Compiler: gcc gcc (Alpine 14.2.0) 14.2.0 Windows Server 2022 Kernel: 10.0.20348.2031 Compiler: clang 15.0.7, gcc 14.1.0 (MinGW), and MSVC VS 19.39.33521 To view detailed results, visit: https://lab.dpdk.org/results/dashboard/patchsets/33540/ UNH-IOL DPDK Community Lab To manage your email subscriptions, visit: https://lab.dpdk.org/results/dashboard/preferences/subscriptions/