From mboxrd@z Thu Jan 1 00:00:00 1970 Return-Path: Received: from mails.dpdk.org (mails.dpdk.org [217.70.189.124]) by inbox.dpdk.org (Postfix) with ESMTP id CB3B946A9D for ; Mon, 30 Jun 2025 17:17:34 +0200 (CEST) Received: from mails.dpdk.org (localhost [127.0.0.1]) by mails.dpdk.org (Postfix) with ESMTP id C714140291; Mon, 30 Jun 2025 17:17:34 +0200 (CEST) Received: from mail-pf1-f228.google.com (mail-pf1-f228.google.com [209.85.210.228]) by mails.dpdk.org (Postfix) with ESMTP id D957540291 for ; Mon, 30 Jun 2025 17:17:33 +0200 (CEST) Received: by mail-pf1-f228.google.com with SMTP id d2e1a72fcca58-74ad4533ac5so4749385b3a.0 for ; Mon, 30 Jun 2025 08:17:33 -0700 (PDT) DKIM-Signature: v=1; a=rsa-sha256; c=relaxed/relaxed; d=iol.unh.edu; s=unh-iol; t=1751296653; x=1751901453; darn=dpdk.org; h=references:in-reply-to:cc:to:from:subject:message-id:date:from:to :cc:subject:date:message-id:reply-to; bh=Xa3zrS9omZ0XaiROAdtT2HYX+rmkniBJ8Hsi4pm543Q=; b=YLBb+NvCHYwNCAzcQQucQ9WnW5h43t/MPULEfjDYUk/vnRrguZ9NiG3PR8JkQzuUUn DTebxuj/Dsrjo4Z/x1rVMq773MOgMSb4VX7g/ETAyhOgwKe2U2+InYNLMglETogzLLdc 6wZmVET+SKrdugy7OvckpklWg92Qif9pMXeT8= X-Google-DKIM-Signature: v=1; a=rsa-sha256; c=relaxed/relaxed; d=1e100.net; s=20230601; t=1751296653; x=1751901453; h=references:in-reply-to:cc:to:from:subject:message-id:date :x-gm-message-state:from:to:cc:subject:date:message-id:reply-to; bh=Xa3zrS9omZ0XaiROAdtT2HYX+rmkniBJ8Hsi4pm543Q=; b=iUkkl5R0BXAKOHJPwrckSFFPL+lkAXX5pIsg7/+Kuo4Pc/MPjP43pmTvKcugCbfCJ4 1qnzW5BxY/AtKwvMX3WpPRCNhVs9IEP5CjIeLmLADTssNF25lTVWhQs8fXAdBIF87tYX VZk0mZt220yy3PP1EGSwNLyvFvGz71m03swSLiEzDcoo7RONq1YmiP7pJqW1wjN3cwAG QH8NnzRp9MD8r2xeqTt2D+GtogcPbw6OrHjK0M5k12jFASqKBfMs+me3No6DdD8AhQJ8 FZCyTwUBvSXZZcd9FseDDkupHf4PxZainfHaKpUDG4iTSuAWmIq19XEMb5RfBFei66TZ Gy6g== X-Gm-Message-State: AOJu0Yyv8z23NFYf08Jg7GD5E69QzJ4yiqQ9ksD4Y2begOJbHSuefoy7 o4SPKP3ST1N1X6rh//gP0Z3Jsze/zdqy/RrBBuOpvkO5ez0ci2HwUm4H+7cFGgn56MOsr4IF96e w4Z2lIOoafk2So07dAsJ5CvHTAe5q9L648ASyckFOxOtN X-Gm-Gg: ASbGncvfHAg4pV5cFVTmUYG7LbuPlnALuI7Avhexh60mVR6ZbrR0VWDHGFPWJEu33tv ngVNPA9xynVIkgD6sa/AA7+EpgnfntNPm8xPcxhUboUlpnUxquyChvf8szmGBbxmZwrV5nfjmMa xnWRoo0Trn/zsq1sq+6os2fZkK5+BLql+p5D5GUvaZpQkN9lfFET3WUXT99UzPG1CGXBO1VaMgu 1DTX6In8FG4vQlivjWi+/mWJmFA4n8idSx/OeegLTAmaas1LBe+3EzPxbJoiyKQT8C5mQYuk/m+ g/32e6TIZrhXJ6hMZ3jlUW7b5OSveEEVPgr1nyyBBuydGczOl/YiHnhB09L3HugXIhRoyw== X-Google-Smtp-Source: AGHT+IEWP+ksQqNsI2/2Ju0PAKJ0AU7QhXpA3ijGywyhhT/+yTtb+m0uAPPKw0Fn86hMAGBaanwjBe6XpD+u X-Received: by 2002:a05:6a20:72a5:b0:220:98bc:e0ce with SMTP id adf61e73a8af0-220a0893136mr21481035637.1.1751296652823; Mon, 30 Jun 2025 08:17:32 -0700 (PDT) Received: from postal.iol.unh.edu (postal.iol.unh.edu. [132.177.123.84]) by smtp-relay.gmail.com with ESMTPS id 41be03b00d2f7-b34e302b7bbsm368727a12.9.2025.06.30.08.17.32 (version=TLS1_2 cipher=ECDHE-ECDSA-AES128-GCM-SHA256 bits=128/128); Mon, 30 Jun 2025 08:17:32 -0700 (PDT) X-Relaying-Domain: iol.unh.edu Date: Mon, 30 Jun 2025 08:17:32 -0700 (PDT) Message-ID: <6862aa8c.630a0220.3132df.4765SMTPIN_ADDED_MISSING@mx.google.com> Received: from [172.21.0.5] (unknown [172.18.0.240]) by postal.iol.unh.edu (Postfix) with ESMTP id 14232604D420; Mon, 30 Jun 2025 11:17:32 -0400 (EDT) Subject: |WARNING| pw154842-154847 [PATCH] [v6,6/6] net/dpaa2: enable softwar From: dpdklab@iol.unh.edu To: Test Report Cc: dpdk-test-reports@iol.unh.edu In-Reply-To: <20250630095800.2943863-7-g.singh@nxp.com> References: <20250630095800.2943863-7-g.singh@nxp.com> Content-Type: text/plain X-BeenThere: test-report@dpdk.org X-Mailman-Version: 2.1.29 Precedence: list List-Id: automatic DPDK test reports List-Unsubscribe: , List-Archive: List-Post: List-Help: List-Subscribe: , Errors-To: test-report-bounces@dpdk.org Test-Label: iol-compile-amd64-testing Test-Status: WARNING http://dpdk.org/patch/154847 _Testing issues_ Submitter: Gagandeep Singh Date: Monday, June 30 2025 09:58:00 DPDK git baseline: Repo:dpdk Branch: master CommitID:798e267824a5b9018fff6e0dc37e9a9f1f73e8fb 154842-154847 --> testing issues Upstream job id: Generic-DPDK-Compile-Meson#403690 Test environment and result as below: +-------------------------------+--------------------+-------------------+------------------+-------------------------+-------------------+----------------------+ | Environment | dpdk_meson_compile | dpdk_compile_spdk | dpdk_compile_ovs | dpdk_llvm_clang_compile | dpdk_msvc_compile | dpdk_mingw64_compile | +===============================+====================+===================+==================+=========================+===================+======================+ | CentOS Stream 9 | PASS | PASS | SKIPPED | SKIPPED | SKIPPED | SKIPPED | +-------------------------------+--------------------+-------------------+------------------+-------------------------+-------------------+----------------------+ | CentOS Stream 10 | PASS | SKIPPED | SKIPPED | SKIPPED | SKIPPED | SKIPPED | +-------------------------------+--------------------+-------------------+------------------+-------------------------+-------------------+----------------------+ | Debian GNU/Linux 12 | PASS | PASS | SKIPPED | SKIPPED | SKIPPED | SKIPPED | +-------------------------------+--------------------+-------------------+------------------+-------------------------+-------------------+----------------------+ | Fedora Linux 40 | PASS | PASS | SKIPPED | SKIPPED | SKIPPED | SKIPPED | +-------------------------------+--------------------+-------------------+------------------+-------------------------+-------------------+----------------------+ | Fedora Linux 41 | PASS | PASS | PASS | SKIPPED | SKIPPED | SKIPPED | +-------------------------------+--------------------+-------------------+------------------+-------------------------+-------------------+----------------------+ | openSUSE Leap 15.6 | PASS | SKIPPED | SKIPPED | SKIPPED | SKIPPED | SKIPPED | +-------------------------------+--------------------+-------------------+------------------+-------------------------+-------------------+----------------------+ | Red Hat Enterprise Linux 8.10 | PASS | SKIPPED | SKIPPED | SKIPPED | SKIPPED | SKIPPED | +-------------------------------+--------------------+-------------------+------------------+-------------------------+-------------------+----------------------+ | Red Hat Enterprise Linux 9.5 | PASS | SKIPPED | SKIPPED | SKIPPED | SKIPPED | SKIPPED | +-------------------------------+--------------------+-------------------+------------------+-------------------------+-------------------+----------------------+ | Ubuntu 20.04 | PASS | SKIPPED | SKIPPED | SKIPPED | SKIPPED | SKIPPED | +-------------------------------+--------------------+-------------------+------------------+-------------------------+-------------------+----------------------+ | Ubuntu 22.04 | PASS | PASS | SKIPPED | SKIPPED | SKIPPED | SKIPPED | +-------------------------------+--------------------+-------------------+------------------+-------------------------+-------------------+----------------------+ | FreeBSD 14.2 | PASS | SKIPPED | SKIPPED | SKIPPED | SKIPPED | SKIPPED | +-------------------------------+--------------------+-------------------+------------------+-------------------------+-------------------+----------------------+ | Ubuntu 24.04 | PASS | PASS | PASS | SKIPPED | SKIPPED | SKIPPED | +-------------------------------+--------------------+-------------------+------------------+-------------------------+-------------------+----------------------+ | Alpine Linux 3.22.0 | PASS | SKIPPED | SKIPPED | SKIPPED | SKIPPED | SKIPPED | +-------------------------------+--------------------+-------------------+------------------+-------------------------+-------------------+----------------------+ | Windows Server 2022 | SKIPPED | SKIPPED | SKIPPED | PASS | PASS | PASS | +-------------------------------+--------------------+-------------------+------------------+-------------------------+-------------------+----------------------+ CentOS Stream 9 Kernel: 5.15 Compiler: gcc gcc (GCC) 11.5.0 20240719 (Red Hat 11.5.0-7) CentOS Stream 10 Kernel: 5.15 Compiler: gcc gcc (GCC) 14.2.1 20250110 (Red Hat 14.2.1-8) Debian GNU/Linux 12 Kernel: 5.15 Compiler: gcc gcc (Debian 12.2.0-14+deb12u1) 12.2.0 Fedora Linux 40 Kernel: 5.15 Compiler: clang gcc (GCC) 14.2.1 20240912 (Red Hat 14.2.1-3) Fedora Linux 41 Kernel: 5.15 Compiler: clang gcc (GCC) 14.3.1 20250523 (Red Hat 14.3.1-1) openSUSE Leap 15.6 Kernel: 5.15 Compiler: gcc gcc (SUSE Linux) 7.5.0 Red Hat Enterprise Linux 8.10 Kernel: 5.15 Compiler: gcc gcc (GCC) 8.5.0 20210514 (Red Hat 8.5.0-22) Red Hat Enterprise Linux 9.5 Kernel: 5.15 Compiler: gcc gcc (GCC) 11.5.0 20240719 (Red Hat 11.5.0-2) Ubuntu 20.04 Kernel: 4.19 Compiler: gcc gcc (Ubuntu 9.4.0-1ubuntu1~20.04.2) 9.4.0 Ubuntu 22.04 Kernel: 5.15 Compiler: gcc gcc (Ubuntu 11.4.0-1ubuntu1~22.04) 11.4.0 FreeBSD 14.2 Kernel: 14.2-RELEASE Compiler: clang 18.1.6 Ubuntu 24.04 Kernel: 5.15 Compiler: gcc gcc (Ubuntu 13.3.0-6ubuntu2~24.04) 13.3.0 Alpine Linux 3.22.0 Kernel: 5.15 Compiler: gcc gcc (Alpine 14.2.0) 14.2.0 Windows Server 2022 Kernel: 10.0.20348.2031 Compiler: clang 15.0.7, gcc 14.1.0 (MinGW), and MSVC VS 19.39.33521 To view detailed results, visit: https://lab.dpdk.org/results/dashboard/patchsets/33540/ UNH-IOL DPDK Community Lab To manage your email subscriptions, visit: https://lab.dpdk.org/results/dashboard/preferences/subscriptions/