From mboxrd@z Thu Jan 1 00:00:00 1970 Return-Path: Received: from mails.dpdk.org (mails.dpdk.org [217.70.189.124]) by inbox.dpdk.org (Postfix) with ESMTP id D8D5E46A9D for ; Mon, 30 Jun 2025 17:17:50 +0200 (CEST) Received: from mails.dpdk.org (localhost [127.0.0.1]) by mails.dpdk.org (Postfix) with ESMTP id D3EEB40291; Mon, 30 Jun 2025 17:17:50 +0200 (CEST) Received: from mail-qv1-f100.google.com (mail-qv1-f100.google.com [209.85.219.100]) by mails.dpdk.org (Postfix) with ESMTP id DD55240291 for ; Mon, 30 Jun 2025 17:17:49 +0200 (CEST) Received: by mail-qv1-f100.google.com with SMTP id 6a1803df08f44-6face367320so25890926d6.3 for ; Mon, 30 Jun 2025 08:17:49 -0700 (PDT) DKIM-Signature: v=1; a=rsa-sha256; c=relaxed/relaxed; d=iol.unh.edu; s=unh-iol; t=1751296669; x=1751901469; darn=dpdk.org; h=references:in-reply-to:cc:to:from:subject:message-id:date:from:to :cc:subject:date:message-id:reply-to; bh=An2mkap3yP6Dhsq4dvYvI6ZVGON5B7hppq0GnilH9ZI=; b=bpEwOakTPtS3J1On3G5xnKnHtVV4RNrk9xwabfRwYaMNMb01YPl0i2ETZvFJNSgp74 dt52VSNXKGlmfV/rK3MnzwxEUw2ckfORgLl0zBH7IAPCJu4/9yclLjnDYU3XpItZql16 zn0SYx7s1+m3GrqDNko7tbbRC1bqVr7D79itw= X-Google-DKIM-Signature: v=1; a=rsa-sha256; c=relaxed/relaxed; d=1e100.net; s=20230601; t=1751296669; x=1751901469; h=references:in-reply-to:cc:to:from:subject:message-id:date :x-gm-message-state:from:to:cc:subject:date:message-id:reply-to; bh=An2mkap3yP6Dhsq4dvYvI6ZVGON5B7hppq0GnilH9ZI=; b=E2MsbeYML68STw+xE/zGM9cWZneGyXl8VsqUpEy6x3EhHlaNAsxeU03mtywRrgafsH POJdoZ5iDwz/fFJ7deKSJYSKm09WNgCME4ktZQDRCCtKc4dGn2+U9i4Mgs116e+RsFNK ctHEdjcj6rjOzuxfg62GVFlsGs8DAIV/6RxA9y2c7Hhsb8HBZoKzK2tn+K4+1ils3Dci 0AEN10v+D+dGZARjS/KFdsb7qrDc+4mg3dEqEjhwCuWbRIezD+8Ke8nXmy6/Nf1mlFoR cv5P8HkWKesoU7nJLpUSoWAcszbzkiljYN/YLkBKa+Rn4VeavWnUTiIvqxf0wQP1eN3+ ahCw== X-Gm-Message-State: AOJu0YyoEVCJORTODvSGzn04p0nsmvlVUvDB1M5wwlqoFDGlEYea3zgv EB1STa4zUU44VYU4wa7B2NY8W6ToevKtDyzxxBOFtWVPqmvpmBkC3XQzv1GmCAeXO2lQznJx4FT ZvrHBIhg1AcsrYfI1ktB499faTV80II5JTJAPqVQRP98b X-Gm-Gg: ASbGncujem1t8fxAMZCLCRkzAMik+LnHV2SXdW9kAxpTIgpJc4tx9X3kgmYQXsnrSJ4 NEYeVrZJ6jmd3Z1vkhVIfc84DM5K0H9n/ocuk21iFr4X0lIr3AB0Le4nqJMM5Z5o1CekI7ubzNj GrMRROI7AuOWpDGOCK0OaM7aUHlpqS/NfEevuM1Bd/YXpeMcVxjDjqPt4BGDosC9QxXC7b/b53i O9W+3lb8WHCtQXwZB+3HXaN9AY1NZLSbCpkSvduzY58DvlQGmWpVXQL1xFAxcwrzxBzO66GTkuV USkcbSqRMNmRThkyKZd3Rv7vGHDzxrb90Y+oI4eg0bG0eiS/JZl8Ha8metgwc+i7PvfAUg== X-Google-Smtp-Source: AGHT+IGFs99yFtZnIiNsXcVCoLSES8yNPUGcKK68a/PVzUWc59SVPomDnIL7BT8TJUOFg088DOumgNJoz6ZI X-Received: by 2002:a05:6214:1948:b0:6fe:8c28:f3af with SMTP id 6a1803df08f44-700131c4c3bmr203688816d6.40.1751296669006; Mon, 30 Jun 2025 08:17:49 -0700 (PDT) Received: from postal.iol.unh.edu (postal.iol.unh.edu. [132.177.123.84]) by smtp-relay.gmail.com with ESMTPS id 6a1803df08f44-6ff1548717fsm4956126d6.63.2025.06.30.08.17.48 (version=TLS1_2 cipher=ECDHE-ECDSA-AES128-GCM-SHA256 bits=128/128); Mon, 30 Jun 2025 08:17:48 -0700 (PDT) X-Relaying-Domain: iol.unh.edu Date: Mon, 30 Jun 2025 08:17:48 -0700 (PDT) Message-ID: <6862aa9c.050a0220.3a3e32.ada7SMTPIN_ADDED_MISSING@mx.google.com> Received: from [172.21.0.5] (unknown [172.18.0.240]) by postal.iol.unh.edu (Postfix) with ESMTP id B845760003F7; Mon, 30 Jun 2025 11:17:48 -0400 (EDT) Subject: |SUCCESS| pw154849 [PATCH] node: fix C++ compatibility errors (optio From: dpdklab@iol.unh.edu To: Test Report Cc: dpdk-test-reports@iol.unh.edu In-Reply-To: <20250630105025.2265901-1-bruce.richardson@intel.com> References: <20250630105025.2265901-1-bruce.richardson@intel.com> Content-Type: text/plain X-BeenThere: test-report@dpdk.org X-Mailman-Version: 2.1.29 Precedence: list List-Id: automatic DPDK test reports List-Unsubscribe: , List-Archive: List-Post: List-Help: List-Subscribe: , Errors-To: test-report-bounces@dpdk.org Test-Label: iol-unit-arm64-testing Test-Status: SUCCESS http://dpdk.org/patch/154849 _Testing PASS_ Submitter: Bruce Richardson Date: Monday, June 30 2025 10:50:14 DPDK git baseline: Repo:dpdk Branch: master CommitID:20460dcffd08a4680f881c39916ae783ee830374 154849 --> testing pass Upstream job id: Generic-Unit-Test-DPDK#351060 Test environment and result as below: +------------------------------+----------------+ | Environment | dpdk_unit_test | +==============================+================+ | CentOS Stream 9 | PASS | +------------------------------+----------------+ | Debian GNU/Linux 12 | PASS | +------------------------------+----------------+ | CentOS Stream 10 | PASS | +------------------------------+----------------+ | Fedora Linux 40 | PASS | +------------------------------+----------------+ | Fedora Linux 41 | PASS | +------------------------------+----------------+ | Red Hat Enterprise Linux 9.5 | PASS | +------------------------------+----------------+ | Ubuntu 22.04 | PASS | +------------------------------+----------------+ | Ubuntu 20.04 | PASS | +------------------------------+----------------+ | Ubuntu 24.04 | PASS | +------------------------------+----------------+ CentOS Stream 9 Kernel: 5.4 Compiler: gcc gcc (GCC) 11.5.0 20240719 (Red Hat 11.5.0-7) Debian GNU/Linux 12 Kernel: 5.4 Compiler: gcc gcc (Debian 12.2.0-14+deb12u1) 12.2.0 CentOS Stream 10 Kernel: 5.4 Compiler: gcc gcc (GCC) 14.2.1 20250110 (Red Hat 14.2.1-8) Fedora Linux 40 Kernel: 5.4 Compiler: gcc gcc (GCC) 14.2.1 20240912 (Red Hat 14.2.1-3) Fedora Linux 41 Kernel: 5.4 Compiler: gcc gcc (GCC) 14.3.1 20250523 (Red Hat 14.3.1-1) Red Hat Enterprise Linux 9.5 Kernel: 5.4 Compiler: gcc gcc (GCC) 11.5.0 20240719 (Red Hat 11.5.0-2) Ubuntu 22.04 Kernel: 5.4 Compiler: gcc gcc (Ubuntu 11.4.0-1ubuntu1~22.04) 11.4.0 Ubuntu 20.04 Kernel: 5.4 Compiler: gcc gcc (Ubuntu 9.4.0-1ubuntu1~20.04.2) 9.4.0 Ubuntu 24.04 Kernel: 5.4 Compiler: gcc gcc (Ubuntu 13.3.0-6ubuntu2~24.04) 13.3.0 To view detailed results, visit: https://lab.dpdk.org/results/dashboard/patchsets/33542/ UNH-IOL DPDK Community Lab To manage your email subscriptions, visit: https://lab.dpdk.org/results/dashboard/preferences/subscriptions/