From mboxrd@z Thu Jan 1 00:00:00 1970 Return-Path: Received: from mails.dpdk.org (mails.dpdk.org [217.70.189.124]) by inbox.dpdk.org (Postfix) with ESMTP id E711446A46 for ; Mon, 30 Jun 2025 17:18:04 +0200 (CEST) Received: from mails.dpdk.org (localhost [127.0.0.1]) by mails.dpdk.org (Postfix) with ESMTP id E117B40291; Mon, 30 Jun 2025 17:18:04 +0200 (CEST) Received: from mail-pl1-f228.google.com (mail-pl1-f228.google.com [209.85.214.228]) by mails.dpdk.org (Postfix) with ESMTP id 5D41740291 for ; Mon, 30 Jun 2025 17:18:03 +0200 (CEST) Received: by mail-pl1-f228.google.com with SMTP id d9443c01a7336-2363497cc4dso37174035ad.1 for ; Mon, 30 Jun 2025 08:18:03 -0700 (PDT) DKIM-Signature: v=1; a=rsa-sha256; c=relaxed/relaxed; d=iol.unh.edu; s=unh-iol; t=1751296682; x=1751901482; darn=dpdk.org; h=references:in-reply-to:cc:to:from:subject:message-id:date:from:to :cc:subject:date:message-id:reply-to; bh=kymhOppgZjE/C3RC67QQaKVhGBRDRA2qQ8gRpPjFqJs=; b=jQmGT09r3WLgXwBM7PJKHcUrWL9U8oe8lT2g4D3hoyPdIjKuO4EV2WHG8o2M1uAwoA 4zC60YvEG2dOfCZwJljLlh9QAiC8b6CeeJMZXUNOXNj6aQaQaYKKWfkU6AUGoAEvI1Cx VF17oKQvQG3E+58bAlOIV/EZ2E4bzVxypfLi8= X-Google-DKIM-Signature: v=1; a=rsa-sha256; c=relaxed/relaxed; d=1e100.net; s=20230601; t=1751296682; x=1751901482; h=references:in-reply-to:cc:to:from:subject:message-id:date :x-gm-message-state:from:to:cc:subject:date:message-id:reply-to; bh=kymhOppgZjE/C3RC67QQaKVhGBRDRA2qQ8gRpPjFqJs=; b=Hxie9o5TbedgesVwAOczVzThLs0i+W+Cm2HGBO4Yirg/XB5EPWN6X3TO0h9kwWdWOG WA1nWlKOwVFmgQLCDEYLTis2CqPP4t2hW16vr0JgerZSHCODYCLrOL4bMN9ikRutQCGi biUaFTUP4mYP/2U/8TstPhnlhW/CLai4IVgQeWEY8IdSruo29AV7u+s8TsdO+IiXfJbl IsRYoygwGKtnjGTcT5LaStJN2y1TTzGVC2zAsID0TvntpV07RWuyjt2fGi47Kw6cyE0x ZgDXbp8kSeeSzYx8VzILZw5TNsZ0UTWWMk0OJkUoieZMu03cIzWtfw+IvJGrYul9rOSL KKoQ== X-Gm-Message-State: AOJu0YwFDc9S1j1L5kdxm66ZHD8tIzgJEkvxHksn5m0HzVaDger/3n+d YUTu9VTjm+e+DfTd3AEU08kjG0r8Xv5iU6+JGsQs7yVSAWovdaAtuKuQWahYFBXV872ohaHcL90 40WXJZBUKRetJ743gY81uUOA63xT/qrG9yFUdvshqnuYW X-Gm-Gg: ASbGncudNgMX9br3irZiyFjWjgQOgFOr027BG/BAmlQpz+uiR/bVK2gVWpz4RNKFSRG mHtXhWcMLuN2kQLFPYr6o5B7iLjkvL5EdeAOKfeeATPRFUGVTit3IxSeOCfFppojDcOLAdswPzb +K9AZIHPSAL4ux3SciM4LXIwh/7sRlbF9MfDvvTmLWQj8wjAFXckaTD2xj7De+AssO+MNIK2brn +mDF7YaFWR40z2JxeSekQ7hYY76pnh44HLcgOGyCF+KFqYbzKQye1XmEXKyiqPBac8efvpkG4jh WtocIwAjBHPv5I06G5TaIjlNJ//XfOVeIsp7KtzObFNnhMG6m455jGaJwHEZMDABQlHMgw== X-Google-Smtp-Source: AGHT+IG/9hvTGoVofpQut/QEN2LYvwEJyUdTWEROr9Dce4YRAgiltEFNWM4LW/EWu19Uq8KUBpX+TA9S/q31 X-Received: by 2002:a17:902:e74b:b0:234:ba37:87ae with SMTP id d9443c01a7336-23ac2d849d6mr210771705ad.4.1751296682430; Mon, 30 Jun 2025 08:18:02 -0700 (PDT) Received: from postal.iol.unh.edu (postal.iol.unh.edu. [132.177.123.84]) by smtp-relay.gmail.com with ESMTPS id d9443c01a7336-23acb368a8csm4568605ad.84.2025.06.30.08.18.02 (version=TLS1_2 cipher=ECDHE-ECDSA-AES128-GCM-SHA256 bits=128/128); Mon, 30 Jun 2025 08:18:02 -0700 (PDT) X-Relaying-Domain: iol.unh.edu Date: Mon, 30 Jun 2025 08:18:02 -0700 (PDT) Message-ID: <6862aaaa.170a0220.3a3d40.a65eSMTPIN_ADDED_MISSING@mx.google.com> Received: from [172.21.0.7] (unknown [172.18.0.240]) by postal.iol.unh.edu (Postfix) with ESMTP id DE8F76051830; Mon, 30 Jun 2025 11:18:01 -0400 (EDT) Subject: |WARNING| pw154842-154847 [PATCH] [v6,6/6] net/dpaa2: enable softwar From: dpdklab@iol.unh.edu To: Test Report Cc: dpdk-test-reports@iol.unh.edu In-Reply-To: <20250630095800.2943863-7-g.singh@nxp.com> References: <20250630095800.2943863-7-g.singh@nxp.com> Content-Type: text/plain X-BeenThere: test-report@dpdk.org X-Mailman-Version: 2.1.29 Precedence: list List-Id: automatic DPDK test reports List-Unsubscribe: , List-Archive: List-Post: List-Help: List-Subscribe: , Errors-To: test-report-bounces@dpdk.org Test-Label: iol-compile-amd64-testing Test-Status: WARNING http://dpdk.org/patch/154847 _Testing issues_ Submitter: Gagandeep Singh Date: Monday, June 30 2025 09:58:00 DPDK git baseline: Repo:dpdk Branch: master CommitID:798e267824a5b9018fff6e0dc37e9a9f1f73e8fb 154842-154847 --> testing issues Upstream job id: Generic-DPDK-Compile-Meson#403687 Test environment and result as below: +-------------------------------+--------------------+-------------------+------------------+-------------------------+-------------------+----------------------+ | Environment | dpdk_meson_compile | dpdk_compile_spdk | dpdk_compile_ovs | dpdk_llvm_clang_compile | dpdk_msvc_compile | dpdk_mingw64_compile | +===============================+====================+===================+==================+=========================+===================+======================+ | CentOS Stream 9 | PASS | PASS | SKIPPED | SKIPPED | SKIPPED | SKIPPED | +-------------------------------+--------------------+-------------------+------------------+-------------------------+-------------------+----------------------+ | CentOS Stream 10 | PASS | SKIPPED | SKIPPED | SKIPPED | SKIPPED | SKIPPED | +-------------------------------+--------------------+-------------------+------------------+-------------------------+-------------------+----------------------+ | Debian GNU/Linux 12 | PASS | PASS | SKIPPED | SKIPPED | SKIPPED | SKIPPED | +-------------------------------+--------------------+-------------------+------------------+-------------------------+-------------------+----------------------+ | Fedora Linux 40 | PASS | PASS | SKIPPED | SKIPPED | SKIPPED | SKIPPED | +-------------------------------+--------------------+-------------------+------------------+-------------------------+-------------------+----------------------+ | Fedora Linux 41 | PASS | PASS | PASS | SKIPPED | SKIPPED | SKIPPED | +-------------------------------+--------------------+-------------------+------------------+-------------------------+-------------------+----------------------+ | openSUSE Leap 15.6 | PASS | SKIPPED | SKIPPED | SKIPPED | SKIPPED | SKIPPED | +-------------------------------+--------------------+-------------------+------------------+-------------------------+-------------------+----------------------+ | Red Hat Enterprise Linux 8.10 | PASS | SKIPPED | SKIPPED | SKIPPED | SKIPPED | SKIPPED | +-------------------------------+--------------------+-------------------+------------------+-------------------------+-------------------+----------------------+ | Red Hat Enterprise Linux 9.5 | PASS | SKIPPED | SKIPPED | SKIPPED | SKIPPED | SKIPPED | +-------------------------------+--------------------+-------------------+------------------+-------------------------+-------------------+----------------------+ | Ubuntu 20.04 | PASS | SKIPPED | SKIPPED | SKIPPED | SKIPPED | SKIPPED | +-------------------------------+--------------------+-------------------+------------------+-------------------------+-------------------+----------------------+ | Ubuntu 22.04 | PASS | PASS | SKIPPED | SKIPPED | SKIPPED | SKIPPED | +-------------------------------+--------------------+-------------------+------------------+-------------------------+-------------------+----------------------+ | FreeBSD 14.2 | PASS | SKIPPED | SKIPPED | SKIPPED | SKIPPED | SKIPPED | +-------------------------------+--------------------+-------------------+------------------+-------------------------+-------------------+----------------------+ | Ubuntu 24.04 | PASS | PASS | PASS | SKIPPED | SKIPPED | SKIPPED | +-------------------------------+--------------------+-------------------+------------------+-------------------------+-------------------+----------------------+ | Alpine Linux 3.22.0 | PASS | SKIPPED | SKIPPED | SKIPPED | SKIPPED | SKIPPED | +-------------------------------+--------------------+-------------------+------------------+-------------------------+-------------------+----------------------+ | Windows Server 2022 | SKIPPED | SKIPPED | SKIPPED | PASS | PASS | PASS | +-------------------------------+--------------------+-------------------+------------------+-------------------------+-------------------+----------------------+ CentOS Stream 9 Kernel: 5.15 Compiler: gcc gcc (GCC) 11.5.0 20240719 (Red Hat 11.5.0-7) CentOS Stream 10 Kernel: 5.15 Compiler: gcc gcc (GCC) 14.2.1 20250110 (Red Hat 14.2.1-8) Debian GNU/Linux 12 Kernel: 5.15 Compiler: gcc gcc (Debian 12.2.0-14+deb12u1) 12.2.0 Fedora Linux 40 Kernel: 5.15 Compiler: clang gcc (GCC) 14.2.1 20240912 (Red Hat 14.2.1-3) Fedora Linux 41 Kernel: 5.15 Compiler: clang gcc (GCC) 14.3.1 20250523 (Red Hat 14.3.1-1) openSUSE Leap 15.6 Kernel: 5.15 Compiler: gcc gcc (SUSE Linux) 7.5.0 Red Hat Enterprise Linux 8.10 Kernel: 5.15 Compiler: gcc gcc (GCC) 8.5.0 20210514 (Red Hat 8.5.0-22) Red Hat Enterprise Linux 9.5 Kernel: 5.15 Compiler: gcc gcc (GCC) 11.5.0 20240719 (Red Hat 11.5.0-2) Ubuntu 20.04 Kernel: 4.19 Compiler: gcc gcc (Ubuntu 9.4.0-1ubuntu1~20.04.2) 9.4.0 Ubuntu 22.04 Kernel: 5.15 Compiler: gcc gcc (Ubuntu 11.4.0-1ubuntu1~22.04) 11.4.0 FreeBSD 14.2 Kernel: 14.2-RELEASE Compiler: clang 18.1.6 Ubuntu 24.04 Kernel: 5.15 Compiler: gcc gcc (Ubuntu 13.3.0-6ubuntu2~24.04) 13.3.0 Alpine Linux 3.22.0 Kernel: 5.15 Compiler: gcc gcc (Alpine 14.2.0) 14.2.0 Windows Server 2022 Kernel: 10.0.20348.2031 Compiler: clang 15.0.7, gcc 14.1.0 (MinGW), and MSVC VS 19.39.33521 To view detailed results, visit: https://lab.dpdk.org/results/dashboard/patchsets/33540/ UNH-IOL DPDK Community Lab To manage your email subscriptions, visit: https://lab.dpdk.org/results/dashboard/preferences/subscriptions/