From mboxrd@z Thu Jan 1 00:00:00 1970 Return-Path: Received: from mails.dpdk.org (mails.dpdk.org [217.70.189.124]) by inbox.dpdk.org (Postfix) with ESMTP id 7C23B46AA0 for ; Mon, 30 Jun 2025 18:16:57 +0200 (CEST) Received: from mails.dpdk.org (localhost [127.0.0.1]) by mails.dpdk.org (Postfix) with ESMTP id 790AF4025D; Mon, 30 Jun 2025 18:16:57 +0200 (CEST) Received: from mail-io1-f99.google.com (mail-io1-f99.google.com [209.85.166.99]) by mails.dpdk.org (Postfix) with ESMTP id E50C74025D for ; Mon, 30 Jun 2025 18:16:55 +0200 (CEST) Received: by mail-io1-f99.google.com with SMTP id ca18e2360f4ac-8760d31bd35so170649839f.2 for ; Mon, 30 Jun 2025 09:16:55 -0700 (PDT) DKIM-Signature: v=1; a=rsa-sha256; c=relaxed/relaxed; d=iol.unh.edu; s=unh-iol; t=1751300215; x=1751905015; darn=dpdk.org; h=references:in-reply-to:cc:to:from:subject:message-id:date:from:to :cc:subject:date:message-id:reply-to; bh=zhRwmz1HnfZ2Oz52Js1Jo7F2PnCK8Sd2noSZTqp0+XU=; b=OpUIaqaQqnsb+oDgcc2m2EzR0DuY/AvDRrcDUybZF1UgZ3Uk4+X1JqyjYVTyHLYCQb SIUdDL2rorh0kK/ahhlPrxTqb2fV7/njMOBZxwri61cERXsa4oIizZcDMMbx91ZqX9Dj xYrN34MnQos5Oh1Kqj1LO4Mlrd0KCCUXjTISc= X-Google-DKIM-Signature: v=1; a=rsa-sha256; c=relaxed/relaxed; d=1e100.net; s=20230601; t=1751300215; x=1751905015; h=references:in-reply-to:cc:to:from:subject:message-id:date :x-gm-message-state:from:to:cc:subject:date:message-id:reply-to; bh=zhRwmz1HnfZ2Oz52Js1Jo7F2PnCK8Sd2noSZTqp0+XU=; b=ql5N2PvNeHDmceNP6jHZkcXCn6bVPaYTg1NbYzt2sbi2PAjEucn6eXwEvADJMKWchS QUh/rhG2JQbWYIh9J4HA5Vmd5ZHalFEYuGfSNP+A+TRisEB+Pv0q8y9+7CeEjm3Jwc6Y flsF3XCAuF/B7KtCleFHbk33hIwR9j6U5CWGv4FoQShCu07tmtuiSV6yq/j7HowQu+54 cO+BV1fFgBXU5+yJC0LjiU/RN/qL9EOCmOfTpNPHV1l66JDrIuYhpGNDi3iUrHVwVfBv zH6bIzqgt5Ub+j375VKpnZUGG54+dUDErAqzrteSRFCvFZpXNQCn6EPAV9MXCUKu7mj8 DNjw== X-Gm-Message-State: AOJu0YxqNMl7OxPziYfmz0eHr9Pz7/ReNTM6f8WN+EmE/o/ASTtdRtRu Zbe+nyPg0EIsQvkWl9IvO7jo37qox2IjV4PE+f2l3wdhzYmgMskIb1gJ9NaIvZh5ZxcPxbRQCZ8 NsrGiP9+TSl2+2fNzpj5GtuQB66mMKFnpWpxfPX3CTSjhV5zKNslSgjZDRuuU X-Gm-Gg: ASbGncsd3MDm9Kejwoe9D7xV22jx4HMzC4d31VgnAfPVatnws34wtpMp/z7ontFx4Il cSY5GogqZ9XiH8TMQLiGIvCLz2183rcMxl6yzFr9UjV+FGxzxchRdpHKLFx9zhXOa2nCVsU/a75 BFVrKBDhHPoowGkLTGlvf8N+2FO9TKqqYbBR/vhsJU6/KfaKD7NEL8j1IjYrvoihDrEYAqM8hKr knvnLVRIigP/HQwpIR7wb8/FPdwwaNLIfh7q5THlGMU2SYNiCUKta8cBUFZYA1K6vBdIE2unCKe Ss7Ba4lLu0tbfgel/5x3+TLBzXgbeOgAfdeY7yLnK+jn2/M= X-Google-Smtp-Source: AGHT+IEQ3BMOhR2aFTjPHc6P12idWw9wqRyqzBNDw4zQEZd4TetMRwsUIi9+nr7iupfFLi76XPfqYv/tJmUp X-Received: by 2002:a05:6602:164c:b0:86c:f0d9:553 with SMTP id ca18e2360f4ac-87688299f73mr1506139539f.5.1751300215177; Mon, 30 Jun 2025 09:16:55 -0700 (PDT) Received: from postal.iol.unh.edu (postal.iol.unh.edu. [2606:4100:3880:1234::84]) by smtp-relay.gmail.com with ESMTPS id ca18e2360f4ac-87687af63a7sm32969539f.14.2025.06.30.09.16.55 (version=TLS1_2 cipher=ECDHE-ECDSA-AES128-GCM-SHA256 bits=128/128); Mon, 30 Jun 2025 09:16:55 -0700 (PDT) X-Relaying-Domain: iol.unh.edu Date: Mon, 30 Jun 2025 09:16:55 -0700 (PDT) Message-ID: <6862b877.050a0220.26b52c.163aSMTPIN_ADDED_MISSING@mx.google.com> Received: from [172.21.0.7] (unknown [172.18.0.240]) by postal.iol.unh.edu (Postfix) with ESMTP id 97AC2604D420; Mon, 30 Jun 2025 12:16:54 -0400 (EDT) Subject: |SUCCESS| pw154860 [PATCH] [v2] test/argparse: change initialization From: dpdklab@iol.unh.edu To: Test Report Cc: dpdk-test-reports@iol.unh.edu In-Reply-To: <20250630145934.56969-1-stephen@networkplumber.org> References: <20250630145934.56969-1-stephen@networkplumber.org> Content-Type: text/plain X-BeenThere: test-report@dpdk.org X-Mailman-Version: 2.1.29 Precedence: list List-Id: automatic DPDK test reports List-Unsubscribe: , List-Archive: List-Post: List-Help: List-Subscribe: , Errors-To: test-report-bounces@dpdk.org Test-Label: iol-compile-amd64-testing Test-Status: SUCCESS http://dpdk.org/patch/154860 _Testing PASS_ Submitter: Stephen Hemminger Date: Monday, June 30 2025 14:58:49 DPDK git baseline: Repo:dpdk Branch: master CommitID:20460dcffd08a4680f881c39916ae783ee830374 154860 --> testing pass Upstream job id: Windows-Compile-DPDK-VS#6206 Test environment and result as below: +---------------------+-------------------+--------------------+ | Environment | dpdk_msvc_compile | dpdk_meson_compile | +=====================+===================+====================+ | Windows Server 2022 | PASS | SKIPPED | +---------------------+-------------------+--------------------+ | FreeBSD 14.2 | SKIPPED | PASS | +---------------------+-------------------+--------------------+ | Ubuntu 20.04 | SKIPPED | PASS | +---------------------+-------------------+--------------------+ Windows Server 2022 Kernel: 10.0.20348.2031 Compiler: clang 15.0.7, gcc 14.1.0 (MinGW), and MSVC VS 19.39.33521 FreeBSD 14.2 Kernel: 14.2-RELEASE Compiler: clang 18.1.6 Ubuntu 20.04 Kernel: 4.19 Compiler: gcc gcc (Ubuntu 9.4.0-1ubuntu1~20.04.2) 9.4.0 To view detailed results, visit: https://lab.dpdk.org/results/dashboard/patchsets/33545/ UNH-IOL DPDK Community Lab To manage your email subscriptions, visit: https://lab.dpdk.org/results/dashboard/preferences/subscriptions/