From mboxrd@z Thu Jan 1 00:00:00 1970 Return-Path: Received: from mails.dpdk.org (mails.dpdk.org [217.70.189.124]) by inbox.dpdk.org (Postfix) with ESMTP id 7E5F446AA0 for ; Mon, 30 Jun 2025 18:52:58 +0200 (CEST) Received: from mails.dpdk.org (localhost [127.0.0.1]) by mails.dpdk.org (Postfix) with ESMTP id 791B54025D; Mon, 30 Jun 2025 18:52:58 +0200 (CEST) Received: from mail-oo1-f100.google.com (mail-oo1-f100.google.com [209.85.161.100]) by mails.dpdk.org (Postfix) with ESMTP id 1DC044025D for ; Mon, 30 Jun 2025 18:52:57 +0200 (CEST) Received: by mail-oo1-f100.google.com with SMTP id 006d021491bc7-610d87553b6so1885460eaf.2 for ; Mon, 30 Jun 2025 09:52:57 -0700 (PDT) DKIM-Signature: v=1; a=rsa-sha256; c=relaxed/relaxed; d=iol.unh.edu; s=unh-iol; t=1751302376; x=1751907176; darn=dpdk.org; h=references:in-reply-to:cc:to:from:subject:message-id:date:from:to :cc:subject:date:message-id:reply-to; bh=E4jb75mQsGHQfFbz4Pwjgt7SoD9i/z6xJ7koWbyQkMI=; b=ORdhQVDWGB4JtJJ6VQ0HBA1l6KTor7nh04Rczt87J18QP4vUJUfNlsK2iEbGoa4Fkj qL2r9lbC6Z51KWwZJvaSxK1R9FJU+hqjQ/ly5zcaTOzKaER6jVPHsHzcZbxmVWZ4Y0Aw HdLKwWqCPYFVBcSyFSigwjL6Uy7KoUyQgMq5c= X-Google-DKIM-Signature: v=1; a=rsa-sha256; c=relaxed/relaxed; d=1e100.net; s=20230601; t=1751302376; x=1751907176; h=references:in-reply-to:cc:to:from:subject:message-id:date :x-gm-message-state:from:to:cc:subject:date:message-id:reply-to; bh=E4jb75mQsGHQfFbz4Pwjgt7SoD9i/z6xJ7koWbyQkMI=; b=Q+xm6ING/gPj86rKQCNK8LSlC0Z/UVAlFMscbjporDu3SyRETTmfFs1vsBmolYjILY 75AzXnDPxLdGuQ9AVMVpd9zwYUMGX2NbN98Z7R3iZxSQ4jb4ZfDu6ZPh68PaFuqBcWkP t388Dly8my4QmNbkdUFuqQhR3lttVsGkVpHKV9dgMmTFakCZDFy7t5TuTJlU0tD8zgdv VJz5E/Hz45GxTP18YW5oSJ9YhTWjdtsvGb4iwSAIan9ywOi7pVL3hquoSzH+YOxfI8SA xG2BM5e9obd09M3OYwHwwqxMCnCE1BapRaHNQOcIntjLnNiH9ma69eO2LGaqusJS79U5 ChTA== X-Gm-Message-State: AOJu0YxtoUW543YByIKc6ErqY2Z8Zw0QmzJaTZoaLW7cK1Y02ivJa55p r6Jy1M0ZQH67azJvxLDI1mHoS2GTPOlmYI6T33F6Aq+589Gkx7z/zwT/tHeh+P8ztKZ8f6lqTyp 2pSR2hACQdM68lj+n3N19mYtVVqHE9sRY4nLP2A9ppNZP2XxjjxCzsugHTRjW X-Gm-Gg: ASbGncvowT64h2cEFaIIygVTb02Iv3SKjmZ88hZjv46q0OH+DGo+qcijOHkCO706V7l W8BHA6wx9gsVTi7WyvqmWVPWqiu2yaEnmTjYkM2wzQHLvuTiJi0RAwKoYc5S1r7J+Ai7LhgYSyH Le7eJk4Yo9d/7/RK2yLQtQaz2z+kx9y1TtSaFtluBOvPZ+KOPH8CWEcUJf6RK8jYZrFEptYiQO/ mF5YaPmFEI2mvkjiVLeSaZm0T0b1odt6WcWUk+F+VnzdvSSyzHaIvI/J+eeqgV2Ax3JKCWusKND 94RJy8RhjmFu7z/RoS6u+t5cavBSqKoU3D304RixFsiPhbk= X-Google-Smtp-Source: AGHT+IEdjFN58Y9FmnouTZ20MuwlwXYz5lXZAvpdNoXNYf2iFy+ySepZS1OhZ15BPNFaYwSN+3C9ZUlHKawH X-Received: by 2002:a05:6871:4e44:b0:29e:559b:d694 with SMTP id 586e51a60fabf-2efed7297f5mr10430975fac.32.1751302376203; Mon, 30 Jun 2025 09:52:56 -0700 (PDT) Received: from postal.iol.unh.edu (postal.iol.unh.edu. [2606:4100:3880:1234::84]) by smtp-relay.gmail.com with ESMTPS id 586e51a60fabf-2efd4dcce59sm531691fac.9.2025.06.30.09.52.56 (version=TLS1_2 cipher=ECDHE-ECDSA-AES128-GCM-SHA256 bits=128/128); Mon, 30 Jun 2025 09:52:56 -0700 (PDT) X-Relaying-Domain: iol.unh.edu Date: Mon, 30 Jun 2025 09:52:56 -0700 (PDT) Message-ID: <6862c0e8.050a0220.11921c.d06bSMTPIN_ADDED_MISSING@mx.google.com> Received: from [172.21.0.5] (unknown [172.18.0.240]) by postal.iol.unh.edu (Postfix) with ESMTP id B04AA604D420; Mon, 30 Jun 2025 12:52:55 -0400 (EDT) Subject: |SUCCESS| pw154842-154847 [PATCH] [v6,6/6] net/dpaa2: enable softwar From: dpdklab@iol.unh.edu To: Test Report Cc: dpdk-test-reports@iol.unh.edu In-Reply-To: <20250630095800.2943863-7-g.singh@nxp.com> References: <20250630095800.2943863-7-g.singh@nxp.com> Content-Type: text/plain X-BeenThere: test-report@dpdk.org X-Mailman-Version: 2.1.29 Precedence: list List-Id: automatic DPDK test reports List-Unsubscribe: , List-Archive: List-Post: List-Help: List-Subscribe: , Errors-To: test-report-bounces@dpdk.org Test-Label: iol-compile-arm64-testing Test-Status: SUCCESS http://dpdk.org/patch/154847 _Testing PASS_ Submitter: Gagandeep Singh Date: Monday, June 30 2025 09:58:00 DPDK git baseline: Repo:dpdk Branch: master CommitID:798e267824a5b9018fff6e0dc37e9a9f1f73e8fb 154842-154847 --> testing pass Upstream job id: Generic-DPDK-Compile-Meson#403670 Test environment and result as below: +------------------------------+--------------------+ | Environment | dpdk_meson_compile | +==============================+====================+ | Ubuntu 20.04 | PASS | +------------------------------+--------------------+ | Red Hat Enterprise Linux 9.5 | PASS | +------------------------------+--------------------+ | Debian GNU/Linux 12 | PASS | +------------------------------+--------------------+ | Fedora Linux 40 | PASS | +------------------------------+--------------------+ | Fedora Linux 41 | PASS | +------------------------------+--------------------+ | Ubuntu 22.04 | PASS | +------------------------------+--------------------+ | CentOS Stream 10 | PASS | +------------------------------+--------------------+ | Ubuntu 24.04 | PASS | +------------------------------+--------------------+ | CentOS Stream 9 | PASS | +------------------------------+--------------------+ Ubuntu 20.04 Kernel: 5.15 Compiler: aarch64-linux-gnu-gcc gcc (Ubuntu 9.4.0-1ubuntu1~20.04.2) 9.4.0 Red Hat Enterprise Linux 9.5 Kernel: 5.4 Compiler: gcc gcc (GCC) 11.5.0 20240719 (Red Hat 11.5.0-2) Debian GNU/Linux 12 Kernel: 5.4 Compiler: gcc gcc (Debian 12.2.0-14+deb12u1) 12.2.0 Fedora Linux 40 Kernel: 5.4 Compiler: clang gcc (GCC) 14.2.1 20240912 (Red Hat 14.2.1-3) Fedora Linux 41 Kernel: 5.4 Compiler: clang gcc (GCC) 14.3.1 20250523 (Red Hat 14.3.1-1) Ubuntu 22.04 Kernel: 5.4 Compiler: gcc gcc (Ubuntu 11.4.0-1ubuntu1~22.04) 11.4.0 CentOS Stream 10 Kernel: 5.4 Compiler: gcc gcc (GCC) 14.2.1 20250110 (Red Hat 14.2.1-8) Ubuntu 24.04 Kernel: 5.4 Compiler: gcc gcc (Ubuntu 13.3.0-6ubuntu2~24.04) 13.3.0 CentOS Stream 9 Kernel: 5.4 Compiler: gcc gcc (GCC) 11.5.0 20240719 (Red Hat 11.5.0-7) To view detailed results, visit: https://lab.dpdk.org/results/dashboard/patchsets/33540/ UNH-IOL DPDK Community Lab To manage your email subscriptions, visit: https://lab.dpdk.org/results/dashboard/preferences/subscriptions/